BEGIN:VCALENDAR
VERSION:2.0
PRODID:-//Lina Gálvez - ECPv6.15.20//NONSGML v1.0//EN
CALSCALE:GREGORIAN
METHOD:PUBLISH
X-ORIGINAL-URL:https://linagalvez.eu
X-WR-CALDESC:Eventos para Lina Gálvez
REFRESH-INTERVAL;VALUE=DURATION:PT1H
X-Robots-Tag:noindex
X-PUBLISHED-TTL:PT1H
BEGIN:VTIMEZONE
TZID:Europe/Madrid
BEGIN:DAYLIGHT
TZOFFSETFROM:+0100
TZOFFSETTO:+0200
TZNAME:CEST
DTSTART:20230326T010000
END:DAYLIGHT
BEGIN:STANDARD
TZOFFSETFROM:+0200
TZOFFSETTO:+0100
TZNAME:CET
DTSTART:20231029T010000
END:STANDARD
BEGIN:DAYLIGHT
TZOFFSETFROM:+0100
TZOFFSETTO:+0200
TZNAME:CEST
DTSTART:20240331T010000
END:DAYLIGHT
BEGIN:STANDARD
TZOFFSETFROM:+0200
TZOFFSETTO:+0100
TZNAME:CET
DTSTART:20241027T010000
END:STANDARD
BEGIN:DAYLIGHT
TZOFFSETFROM:+0100
TZOFFSETTO:+0200
TZNAME:CEST
DTSTART:20250330T010000
END:DAYLIGHT
BEGIN:STANDARD
TZOFFSETFROM:+0200
TZOFFSETTO:+0100
TZNAME:CET
DTSTART:20251026T010000
END:STANDARD
END:VTIMEZONE
BEGIN:VEVENT
DTSTART;TZID=Europe/Madrid:20240702T080000
DTEND;TZID=Europe/Madrid:20240703T170000
DTSTAMP:20260426T035417
CREATED:20240612T070209Z
LAST-MODIFIED:20240701T094515Z
UID:9475-1719907200-1720026000@linagalvez.eu
SUMMARY:Encuentros del Grupo S&D\, negociación y reuniones de constitución de la legislatura 2024-2029.
DESCRIPTION:La eurodiputada Lina Glavez asistirá a la convocatoria del grupo S&D enmarcados en los trabajos de constitución e inicio de la legislatura 2024-2029. \nDetalles de las reuniones: \n\nReunión del Grupo parlamentario  S&D:\n\nFecha: Martes\nDescripción: Coordinación de legislatura
URL:https://linagalvez.eu/agenda/encuentros-sd-negociacion-y-reuniones-de-constitucion-de-la-legislatura-2024-2029-4-2/
CATEGORIES:Actualidad,Destacado,Parlamento,S&D
ATTACH;FMTTYPE=image/jpeg:https://linagalvez.eu/wp-content/uploads/2024/06/LGM-y-grupo.jpeg
END:VEVENT
BEGIN:VEVENT
DTSTART;TZID=Europe/Madrid:20240702T120000
DTEND;TZID=Europe/Madrid:20240702T140000
DTSTAMP:20260426T035417
CREATED:20210301T093643Z
LAST-MODIFIED:20250210T090029Z
UID:9479-1719921600-1719928800@linagalvez.eu
SUMMARY:S&D Reunión de la Delegación Socialista Española.
DESCRIPTION:Reunión interna de trabajo para coordinar el inicio de la actividad legislativa del Parlamento Europeo\, así como reflexionar sobre los objetivos y estratégias para la legislatura 2024-2029.
URL:https://linagalvez.eu/agenda/sd-reunion-de-la-delegacion-socialista-espanola-11-2-2-2-2-2-2-2-2-4-3-2-2-2-2-2-2-2-2-2-2-3-2-2-2-2-2-2-2-3-3-3-2-2-2-2-2-2/
CATEGORIES:Actualidad,Parlamento,S&D
ATTACH;FMTTYPE=image/jpeg:https://linagalvez.eu/wp-content/uploads/2021/03/WhatsApp-Image-2022-07-11-at-12.02.33-PM.jpeg
END:VEVENT
BEGIN:VEVENT
DTSTART;TZID=Europe/Madrid:20240705T090000
DTEND;TZID=Europe/Madrid:20240705T120000
DTSTAMP:20260426T035417
CREATED:20200705T094158Z
LAST-MODIFIED:20240701T101957Z
UID:9477-1720170000-1720180800@linagalvez.eu
SUMMARY:Reunión de equipo. Coordinación interna
DESCRIPTION:La eurodiputada Lina Gálvez se reunirá con su equipo para planificar la recta final de la campaña a las elecciones europeas 2024.
URL:https://linagalvez.eu/agenda/reunion-de-equipo-coordinacion-interna-3-2-2-2-3-3-2-2-2-2-2-3-2-2-2-2/
CATEGORIES:Actualidad,Parlamento
ATTACH;FMTTYPE=image/jpeg:https://linagalvez.eu/wp-content/uploads/2020/07/Calendario4.jpg
END:VEVENT
BEGIN:VEVENT
DTSTART;TZID=Europe/Madrid:20240708T090000
DTEND;TZID=Europe/Madrid:20240708T120000
DTSTAMP:20260426T035417
CREATED:20200705T094158Z
LAST-MODIFIED:20240709T103747Z
UID:9489-1720429200-1720440000@linagalvez.eu
SUMMARY:Reunión de equipo. Coordinación interna
DESCRIPTION:La eurodiputada Lina Gálvez se reunirá con su equipo para planificar la recta final de la campaña a las elecciones europeas 2024.
URL:https://linagalvez.eu/agenda/reunion-de-equipo-coordinacion-interna-3-2-2-2-3-3-2-2-2-2-2-3-2-2-2-2-2/
CATEGORIES:Actualidad,Parlamento
ATTACH;FMTTYPE=image/jpeg:https://linagalvez.eu/wp-content/uploads/2020/07/Calendario4.jpg
END:VEVENT
BEGIN:VEVENT
DTSTART;TZID=Europe/Madrid:20240709T120000
DTEND;TZID=Europe/Madrid:20240709T140000
DTSTAMP:20260426T035417
CREATED:20210301T093643Z
LAST-MODIFIED:20250210T090029Z
UID:9491-1720526400-1720533600@linagalvez.eu
SUMMARY:S&D Reunión de la Delegación Socialista Española.
DESCRIPTION:Reunión interna de trabajo para coordinar el inicio de la X Legislatura y el contenido del siguiente pleno.
URL:https://linagalvez.eu/agenda/sd-reunion-de-la-delegacion-socialista-espanola-11-2-2-2-2-2-2-2-2-4-3-2-2-2-2-2-2-2-2-2-2-3-2-2-2-2-2-2-2-3-3-3-2-2-2-2-2-2-2/
CATEGORIES:Actualidad,Destacado,Parlamento,S&D
ATTACH;FMTTYPE=image/jpeg:https://linagalvez.eu/wp-content/uploads/2024/07/GP-Socialista-X-Legislatura.jpeg
END:VEVENT
BEGIN:VEVENT
DTSTART;TZID=Europe/Madrid:20240709T173000
DTEND;TZID=Europe/Madrid:20240710T200000
DTSTAMP:20260426T035417
CREATED:20240612T070209Z
LAST-MODIFIED:20240710T075833Z
UID:9492-1720546200-1720641600@linagalvez.eu
SUMMARY:Encuentros del Grupo S&D\, negociación y reuniones de constitución de la legislatura 2024-2029.
DESCRIPTION:La eurodiputada Lina Glavez asistirá a la convocatoria del grupo S&D enmarcados en los trabajos de constitución e inicio de la legislatura 2024-2029. \nDetalles de las reuniones: \n\nReunión del Grupo parlamentario  S&D:\n\nFecha: Martes\nDescripción: Coordinación de legislatura
URL:https://linagalvez.eu/agenda/encuentros-sd-negociacion-y-reuniones-de-constitucion-de-la-legislatura-2024-2029-4-2-2/
CATEGORIES:Actualidad,Parlamento,S&D
ATTACH;FMTTYPE=image/jpeg:https://linagalvez.eu/wp-content/uploads/2024/06/LGM-y-grupo.jpeg
END:VEVENT
BEGIN:VEVENT
DTSTART;TZID=Europe/Madrid:20240710T100000
DTEND;TZID=Europe/Madrid:20240710T120000
DTSTAMP:20260426T035417
CREATED:20211108T110030Z
LAST-MODIFIED:20240710T075635Z
UID:9498-1720605600-1720612800@linagalvez.eu
SUMMARY:S&D Group Meeting
DESCRIPTION:Reunión interna de trabajo del Grupo S&D en formato híbrido para coordinar  la actividad legislativa del siguiente pleno.
URL:https://linagalvez.eu/agenda/sd-group-meeting-23-3-2-2-4-2-3-3-5-2-2-2-2-2-2-2-3-3-2-3-2-3-5-2-3-3-3-2-2-3-2-2-2-3-2-3-3/
CATEGORIES:Actualidad,Parlamento,S&D
ATTACH;FMTTYPE=image/png:https://linagalvez.eu/wp-content/uploads/2020/01/1-S&D.svg.png
END:VEVENT
BEGIN:VEVENT
DTSTART;TZID=Europe/Madrid:20240715T170000
DTEND;TZID=Europe/Madrid:20240715T180000
DTSTAMP:20260426T035417
CREATED:20211108T110030Z
LAST-MODIFIED:20240715T080801Z
UID:9505-1721062800-1721066400@linagalvez.eu
SUMMARY:S&D Group Meeting
DESCRIPTION:Reunión interna de trabajo del Grupo S&D en formato híbrido para coordinar  la actividad legislativa del pleno.
URL:https://linagalvez.eu/agenda/sd-group-meeting-23-3-2-2-4-2-3-3-5-2-2-2-2-2-2-2-3-3-2-3-2-3-5-2-3-3-3-2-2-3-2-2-2-3-2-3-3-2/
CATEGORIES:Actualidad,Parlamento,S&D
ATTACH;FMTTYPE=image/png:https://linagalvez.eu/wp-content/uploads/2020/01/1-S&D.svg.png
END:VEVENT
BEGIN:VEVENT
DTSTART;TZID=Europe/Madrid:20240716T090000
DTEND;TZID=Europe/Madrid:20240716T100000
DTSTAMP:20260426T035417
CREATED:20211108T110030Z
LAST-MODIFIED:20240715T080919Z
UID:9507-1721120400-1721124000@linagalvez.eu
SUMMARY:S&D Group Meeting
DESCRIPTION:Reunión interna de trabajo del Grupo S&D en formato híbrido para coordinar  la actividad legislativa del pleno.
URL:https://linagalvez.eu/agenda/sd-group-meeting-23-3-2-2-4-2-3-3-5-2-2-2-2-2-2-2-3-3-2-3-2-3-5-2-3-3-3-2-2-3-2-2-2-3-2-3-3-2-2/
CATEGORIES:Actualidad,Parlamento,S&D
ATTACH;FMTTYPE=image/png:https://linagalvez.eu/wp-content/uploads/2020/01/1-S&D.svg.png
END:VEVENT
BEGIN:VEVENT
DTSTART;TZID=Europe/Madrid:20240716T133000
DTEND;TZID=Europe/Madrid:20240716T143000
DTSTAMP:20260426T035417
CREATED:20210301T093643Z
LAST-MODIFIED:20250210T090029Z
UID:9513-1721136600-1721140200@linagalvez.eu
SUMMARY:S&D Reunión de la Delegación Socialista Española.
DESCRIPTION:Reunión interna de trabajo para coordinar el inicio de la X Legislatura y el contenido del siguiente pleno.
URL:https://linagalvez.eu/agenda/sd-reunion-de-la-delegacion-socialista-espanola-11-2-2-2-2-2-2-2-2-4-3-2-2-2-2-2-2-2-2-2-2-3-2-2-2-2-2-2-2-3-3-3-2-2-2-2-2-2-2-2/
CATEGORIES:Actualidad,Destacado,Parlamento,S&D
ATTACH;FMTTYPE=image/jpeg:https://linagalvez.eu/wp-content/uploads/2024/07/GP-Socialista-X-Legislatura.jpeg
END:VEVENT
BEGIN:VEVENT
DTSTART;TZID=Europe/Madrid:20240716T173000
DTEND;TZID=Europe/Madrid:20240716T180000
DTSTAMP:20260426T035417
CREATED:20211108T110030Z
LAST-MODIFIED:20240715T081102Z
UID:9509-1721151000-1721152800@linagalvez.eu
SUMMARY:S&D Group Meeting
DESCRIPTION:Reunión interna de trabajo del Grupo S&D en formato híbrido para coordinar  la actividad legislativa del pleno.
URL:https://linagalvez.eu/agenda/sd-group-meeting-23-3-2-2-4-2-3-3-5-2-2-2-2-2-2-2-3-3-2-3-2-3-5-2-3-3-3-2-2-3-2-2-2-3-2-3-3-2-2-2/
CATEGORIES:Actualidad,Parlamento,S&D
ATTACH;FMTTYPE=image/png:https://linagalvez.eu/wp-content/uploads/2020/01/1-S&D.svg.png
END:VEVENT
BEGIN:VEVENT
DTSTART;TZID=Europe/Madrid:20240717T090000
DTEND;TZID=Europe/Madrid:20240717T100000
DTSTAMP:20260426T035417
CREATED:20211108T110030Z
LAST-MODIFIED:20240715T081807Z
UID:9515-1721206800-1721210400@linagalvez.eu
SUMMARY:S&D Group Meeting
DESCRIPTION:Reunión interna de trabajo del Grupo S&D en formato híbrido para coordinar  la actividad legislativa del pleno.
URL:https://linagalvez.eu/agenda/sd-group-meeting-23-3-2-2-4-2-3-3-5-2-2-2-2-2-2-2-3-3-2-3-2-3-5-2-3-3-3-2-2-3-2-2-2-3-2-3-3-2-2-3/
CATEGORIES:Actualidad,Parlamento,S&D
ATTACH;FMTTYPE=image/png:https://linagalvez.eu/wp-content/uploads/2020/01/1-S&D.svg.png
END:VEVENT
BEGIN:VEVENT
DTSTART;TZID=Europe/Madrid:20240717T173000
DTEND;TZID=Europe/Madrid:20240717T190000
DTSTAMP:20260426T035417
CREATED:20211108T110030Z
LAST-MODIFIED:20240715T082228Z
UID:9517-1721237400-1721242800@linagalvez.eu
SUMMARY:S&D Group Meeting
DESCRIPTION:Reunión interna de trabajo del Grupo S&D en formato híbrido para coordinar  la actividad legislativa del pleno.
URL:https://linagalvez.eu/agenda/sd-group-meeting-23-3-2-2-4-2-3-3-5-2-2-2-2-2-2-2-3-3-2-3-2-3-5-2-3-3-3-2-2-3-2-2-2-3-2-3-3-2-2-2-3/
CATEGORIES:Actualidad,Parlamento,S&D
ATTACH;FMTTYPE=image/png:https://linagalvez.eu/wp-content/uploads/2020/01/1-S&D.svg.png
END:VEVENT
BEGIN:VEVENT
DTSTART;TZID=Europe/Madrid:20240718T170000
DTEND;TZID=Europe/Madrid:20240718T193000
DTSTAMP:20260426T035417
CREATED:20211108T110030Z
LAST-MODIFIED:20240715T081422Z
UID:9511-1721322000-1721331000@linagalvez.eu
SUMMARY:S&D Group Meeting
DESCRIPTION:Reunión interna de trabajo del Grupo S&D en formato híbrido para coordinar  la actividad legislativa del pleno.
URL:https://linagalvez.eu/agenda/sd-group-meeting-23-3-2-2-4-2-3-3-5-2-2-2-2-2-2-2-3-3-2-3-2-3-5-2-3-3-3-2-2-3-2-2-2-3-2-3-3-2-2-2-2/
CATEGORIES:Actualidad,Parlamento,S&D
ATTACH;FMTTYPE=image/png:https://linagalvez.eu/wp-content/uploads/2020/01/1-S&D.svg.png
END:VEVENT
BEGIN:VEVENT
DTSTART;TZID=Europe/Madrid:20240719T090000
DTEND;TZID=Europe/Madrid:20240719T120000
DTSTAMP:20260426T035417
CREATED:20200705T094158Z
LAST-MODIFIED:20240715T083845Z
UID:9522-1721379600-1721390400@linagalvez.eu
SUMMARY:Reunión de equipo. Coordinación interna
DESCRIPTION:La eurodiputada Lina Gálvez se reunirá con su equipo para planificar la recta final de la campaña a las elecciones europeas 2024.
URL:https://linagalvez.eu/agenda/reunion-de-equipo-coordinacion-interna-3-2-2-2-3-3-2-2-2-2-2-3-2-2-2-2-3/
CATEGORIES:Actualidad,Parlamento
ATTACH;FMTTYPE=image/jpeg:https://linagalvez.eu/wp-content/uploads/2020/07/Calendario4.jpg
END:VEVENT
BEGIN:VEVENT
DTSTART;TZID=Europe/Madrid:20240722T180000
DTEND;TZID=Europe/Madrid:20240722T200000
DTSTAMP:20260426T035417
CREATED:20200705T094158Z
LAST-MODIFIED:20240720T165113Z
UID:9550-1721671200-1721678400@linagalvez.eu
SUMMARY:Reunión de equipo. Coordinación interna
DESCRIPTION:La eurodiputada Lina Gálvez se reunirá con su equipo para planificar la recta final de la campaña a las elecciones europeas 2024.
URL:https://linagalvez.eu/agenda/reunion-de-equipo-coordinacion-interna-3-2-2-2-3-3-2-2-2-2-2-3-2-2-2-2-3-2/
CATEGORIES:Actualidad,Parlamento
ATTACH;FMTTYPE=image/jpeg:https://linagalvez.eu/wp-content/uploads/2020/07/Calendario4.jpg
END:VEVENT
BEGIN:VEVENT
DTSTART;TZID=Europe/Madrid:20240730T103000
DTEND;TZID=Europe/Madrid:20240730T123000
DTSTAMP:20260426T035417
CREATED:20200705T094158Z
LAST-MODIFIED:20240801T123308Z
UID:9562-1722335400-1722342600@linagalvez.eu
SUMMARY:Reunión de equipo. Coordinación interna
DESCRIPTION:La eurodiputada Lina Gálvez se reunirá con su equipo para planificar la recta final de la campaña a las elecciones europeas 2024.
URL:https://linagalvez.eu/agenda/reunion-de-equipo-coordinacion-interna-3-2-2-2-3-3-2-2-2-2-2-3-2-2-2-2-3-2-2/
CATEGORIES:Actualidad,Parlamento
ATTACH;FMTTYPE=image/jpeg:https://linagalvez.eu/wp-content/uploads/2020/07/Calendario4.jpg
END:VEVENT
END:VCALENDAR