BEGIN:VCALENDAR
VERSION:2.0
PRODID:-//Lina Gálvez - ECPv6.15.20//NONSGML v1.0//EN
CALSCALE:GREGORIAN
METHOD:PUBLISH
X-WR-CALNAME:Lina Gálvez
X-ORIGINAL-URL:https://linagalvez.eu
X-WR-CALDESC:Eventos para Lina Gálvez
REFRESH-INTERVAL;VALUE=DURATION:PT1H
X-Robots-Tag:noindex
X-PUBLISHED-TTL:PT1H
BEGIN:VTIMEZONE
TZID:Europe/Madrid
BEGIN:DAYLIGHT
TZOFFSETFROM:+0100
TZOFFSETTO:+0200
TZNAME:CEST
DTSTART:20230326T010000
END:DAYLIGHT
BEGIN:STANDARD
TZOFFSETFROM:+0200
TZOFFSETTO:+0100
TZNAME:CET
DTSTART:20231029T010000
END:STANDARD
BEGIN:DAYLIGHT
TZOFFSETFROM:+0100
TZOFFSETTO:+0200
TZNAME:CEST
DTSTART:20240331T010000
END:DAYLIGHT
BEGIN:STANDARD
TZOFFSETFROM:+0200
TZOFFSETTO:+0100
TZNAME:CET
DTSTART:20241027T010000
END:STANDARD
BEGIN:DAYLIGHT
TZOFFSETFROM:+0100
TZOFFSETTO:+0200
TZNAME:CEST
DTSTART:20250330T010000
END:DAYLIGHT
BEGIN:STANDARD
TZOFFSETFROM:+0200
TZOFFSETTO:+0100
TZNAME:CET
DTSTART:20251026T010000
END:STANDARD
END:VTIMEZONE
BEGIN:VEVENT
DTSTART;TZID=Europe/Madrid:20241001T123000
DTEND;TZID=Europe/Madrid:20241001T133000
DTSTAMP:20260425T182642
CREATED:20240927T093954Z
LAST-MODIFIED:20250210T090028Z
UID:9793-1727785800-1727789400@linagalvez.eu
SUMMARY:S&D Reunión de la Delegación Socialista Española.
DESCRIPTION:Lina Gálvez participará en la reunión de la Delegación Socialista Española para definir la estrategia del grupo.
URL:https://linagalvez.eu/agenda/sd-reunion-delegacion-socialista-espanola-2410/
CATEGORIES:Actualidad,Parlamento,S&D
ATTACH;FMTTYPE=image/jpeg:https://linagalvez.eu/wp-content/uploads/2024/07/GP-Socialista-X-Legislatura.jpeg
END:VEVENT
BEGIN:VEVENT
DTSTART;TZID=Europe/Madrid:20241002T110000
DTEND;TZID=Europe/Madrid:20241002T123000
DTSTAMP:20260425T182642
CREATED:20240927T125417Z
LAST-MODIFIED:20240930T100831Z
UID:9807-1727866800-1727872200@linagalvez.eu
SUMMARY:Reunión de equipo. Coordinación interna.
DESCRIPTION:Lina Gálvez mantendrá una reunión con su equipo para coordinar y planificar\, definiendo prioridades y ajustando la agenda de trabajo.
URL:https://linagalvez.eu/agenda/reunion-equipo-coordinacion-interna-24-10/
CATEGORIES:Actualidad,Parlamento
ATTACH;FMTTYPE=image/jpeg:https://linagalvez.eu/wp-content/uploads/2020/07/Calendario4.jpg
END:VEVENT
BEGIN:VEVENT
DTSTART;TZID=Europe/Madrid:20241007T160000
DTEND;TZID=Europe/Madrid:20241007T163000
DTSTAMP:20260425T182642
CREATED:20241004T125417Z
LAST-MODIFIED:20241007T073524Z
UID:9835-1728316800-1728318600@linagalvez.eu
SUMMARY:Reunión de equipo. Coordinación interna.
DESCRIPTION:Lina Gálvez mantendrá una reunión con su equipo para planificar la semana de Pleno en Estrasburgo.
URL:https://linagalvez.eu/agenda/reunion-equipo-coordinacion-interna-24-10-2/
CATEGORIES:Actualidad,Parlamento
ATTACH;FMTTYPE=image/jpeg:https://linagalvez.eu/wp-content/uploads/2020/07/Calendario4.jpg
END:VEVENT
BEGIN:VEVENT
DTSTART;TZID=Europe/Madrid:20241008T130000
DTEND;TZID=Europe/Madrid:20241008T143000
DTSTAMP:20260425T182642
CREATED:20241004T093954Z
LAST-MODIFIED:20250210T090028Z
UID:9863-1728392400-1728397800@linagalvez.eu
SUMMARY:S&D Reunión de la Delegación Socialista Española.
DESCRIPTION:Lina Gálvez asistirá a la reunión de la Delegación Socialista Española para debatir y coordinar estrategias sobre temas clave de la agenda política.
URL:https://linagalvez.eu/agenda/sd-reunion-delegacion-socialista-espanola-2410-2/
CATEGORIES:Actualidad,Parlamento,S&D
ATTACH;FMTTYPE=image/jpeg:https://linagalvez.eu/wp-content/uploads/2024/07/GP-Socialista-X-Legislatura.jpeg
END:VEVENT
BEGIN:VEVENT
DTSTART;TZID=Europe/Madrid:20241009T181500
DTEND;TZID=Europe/Madrid:20241009T203000
DTSTAMP:20260425T182642
CREATED:20241004T103014Z
LAST-MODIFIED:20241007T084955Z
UID:9854-1728497700-1728505800@linagalvez.eu
SUMMARY:Reunión de grupo de S&D
DESCRIPTION:LGM asistirá a la reunión de grupo de Socialists & Democrats donde participará en un intercambio de opiniones y puntos de vista con otros miembros del grupo\, para debatir y coordinar estrategias sobre temas clave de la agenda política.
URL:https://linagalvez.eu/agenda/reunion-grupo-sd-2024-10/
CATEGORIES:Actualidad,Parlamento,S&D
ATTACH;FMTTYPE=image/png:https://linagalvez.eu/wp-content/uploads/2020/01/1-S&D.svg.png
END:VEVENT
BEGIN:VEVENT
DTSTART;TZID=Europe/Madrid:20241014T100000
DTEND;TZID=Europe/Madrid:20241014T110000
DTSTAMP:20260425T182642
CREATED:20241014T084820Z
LAST-MODIFIED:20241014T085607Z
UID:9868-1728900000-1728903600@linagalvez.eu
SUMMARY:Reunión de equipo. Coordinación interna.
DESCRIPTION:La eurodiputada Lina Gálvez se reunirá con su equipo para planificar la semana.
URL:https://linagalvez.eu/agenda/reunion-de-equipo-coordinacion-interna-24-10-3/
CATEGORIES:Actualidad,Parlamento
ATTACH;FMTTYPE=image/jpeg:https://linagalvez.eu/wp-content/uploads/2020/07/Calendario4.jpg
END:VEVENT
BEGIN:VEVENT
DTSTART;TZID=Europe/Madrid:20241015T151500
DTEND;TZID=Europe/Madrid:20241015T164500
DTSTAMP:20260425T182642
CREATED:20241014T084820Z
LAST-MODIFIED:20241014T084820Z
UID:9870-1729005300-1729010700@linagalvez.eu
SUMMARY:Reunión de equipo. Coordinación interna.
DESCRIPTION:Lina Gálvez mantendrá una reunión con su equipo para coordinar y planificar\, definiendo prioridades y ajustando la agenda de trabajo.
URL:https://linagalvez.eu/agenda/reunion-equipo-coordinacion-interna-24-10-4/
CATEGORIES:Actualidad,Parlamento
ATTACH;FMTTYPE=image/jpeg:https://linagalvez.eu/wp-content/uploads/2020/07/Calendario4.jpg
END:VEVENT
BEGIN:VEVENT
DTSTART;TZID=Europe/Madrid:20241021T140000
DTEND;TZID=Europe/Madrid:20241021T150000
DTSTAMP:20260425T182642
CREATED:20241021T073948Z
LAST-MODIFIED:20241021T073948Z
UID:9938-1729519200-1729522800@linagalvez.eu
SUMMARY:Reunión de equipo. Coordinación interna.
DESCRIPTION:Lina Gálvez mantendrá una reunión con su equipo para planificar la semana de Pleno en Estrasburgo.
URL:https://linagalvez.eu/agenda/reunion-equipo-coordinacion-interna-24-10-5/
CATEGORIES:Actualidad,Parlamento
ATTACH;FMTTYPE=image/jpeg:https://linagalvez.eu/wp-content/uploads/2020/07/Calendario4.jpg
END:VEVENT
BEGIN:VEVENT
DTSTART;TZID=Europe/Madrid:20241021T160000
DTEND;TZID=Europe/Madrid:20241021T170000
DTSTAMP:20260425T182642
CREATED:20241021T073948Z
LAST-MODIFIED:20241021T073948Z
UID:9946-1729526400-1729530000@linagalvez.eu
SUMMARY:Reunión de grupo de S&D
DESCRIPTION:LGM asistirá a la reunión de grupo de Socialists & Democrats donde participará en un intercambio de opiniones y puntos de vista con otros miembros del grupo\, para debatir y coordinar estrategias sobre temas clave de la agenda política.
URL:https://linagalvez.eu/agenda/reunion-grupo-sd-2024-10-2/
CATEGORIES:Actualidad,Parlamento,S&D
ATTACH;FMTTYPE=image/png:https://linagalvez.eu/wp-content/uploads/2020/01/1-S&D.svg.png
END:VEVENT
BEGIN:VEVENT
DTSTART;TZID=Europe/Madrid:20241022T130000
DTEND;TZID=Europe/Madrid:20241022T143000
DTSTAMP:20260425T182642
CREATED:20241021T073947Z
LAST-MODIFIED:20250210T090028Z
UID:9940-1729602000-1729607400@linagalvez.eu
SUMMARY:S&D Reunión de la Delegación Socialista Española.
DESCRIPTION:Lina Gálvez asistirá a la reunión de la Delegación Socialista Española para debatir y coordinar estrategias sobre temas clave de la agenda política.
URL:https://linagalvez.eu/agenda/sd-reunion-delegacion-socialista-espanola-2410-3/
CATEGORIES:Actualidad,Parlamento,S&D
ATTACH;FMTTYPE=image/jpeg:https://linagalvez.eu/wp-content/uploads/2024/07/GP-Socialista-X-Legislatura.jpeg
END:VEVENT
BEGIN:VEVENT
DTSTART;TZID=Europe/Madrid:20241022T183000
DTEND;TZID=Europe/Madrid:20241022T203000
DTSTAMP:20260425T182642
CREATED:20241004T103014Z
LAST-MODIFIED:20241021T080354Z
UID:9948-1729621800-1729629000@linagalvez.eu
SUMMARY:Reunión de grupo de S&D
DESCRIPTION:LGM asistirá a la reunión de grupo de Socialists & Democrats donde participará en un intercambio de opiniones y puntos de vista con otros miembros del grupo\, para debatir y coordinar estrategias sobre temas clave de la agenda política.
URL:https://linagalvez.eu/agenda/reunion-grupo-sd-2024-10-3/
CATEGORIES:Actualidad,Parlamento,S&D
ATTACH;FMTTYPE=image/png:https://linagalvez.eu/wp-content/uploads/2020/05/digital-europe.png
END:VEVENT
BEGIN:VEVENT
DTSTART;TZID=Europe/Madrid:20241023T181500
DTEND;TZID=Europe/Madrid:20241023T203000
DTSTAMP:20260425T182642
CREATED:20241004T103014Z
LAST-MODIFIED:20241021T084633Z
UID:9965-1729707300-1729715400@linagalvez.eu
SUMMARY:Reunión de grupo de S&D
DESCRIPTION:LGM asistirá a la reunión de grupo de Socialists & Democrats donde participará en un intercambio de opiniones y puntos de vista con otros miembros del grupo\, para debatir y coordinar estrategias sobre temas clave de la agenda política.
URL:https://linagalvez.eu/agenda/reunion-grupo-sd-2024-10-4/
CATEGORIES:Actualidad,Parlamento,S&D
ATTACH;FMTTYPE=image/png:https://linagalvez.eu/wp-content/uploads/2020/05/digital-europe.png
END:VEVENT
BEGIN:VEVENT
DTSTART;TZID=Europe/Madrid:20241025T100000
DTEND;TZID=Europe/Madrid:20241025T120000
DTSTAMP:20260425T182642
CREATED:20241021T073947Z
LAST-MODIFIED:20241021T073947Z
UID:9936-1729850400-1729857600@linagalvez.eu
SUMMARY:Reunión de equipo. Coordinación interna.
DESCRIPTION:Lina Gálvez se reunirá con su equipo para planificar la semana próxima.
URL:https://linagalvez.eu/agenda/reunion-equipo-coordinacion-interna-24-10-6/
CATEGORIES:Actualidad,Parlamento
ATTACH;FMTTYPE=image/jpeg:https://linagalvez.eu/wp-content/uploads/2020/07/Calendario2.jpg
END:VEVENT
BEGIN:VEVENT
DTSTART;TZID=Europe/Madrid:20241028T100000
DTEND;TZID=Europe/Madrid:20241028T120000
DTSTAMP:20260425T182642
CREATED:20241025T073948Z
LAST-MODIFIED:20241028T083652Z
UID:10008-1730109600-1730116800@linagalvez.eu
SUMMARY:Reunión de equipo. Coordinación interna.
DESCRIPTION:Lina Gálvez mantendrá una reunión con su equipo para planificar la semana.
URL:https://linagalvez.eu/agenda/reunion-equipo-coordinacion-interna-24-10-7/
CATEGORIES:Actualidad,Parlamento
ATTACH;FMTTYPE=image/jpeg:https://linagalvez.eu/wp-content/uploads/2020/07/Calendario4.jpg
END:VEVENT
BEGIN:VEVENT
DTSTART;TZID=Europe/Madrid:20241031T100000
DTEND;TZID=Europe/Madrid:20241031T130000
DTSTAMP:20260425T182642
CREATED:20241025T073948Z
LAST-MODIFIED:20241028T100344Z
UID:10032-1730368800-1730379600@linagalvez.eu
SUMMARY:Reunión de equipo. Coordinación interna.
DESCRIPTION:Lina Gálvez se reunirá con su equipo para planificar la próxima semana de audiencias del Parlamento Europeo con los comisarios y comisarias propuestas para el nuevo mandato.
URL:https://linagalvez.eu/agenda/reunion-equipo-coordinacion-interna-24-10-8/
CATEGORIES:Actualidad,Parlamento
ATTACH;FMTTYPE=image/jpeg:https://linagalvez.eu/wp-content/uploads/2020/07/Calendario4.jpg
END:VEVENT
END:VCALENDAR