BEGIN:VCALENDAR
VERSION:2.0
PRODID:-//Lina Gálvez - ECPv6.15.20//NONSGML v1.0//EN
CALSCALE:GREGORIAN
METHOD:PUBLISH
X-WR-CALNAME:Lina Gálvez
X-ORIGINAL-URL:https://linagalvez.eu
X-WR-CALDESC:Eventos para Lina Gálvez
REFRESH-INTERVAL;VALUE=DURATION:PT1H
X-Robots-Tag:noindex
X-PUBLISHED-TTL:PT1H
BEGIN:VTIMEZONE
TZID:Europe/Madrid
BEGIN:DAYLIGHT
TZOFFSETFROM:+0100
TZOFFSETTO:+0200
TZNAME:CEST
DTSTART:20230326T010000
END:DAYLIGHT
BEGIN:STANDARD
TZOFFSETFROM:+0200
TZOFFSETTO:+0100
TZNAME:CET
DTSTART:20231029T010000
END:STANDARD
BEGIN:DAYLIGHT
TZOFFSETFROM:+0100
TZOFFSETTO:+0200
TZNAME:CEST
DTSTART:20240331T010000
END:DAYLIGHT
BEGIN:STANDARD
TZOFFSETFROM:+0200
TZOFFSETTO:+0100
TZNAME:CET
DTSTART:20241027T010000
END:STANDARD
BEGIN:DAYLIGHT
TZOFFSETFROM:+0100
TZOFFSETTO:+0200
TZNAME:CEST
DTSTART:20250330T010000
END:DAYLIGHT
BEGIN:STANDARD
TZOFFSETFROM:+0200
TZOFFSETTO:+0100
TZNAME:CET
DTSTART:20251026T010000
END:STANDARD
END:VTIMEZONE
BEGIN:VEVENT
DTSTART;TZID=Europe/Madrid:20241104T093000
DTEND;TZID=Europe/Madrid:20241104T123000
DTSTAMP:20260425T144441
CREATED:20241025T073948Z
LAST-MODIFIED:20241104T100312Z
UID:10042-1730712600-1730723400@linagalvez.eu
SUMMARY:Reunión de equipo. Coordinación interna.
DESCRIPTION:Lina Gálvez se reunirá con su equipo para planificar la semana de audiencias del Parlamento Europeo con los comisarios y comisarias propuestas para el nuevo mandato.
URL:https://linagalvez.eu/agenda/reunion-equipo-coordinacion-interna-24-11/
CATEGORIES:Actualidad,Parlamento
ATTACH;FMTTYPE=image/jpeg:https://linagalvez.eu/wp-content/uploads/2020/07/Calendario4.jpg
END:VEVENT
BEGIN:VEVENT
DTSTART;TZID=Europe/Madrid:20241111T093000
DTEND;TZID=Europe/Madrid:20241111T123000
DTSTAMP:20260425T144441
CREATED:20241108T083948Z
LAST-MODIFIED:20241111T090514Z
UID:10114-1731317400-1731328200@linagalvez.eu
SUMMARY:Reunión de equipo. Coordinación interna.
DESCRIPTION:Lina Gálvez se reunirá con su equipo para planificar la semana.
URL:https://linagalvez.eu/agenda/reunion-equipo-coordinacion-interna-24-11-2/
CATEGORIES:Actualidad,Parlamento
ATTACH;FMTTYPE=image/jpeg:https://linagalvez.eu/wp-content/uploads/2020/07/Calendario4.jpg
END:VEVENT
BEGIN:VEVENT
DTSTART;TZID=Europe/Madrid:20241115T093000
DTEND;TZID=Europe/Madrid:20241115T123000
DTSTAMP:20260425T144441
CREATED:20241108T083947Z
LAST-MODIFIED:20241111T090646Z
UID:10113-1731663000-1731673800@linagalvez.eu
SUMMARY:Reunión de equipo. Coordinación interna.
DESCRIPTION:Lina Gálvez se reunirá con su equipo para planificar la semana siguiente.
URL:https://linagalvez.eu/agenda/reunion-equipo-coordinacion-interna-24-11-3/
CATEGORIES:Actualidad,Parlamento
ATTACH;FMTTYPE=image/jpeg:https://linagalvez.eu/wp-content/uploads/2020/07/Calendario2.jpg
END:VEVENT
BEGIN:VEVENT
DTSTART;TZID=Europe/Madrid:20241118T093000
DTEND;TZID=Europe/Madrid:20241118T103000
DTSTAMP:20260425T144441
CREATED:20241114T094820Z
LAST-MODIFIED:20241118T092648Z
UID:10161-1731922200-1731925800@linagalvez.eu
SUMMARY:Reunión de equipo. Coordinación interna.
DESCRIPTION:La eurodiputada Lina Gálvez se reunirá con su equipo para planificar la semana.
URL:https://linagalvez.eu/agenda/reunion-equipo-coordinacion-interna-24-11-4/
CATEGORIES:Actualidad,Parlamento
ATTACH;FMTTYPE=image/jpeg:https://linagalvez.eu/wp-content/uploads/2020/07/Calendario2.jpg
END:VEVENT
BEGIN:VEVENT
DTSTART;TZID=Europe/Madrid:20241125T160000
DTEND;TZID=Europe/Madrid:20241125T170000
DTSTAMP:20260425T144441
CREATED:20241122T083948Z
LAST-MODIFIED:20241125T101411Z
UID:10246-1732550400-1732554000@linagalvez.eu
SUMMARY:Reunión de grupo de S&D
DESCRIPTION:LGM asistirá a la reunión de grupo de Socialists & Democrats donde participará en un intercambio de opiniones y puntos de vista con otros miembros del grupo\, para debatir y coordinar estrategias sobre temas clave de la agenda política.
URL:https://linagalvez.eu/agenda/reunion-grupo-sd-2024-11/
CATEGORIES:Actualidad,Parlamento,S&D
ATTACH;FMTTYPE=image/png:https://linagalvez.eu/wp-content/uploads/2020/01/1-S&D.svg.png
END:VEVENT
BEGIN:VEVENT
DTSTART;TZID=Europe/Madrid:20241126T124500
DTEND;TZID=Europe/Madrid:20241126T133000
DTSTAMP:20260425T144441
CREATED:20241121T083947Z
LAST-MODIFIED:20250210T090028Z
UID:10238-1732625100-1732627800@linagalvez.eu
SUMMARY:S&D Reunión de la Delegación Socialista Española.
DESCRIPTION:Lina Gálvez asistirá a la reunión de la Delegación Socialista Española para debatir y coordinar estrategias sobre temas clave de la agenda política.
URL:https://linagalvez.eu/agenda/sd-reunion-delegacion-socialista-espanola-2411-2/
CATEGORIES:Actualidad,Parlamento,S&D
ATTACH;FMTTYPE=image/jpeg:https://linagalvez.eu/wp-content/uploads/2024/07/GP-Socialista-X-Legislatura.jpeg
END:VEVENT
BEGIN:VEVENT
DTSTART;TZID=Europe/Madrid:20241126T190000
DTEND;TZID=Europe/Madrid:20241126T210000
DTSTAMP:20260425T144441
CREATED:20241122T083948Z
LAST-MODIFIED:20241125T101636Z
UID:10248-1732647600-1732654800@linagalvez.eu
SUMMARY:Reunión de grupo de S&D
DESCRIPTION:Lina Gálvez asistirá a la reunión de grupo de Socialists & Democrats donde participará en un intercambio de opiniones y puntos de vista con otros miembros del grupo\, para debatir y coordinar estrategias sobre temas clave de la agenda política.
URL:https://linagalvez.eu/agenda/reunion-grupo-sd-2024-11-2/
CATEGORIES:Actualidad,Parlamento,S&D
ATTACH;FMTTYPE=image/png:https://linagalvez.eu/wp-content/uploads/2020/01/1-S&D.svg.png
END:VEVENT
BEGIN:VEVENT
DTSTART;TZID=Europe/Madrid:20241127T184500
DTEND;TZID=Europe/Madrid:20241127T203000
DTSTAMP:20260425T144441
CREATED:20241122T083948Z
LAST-MODIFIED:20241125T101834Z
UID:10250-1732733100-1732739400@linagalvez.eu
SUMMARY:Reunión de grupo de S&D
DESCRIPTION:Lina Gálvez asistirá a la reunión de grupo de Socialists & Democrats donde participará en un intercambio de opiniones y puntos de vista con otros miembros del grupo\, para debatir y coordinar estrategias sobre temas clave de la agenda política.
URL:https://linagalvez.eu/agenda/reunion-grupo-sd-2024-11-3/
CATEGORIES:Actualidad,Parlamento,S&D
ATTACH;FMTTYPE=image/png:https://linagalvez.eu/wp-content/uploads/2020/01/1-S&D.svg.png
END:VEVENT
END:VCALENDAR