BEGIN:VCALENDAR
VERSION:2.0
PRODID:-//Lina Gálvez - ECPv6.15.20//NONSGML v1.0//EN
CALSCALE:GREGORIAN
METHOD:PUBLISH
X-WR-CALNAME:Lina Gálvez
X-ORIGINAL-URL:https://linagalvez.eu
X-WR-CALDESC:Eventos para Lina Gálvez
REFRESH-INTERVAL;VALUE=DURATION:PT1H
X-Robots-Tag:noindex
X-PUBLISHED-TTL:PT1H
BEGIN:VTIMEZONE
TZID:Europe/Madrid
BEGIN:DAYLIGHT
TZOFFSETFROM:+0100
TZOFFSETTO:+0200
TZNAME:CEST
DTSTART:20240331T010000
END:DAYLIGHT
BEGIN:STANDARD
TZOFFSETFROM:+0200
TZOFFSETTO:+0100
TZNAME:CET
DTSTART:20241027T010000
END:STANDARD
BEGIN:DAYLIGHT
TZOFFSETFROM:+0100
TZOFFSETTO:+0200
TZNAME:CEST
DTSTART:20250330T010000
END:DAYLIGHT
BEGIN:STANDARD
TZOFFSETFROM:+0200
TZOFFSETTO:+0100
TZNAME:CET
DTSTART:20251026T010000
END:STANDARD
BEGIN:DAYLIGHT
TZOFFSETFROM:+0100
TZOFFSETTO:+0200
TZNAME:CEST
DTSTART:20260329T010000
END:DAYLIGHT
BEGIN:STANDARD
TZOFFSETFROM:+0200
TZOFFSETTO:+0100
TZNAME:CET
DTSTART:20261025T010000
END:STANDARD
END:VTIMEZONE
BEGIN:VEVENT
DTSTART;TZID=Europe/Madrid:20250114T123000
DTEND;TZID=Europe/Madrid:20250114T133000
DTSTAMP:20260423T122000
CREATED:20250110T083947Z
LAST-MODIFIED:20250210T090028Z
UID:10440-1736857800-1736861400@linagalvez.eu
SUMMARY:S&D Reunión de la Delegación Socialista Española.
DESCRIPTION:Lina Gálvez asistirá a la reunión de la Delegación Socialista Española para debatir y coordinar estrategias sobre temas clave de la agenda política.
URL:https://linagalvez.eu/agenda/sd-reunion-delegacion-socialista-espanola-dse-25-01/
CATEGORIES:Actualidad,Parlamento,S&D
ATTACH;FMTTYPE=image/jpeg:https://linagalvez.eu/wp-content/uploads/2024/07/GP-Socialista-X-Legislatura.jpeg
END:VEVENT
BEGIN:VEVENT
DTSTART;TZID=Europe/Madrid:20250115T100000
DTEND;TZID=Europe/Madrid:20250115T143000
DTSTAMP:20260423T122000
CREATED:20250110T071547Z
LAST-MODIFIED:20250113T085038Z
UID:10432-1736935200-1736951400@linagalvez.eu
SUMMARY:Reunión de equipo
DESCRIPTION:Lina Gálvez se reunirá con su equipo para planificar y coordinar próximos eventos.
URL:https://linagalvez.eu/agenda/reunion-equipo-25-01/
CATEGORIES:Actualidad,Parlamento
ATTACH;FMTTYPE=image/jpeg:https://linagalvez.eu/wp-content/uploads/2020/07/Calendario2.jpg
END:VEVENT
BEGIN:VEVENT
DTSTART;TZID=Europe/Madrid:20250120T160000
DTEND;TZID=Europe/Madrid:20250120T170000
DTSTAMP:20260423T122000
CREATED:20250116T083948Z
LAST-MODIFIED:20250120T092528Z
UID:10455-1737388800-1737392400@linagalvez.eu
SUMMARY:Reunión de grupo de S&D
DESCRIPTION:Lina Gálvez asistirá a la reunión de grupo de Socialists & Democrats donde participará en un intercambio de opiniones y puntos de vista con otros miembros del grupo\, para debatir y coordinar estrategias sobre temas clave de la agenda política.
URL:https://linagalvez.eu/agenda/reunion-grupo-sd-2025-01/
CATEGORIES:Actualidad,Parlamento,S&D
ATTACH;FMTTYPE=image/png:https://linagalvez.eu/wp-content/uploads/2020/01/1-S&D.svg.png
END:VEVENT
BEGIN:VEVENT
DTSTART;TZID=Europe/Madrid:20250127T093000
DTEND;TZID=Europe/Madrid:20250127T130000
DTSTAMP:20260423T122000
CREATED:20250124T071547Z
LAST-MODIFIED:20250127T100739Z
UID:10568-1737970200-1737982800@linagalvez.eu
SUMMARY:Reunión de equipo
DESCRIPTION:Lina Gálvez se reunirá con su equipo para planificar y coordinar próximos eventos.
URL:https://linagalvez.eu/agenda/reunion-equipo-25-01-2/
CATEGORIES:Actualidad,Parlamento
ATTACH;FMTTYPE=image/jpeg:https://linagalvez.eu/wp-content/uploads/2020/07/Calendario2.jpg
END:VEVENT
END:VCALENDAR