BEGIN:VCALENDAR
VERSION:2.0
PRODID:-//Lina Gálvez - ECPv6.15.20//NONSGML v1.0//EN
CALSCALE:GREGORIAN
METHOD:PUBLISH
X-ORIGINAL-URL:https://linagalvez.eu
X-WR-CALDESC:Eventos para Lina Gálvez
REFRESH-INTERVAL;VALUE=DURATION:PT1H
X-Robots-Tag:noindex
X-PUBLISHED-TTL:PT1H
BEGIN:VTIMEZONE
TZID:Europe/Madrid
BEGIN:DAYLIGHT
TZOFFSETFROM:+0100
TZOFFSETTO:+0200
TZNAME:CEST
DTSTART:20240331T010000
END:DAYLIGHT
BEGIN:STANDARD
TZOFFSETFROM:+0200
TZOFFSETTO:+0100
TZNAME:CET
DTSTART:20241027T010000
END:STANDARD
BEGIN:DAYLIGHT
TZOFFSETFROM:+0100
TZOFFSETTO:+0200
TZNAME:CEST
DTSTART:20250330T010000
END:DAYLIGHT
BEGIN:STANDARD
TZOFFSETFROM:+0200
TZOFFSETTO:+0100
TZNAME:CET
DTSTART:20251026T010000
END:STANDARD
BEGIN:DAYLIGHT
TZOFFSETFROM:+0100
TZOFFSETTO:+0200
TZNAME:CEST
DTSTART:20260329T010000
END:DAYLIGHT
BEGIN:STANDARD
TZOFFSETFROM:+0200
TZOFFSETTO:+0100
TZNAME:CET
DTSTART:20261025T010000
END:STANDARD
END:VTIMEZONE
BEGIN:VEVENT
DTSTART;TZID=Europe/Madrid:20250701T180000
DTEND;TZID=Europe/Madrid:20250701T193000
DTSTAMP:20260423T010823
CREATED:20250630T072548Z
LAST-MODIFIED:20250630T165041Z
UID:12174-1751392800-1751398200@linagalvez.eu
SUMMARY:Reunión especial del Grupo S&D sobre seguridad de la información e injerencias extranjeras
DESCRIPTION:Lina Gálvez asistirá a esta sesión informativa organizada por el Grupo S&D en cooperación con DG SAFE y servicios de seguridad de los Estados miembros. La reunión tratará sobre los riesgos de la injerencia extranjera y del espionaje en el marco del Plan de Reforma del Parlamento Europeo.
URL:https://linagalvez.eu/agenda/reunion-grupo-sd-2025-07-01/
CATEGORIES:Actualidad,Parlamento,S&D
ATTACH;FMTTYPE=image/png:https://linagalvez.eu/wp-content/uploads/2020/01/1-S&D.svg.png
END:VEVENT
BEGIN:VEVENT
DTSTART;TZID=Europe/Madrid:20250702T094500
DTEND;TZID=Europe/Madrid:20250702T130000
DTSTAMP:20260423T010823
CREATED:20250630T073948Z
LAST-MODIFIED:20250630T165451Z
UID:12176-1751449500-1751461200@linagalvez.eu
SUMMARY:Reunión del Grupo S&D preparatoria del pleno de Estrasburgo
DESCRIPTION:Lina Gálvez participará en la reunión del Grupo de la Alianza Progresista de Socialistas y Demócratas (S&D) en el Parlamento Europeo\, dedicada a preparar la sesión plenaria que se celebrará la semana siguiente en Estrasburgo. Durante el encuentro se coordinarán posiciones y se abordarán los principales temas del orden del día.
URL:https://linagalvez.eu/agenda/reunion-grupo-sd-2025-07-preparatoria-pleno-estrasburgo/
CATEGORIES:Actualidad,Parlamento,S&D
ATTACH;FMTTYPE=image/jpeg:https://linagalvez.eu/wp-content/uploads/SD-banner-euractiv.jpg
END:VEVENT
BEGIN:VEVENT
DTSTART;TZID=Europe/Madrid:20250704T093000
DTEND;TZID=Europe/Madrid:20250704T130000
DTSTAMP:20260423T010823
CREATED:20250630T084820Z
LAST-MODIFIED:20250630T173019Z
UID:12184-1751621400-1751634000@linagalvez.eu
SUMMARY:Reunión de equipo. Coordinación interna.
DESCRIPTION:Lina Gálvez se reunirá con su equipo para planificar y coordinar la próxima semana de pleno de Estrasburgo.
URL:https://linagalvez.eu/agenda/reunion-equipo-coordinacion-interna-25-07-04/
CATEGORIES:Actualidad,Parlamento
ATTACH;FMTTYPE=image/jpeg:https://linagalvez.eu/wp-content/uploads/2020/07/Calendario2.jpg
END:VEVENT
BEGIN:VEVENT
DTSTART;TZID=Europe/Madrid:20250707T173000
DTEND;TZID=Europe/Madrid:20250707T183000
DTSTAMP:20260423T010823
CREATED:20250702T084820Z
LAST-MODIFIED:20250707T070616Z
UID:12196-1751909400-1751913000@linagalvez.eu
SUMMARY:Reunión de equipo. Coordinación interna.
DESCRIPTION:Lina Gálvez se reunirá con su equipo para organizar y coordinar la semana.
URL:https://linagalvez.eu/agenda/reunion-equipo-coordinacion-interna-25-07/
CATEGORIES:Actualidad,Parlamento
ATTACH;FMTTYPE=image/jpeg:https://linagalvez.eu/wp-content/uploads/2020/07/Calendario2.jpg
END:VEVENT
BEGIN:VEVENT
DTSTART;TZID=Europe/Madrid:20250708T183000
DTEND;TZID=Europe/Madrid:20250708T210000
DTSTAMP:20260423T010823
CREATED:20250704T073948Z
LAST-MODIFIED:20250707T070914Z
UID:12204-1751999400-1752008400@linagalvez.eu
SUMMARY:Reunión de grupo de S&D
DESCRIPTION:LGM asistirá a la reunión de grupo de Socialists & Democrats donde participará en un intercambio de opiniones y puntos de vista con otros miembros del grupo\, para debatir y coordinar estrategias sobre temas clave de la agenda política.
URL:https://linagalvez.eu/agenda/reunion-grupo-sd-2025-07/
CATEGORIES:Actualidad,Parlamento,S&D
ATTACH;FMTTYPE=image/png:https://linagalvez.eu/wp-content/uploads/2020/01/1-S&D.svg.png
END:VEVENT
BEGIN:VEVENT
DTSTART;TZID=Europe/Madrid:20250709T183000
DTEND;TZID=Europe/Madrid:20250709T203000
DTSTAMP:20260423T010823
CREATED:20250702T073948Z
LAST-MODIFIED:20250707T071833Z
UID:12210-1752085800-1752093000@linagalvez.eu
SUMMARY:Reunión de grupo de S&D
DESCRIPTION:LGM asistirá a la reunión de grupo de Socialists & Democrats donde participará en un intercambio de opiniones y puntos de vista con otros miembros del grupo\, para debatir y coordinar estrategias sobre temas clave de la agenda política.
URL:https://linagalvez.eu/agenda/reunion-grupo-sd-2025-07-2/
CATEGORIES:Actualidad,Parlamento,S&D
ATTACH;FMTTYPE=image/jpeg:https://linagalvez.eu/wp-content/uploads/SD-banner-euractiv.jpg
END:VEVENT
BEGIN:VEVENT
DTSTART;TZID=Europe/Madrid:20250715T113000
DTEND;TZID=Europe/Madrid:20250715T133000
DTSTAMP:20260423T010823
CREATED:20250710T084820Z
LAST-MODIFIED:20250714T074008Z
UID:12235-1752579000-1752586200@linagalvez.eu
SUMMARY:Reunión de equipo. Coordinación interna.
DESCRIPTION:Lina Gálvez se reunirá con su equipo para coordinar las actividades de la semana\, revisar iniciativas legislativas en curso y preparar futuras intervenciones en comisiones y plenos.
URL:https://linagalvez.eu/agenda/reunion-equipo-coordinacion-interna-25-07-2/
CATEGORIES:Actualidad,Parlamento
ATTACH;FMTTYPE=image/jpeg:https://linagalvez.eu/wp-content/uploads/2020/07/Calendario2.jpg
END:VEVENT
BEGIN:VEVENT
DTSTART;TZID=Europe/Madrid:20250717T100000
DTEND;TZID=Europe/Madrid:20250717T110000
DTSTAMP:20260423T010823
CREATED:20250710T084820Z
LAST-MODIFIED:20250714T081205Z
UID:12247-1752746400-1752750000@linagalvez.eu
SUMMARY:Reunión de equipo. Coordinación interna.
DESCRIPTION:Lina Gálvez y su equipo evaluarán los resultados de las actividades parlamentarias de la semana y planificarán acciones futuras\, incluidas iniciativas legislativas\, intervenciones y encuentros institucionales.
URL:https://linagalvez.eu/agenda/reunion-equipo-coordinacion-interna-25-07-3/
CATEGORIES:Actualidad,Parlamento
ATTACH;FMTTYPE=image/jpeg:https://linagalvez.eu/wp-content/uploads/2020/07/Calendario2.jpg
END:VEVENT
END:VCALENDAR