BEGIN:VCALENDAR
VERSION:2.0
PRODID:-//Lina Gálvez - ECPv6.15.20//NONSGML v1.0//EN
CALSCALE:GREGORIAN
METHOD:PUBLISH
X-ORIGINAL-URL:https://linagalvez.eu
X-WR-CALDESC:Eventos para Lina Gálvez
REFRESH-INTERVAL;VALUE=DURATION:PT1H
X-Robots-Tag:noindex
X-PUBLISHED-TTL:PT1H
BEGIN:VTIMEZONE
TZID:Europe/Madrid
BEGIN:DAYLIGHT
TZOFFSETFROM:+0100
TZOFFSETTO:+0200
TZNAME:CEST
DTSTART:20240331T010000
END:DAYLIGHT
BEGIN:STANDARD
TZOFFSETFROM:+0200
TZOFFSETTO:+0100
TZNAME:CET
DTSTART:20241027T010000
END:STANDARD
BEGIN:DAYLIGHT
TZOFFSETFROM:+0100
TZOFFSETTO:+0200
TZNAME:CEST
DTSTART:20250330T010000
END:DAYLIGHT
BEGIN:STANDARD
TZOFFSETFROM:+0200
TZOFFSETTO:+0100
TZNAME:CET
DTSTART:20251026T010000
END:STANDARD
BEGIN:DAYLIGHT
TZOFFSETFROM:+0100
TZOFFSETTO:+0200
TZNAME:CEST
DTSTART:20260329T010000
END:DAYLIGHT
BEGIN:STANDARD
TZOFFSETFROM:+0200
TZOFFSETTO:+0100
TZNAME:CET
DTSTART:20261025T010000
END:STANDARD
END:VTIMEZONE
BEGIN:VEVENT
DTSTART;TZID=Europe/Madrid:20251008T093000
DTEND;TZID=Europe/Madrid:20251008T110000
DTSTAMP:20260422T215828
CREATED:20251002T084820Z
LAST-MODIFIED:20251003T113026Z
UID:12545-1759915800-1759921200@linagalvez.eu
SUMMARY:Reunión de equipo. Coordinación interna.
DESCRIPTION:Lina Gálvez se reunirá con su equipo para organizar y coordinar la semana.
URL:https://linagalvez.eu/agenda/reunion-equipo-coordinacion-interna-25-10/
CATEGORIES:Actualidad,Parlamento
ATTACH;FMTTYPE=image/jpeg:https://linagalvez.eu/wp-content/uploads/2020/07/Calendario2.jpg
END:VEVENT
BEGIN:VEVENT
DTSTART;TZID=Europe/Madrid:20251013T100000
DTEND;TZID=Europe/Madrid:20251013T120000
DTSTAMP:20260422T215828
CREATED:20251010T084820Z
LAST-MODIFIED:20251012T172515Z
UID:12585-1760349600-1760356800@linagalvez.eu
SUMMARY:Reunión de equipo. Coordinación interna.
DESCRIPTION:Lina Gálvez se reunirá con su equipo para organizar y coordinar la semana.
URL:https://linagalvez.eu/agenda/reunion-equipo-coordinacion-interna-25-10-2/
CATEGORIES:Actualidad,Parlamento
ATTACH;FMTTYPE=image/jpeg:https://linagalvez.eu/wp-content/uploads/2020/07/Calendario2.jpg
END:VEVENT
BEGIN:VEVENT
DTSTART;TZID=Europe/Madrid:20251014T130000
DTEND;TZID=Europe/Madrid:20251014T143000
DTSTAMP:20260422T215828
CREATED:20251013T061648Z
LAST-MODIFIED:20251013T065749Z
UID:12596-1760446800-1760452200@linagalvez.eu
SUMMARY:Reunión conjunta de las Delegaciones Socialistas Española y Alemana de S&D
DESCRIPTION:Lina Gálvez asistirá a la reunión conjunta de las Delegaciones Socialistas Española y Alemana del grupo Socialistas y Demócratas (Socialists & Democrats\, S&D) en el Parlamento Europeo\, para debatir y coordinar estrategias sobre temas clave de la agenda política.
URL:https://linagalvez.eu/agenda/reunion-delegaciones-socialistas-espana-alemania-sd-2025-10/
CATEGORIES:Actualidad,Parlamento,S&D
ATTACH;FMTTYPE=image/png:https://linagalvez.eu/wp-content/uploads/2020/01/1-S&D.svg.png
END:VEVENT
BEGIN:VEVENT
DTSTART;TZID=Europe/Madrid:20251020T160000
DTEND;TZID=Europe/Madrid:20251020T180000
DTSTAMP:20260422T215828
CREATED:20251017T073948Z
LAST-MODIFIED:20251017T115453Z
UID:12661-1760976000-1760983200@linagalvez.eu
SUMMARY:Reunión de grupo de S&D
DESCRIPTION:LGM asistirá a la reunión de grupo de Socialists & Democrats donde participará en un intercambio de opiniones y puntos de vista con otros miembros del grupo\, para debatir y coordinar estrategias sobre temas clave de la agenda política.
URL:https://linagalvez.eu/agenda/reunion-grupo-sd-2025-10/
CATEGORIES:Actualidad,Parlamento,S&D
ATTACH;FMTTYPE=image/jpeg:https://linagalvez.eu/wp-content/uploads/SD-banner-euractiv.jpg
END:VEVENT
BEGIN:VEVENT
DTSTART;TZID=Europe/Madrid:20251021T130000
DTEND;TZID=Europe/Madrid:20251021T140000
DTSTAMP:20260422T215828
CREATED:20251017T073947Z
LAST-MODIFIED:20251017T120859Z
UID:12669-1761051600-1761055200@linagalvez.eu
SUMMARY:Reunión de la Delegación Socialista Española (DSE)
DESCRIPTION:Lina Gálvez participará en la reunión de la Delegación Socialista Española\, en calidad de secretaria general adjunta\, para debatir y coordinar estrategias políticas.
URL:https://linagalvez.eu/agenda/sd-reunion-delegacion-socialista-espanola-dse-25-10/
CATEGORIES:Actualidad,Parlamento,S&D
ATTACH;FMTTYPE=image/jpeg:https://linagalvez.eu/wp-content/uploads/DSE-Delegacion-Socialista-Espanola-10legislatura-en-PE.jpeg
END:VEVENT
BEGIN:VEVENT
DTSTART;TZID=Europe/Madrid:20251021T180000
DTEND;TZID=Europe/Madrid:20251021T210000
DTSTAMP:20260422T215828
CREATED:20251017T073948Z
LAST-MODIFIED:20251017T121146Z
UID:12673-1761069600-1761080400@linagalvez.eu
SUMMARY:Reunión de grupo de S&D
DESCRIPTION:LGM asistirá a la reunión de grupo de Socialists & Democrats donde participará en un intercambio de opiniones y puntos de vista con otros miembros del grupo\, para debatir y coordinar estrategias sobre temas clave de la agenda política.
URL:https://linagalvez.eu/agenda/reunion-grupo-sd-2025-10-2/
CATEGORIES:Actualidad,Parlamento,S&D
ATTACH;FMTTYPE=image/png:https://linagalvez.eu/wp-content/uploads/2020/01/1-S&D.svg.png
END:VEVENT
BEGIN:VEVENT
DTSTART;TZID=Europe/Madrid:20251022T180000
DTEND;TZID=Europe/Madrid:20251022T210000
DTSTAMP:20260422T215828
CREATED:20251017T073948Z
LAST-MODIFIED:20251017T121356Z
UID:12675-1761156000-1761166800@linagalvez.eu
SUMMARY:Reunión de grupo de S&D
DESCRIPTION:LGM asistirá a la reunión de grupo de Socialists & Democrats donde participará en un intercambio de opiniones y puntos de vista con otros miembros del grupo\, para debatir y coordinar estrategias sobre temas clave de la agenda política.
URL:https://linagalvez.eu/agenda/reunion-grupo-sd-2025-10-3/
CATEGORIES:Actualidad,Parlamento,S&D
ATTACH;FMTTYPE=image/png:https://linagalvez.eu/wp-content/uploads/2020/05/digital-europe.png
END:VEVENT
BEGIN:VEVENT
DTSTART;TZID=Europe/Madrid:20251024T100000
DTEND;TZID=Europe/Madrid:20251024T120000
DTSTAMP:20260422T215828
CREATED:20251017T084820Z
LAST-MODIFIED:20251017T121755Z
UID:12663-1761300000-1761307200@linagalvez.eu
SUMMARY:Reunión de equipo. Coordinación interna.
DESCRIPTION:Lina Gálvez se reunirá con su equipo para organizar y preparar los debates y actividades de la semana próxima.
URL:https://linagalvez.eu/agenda/reunion-equipo-coordinacion-interna-25-10-3/
CATEGORIES:Actualidad,Parlamento
ATTACH;FMTTYPE=image/jpeg:https://linagalvez.eu/wp-content/uploads/2020/07/Calendario2.jpg
END:VEVENT
END:VCALENDAR