BEGIN:VCALENDAR
VERSION:2.0
PRODID:-//Lina Gálvez - ECPv6.15.20//NONSGML v1.0//EN
CALSCALE:GREGORIAN
METHOD:PUBLISH
X-ORIGINAL-URL:https://linagalvez.eu
X-WR-CALDESC:Eventos para Lina Gálvez
REFRESH-INTERVAL;VALUE=DURATION:PT1H
X-Robots-Tag:noindex
X-PUBLISHED-TTL:PT1H
BEGIN:VTIMEZONE
TZID:Europe/Madrid
BEGIN:DAYLIGHT
TZOFFSETFROM:+0100
TZOFFSETTO:+0200
TZNAME:CEST
DTSTART:20250330T010000
END:DAYLIGHT
BEGIN:STANDARD
TZOFFSETFROM:+0200
TZOFFSETTO:+0100
TZNAME:CET
DTSTART:20251026T010000
END:STANDARD
BEGIN:DAYLIGHT
TZOFFSETFROM:+0100
TZOFFSETTO:+0200
TZNAME:CEST
DTSTART:20260329T010000
END:DAYLIGHT
BEGIN:STANDARD
TZOFFSETFROM:+0200
TZOFFSETTO:+0100
TZNAME:CET
DTSTART:20261025T010000
END:STANDARD
BEGIN:DAYLIGHT
TZOFFSETFROM:+0100
TZOFFSETTO:+0200
TZNAME:CEST
DTSTART:20270328T010000
END:DAYLIGHT
BEGIN:STANDARD
TZOFFSETFROM:+0200
TZOFFSETTO:+0100
TZNAME:CET
DTSTART:20271031T010000
END:STANDARD
END:VTIMEZONE
BEGIN:VEVENT
DTSTART;TZID=Europe/Madrid:20260209T110000
DTEND;TZID=Europe/Madrid:20260209T133000
DTSTAMP:20260421T195844
CREATED:20260206T094820Z
LAST-MODIFIED:20260209T125343Z
UID:13502-1770634800-1770643800@linagalvez.eu
SUMMARY:Reunión de equipo. Coordinación interna.
DESCRIPTION:Lina Gálvez se reunirá con su equipo para organizar y preparar los debates y actividades de la semana.
URL:https://linagalvez.eu/agenda/reunion-equipo-coordinacion-interna-2026-02-3/
CATEGORIES:Actualidad,Parlamento
ATTACH;FMTTYPE=image/jpeg:https://linagalvez.eu/wp-content/uploads/2020/07/Calendario2.jpg
END:VEVENT
BEGIN:VEVENT
DTSTART;TZID=Europe/Madrid:20260209T160000
DTEND;TZID=Europe/Madrid:20260209T170000
DTSTAMP:20260421T195844
CREATED:20260206T083948Z
LAST-MODIFIED:20260209T125614Z
UID:13506-1770652800-1770656400@linagalvez.eu
SUMMARY:Reunión del Grupo S&D: Preparación de la semana de Pleno
DESCRIPTION:Lina Gálvez participará en la reunión del Grupo de la Alianza Progresista de Socialistas y Demócratas (S&D) en el Parlamento Europeo\, dedicada a preparar la sesión plenaria que se celebrará esta semana en Estrasburgo. Durante el encuentro se coordinarán posiciones y se abordarán los principales temas del orden del día.
URL:https://linagalvez.eu/agenda/reunion-grupo-sd-2026-02-2/
CATEGORIES:Actualidad,Parlamento,S&D
ATTACH;FMTTYPE=image/png:https://linagalvez.eu/wp-content/uploads/2020/01/1-S&D.svg.png
END:VEVENT
END:VCALENDAR