BEGIN:VCALENDAR
VERSION:2.0
PRODID:-//Lina Gálvez - ECPv6.15.20//NONSGML v1.0//EN
CALSCALE:GREGORIAN
METHOD:PUBLISH
X-ORIGINAL-URL:https://linagalvez.eu
X-WR-CALDESC:Eventos para Lina Gálvez
REFRESH-INTERVAL;VALUE=DURATION:PT1H
X-Robots-Tag:noindex
X-PUBLISHED-TTL:PT1H
BEGIN:VTIMEZONE
TZID:Europe/Madrid
BEGIN:DAYLIGHT
TZOFFSETFROM:+0100
TZOFFSETTO:+0200
TZNAME:CEST
DTSTART:20240331T010000
END:DAYLIGHT
BEGIN:STANDARD
TZOFFSETFROM:+0200
TZOFFSETTO:+0100
TZNAME:CET
DTSTART:20241027T010000
END:STANDARD
BEGIN:DAYLIGHT
TZOFFSETFROM:+0100
TZOFFSETTO:+0200
TZNAME:CEST
DTSTART:20250330T010000
END:DAYLIGHT
BEGIN:STANDARD
TZOFFSETFROM:+0200
TZOFFSETTO:+0100
TZNAME:CET
DTSTART:20251026T010000
END:STANDARD
BEGIN:DAYLIGHT
TZOFFSETFROM:+0100
TZOFFSETTO:+0200
TZNAME:CEST
DTSTART:20260329T010000
END:DAYLIGHT
BEGIN:STANDARD
TZOFFSETFROM:+0200
TZOFFSETTO:+0100
TZNAME:CET
DTSTART:20261025T010000
END:STANDARD
END:VTIMEZONE
BEGIN:VEVENT
DTSTART;TZID=Europe/Madrid:20250603T113000
DTEND;TZID=Europe/Madrid:20250603T123000
DTSTAMP:20260423T091323
CREATED:20250528T185513Z
LAST-MODIFIED:20250602T083914Z
UID:11944-1748950200-1748953800@linagalvez.eu
SUMMARY:Reunión con BEUC sobre Acuerdo de Comercio Digital UE-Corea del Sur
DESCRIPTION:Lina Gálvez se reunirá con Léa Auffret\, directora de Asuntos Internacionales de BEUC (Organización Europea de Consumidores)\, Mykyta Sobko\, responsable de políticas\, para intercambiar impresiones sobre el Acuerdo de Comercio Digital entre la UE y Corea del Sur\, en su calidad de ponente del grupo de seguimiento. \nFuente de la imagen: The European Commission’s trade department. En esta web se realiza un uso justo y no comercial de la imagen para la difusión del evento.
URL:https://linagalvez.eu/agenda/reunion-beuc-acuerdo-comercio-digital-ue-corea-del-sur/
CATEGORIES:Actualidad,DKOR,Parlamento
ATTACH;FMTTYPE=image/jpeg:https://linagalvez.eu/wp-content/uploads/img-topic_eu_korea.jpg
END:VEVENT
END:VCALENDAR