BEGIN:VCALENDAR
VERSION:2.0
PRODID:-//Lina Gálvez - ECPv6.15.20//NONSGML v1.0//EN
CALSCALE:GREGORIAN
METHOD:PUBLISH
X-WR-CALNAME:Lina Gálvez
X-ORIGINAL-URL:https://linagalvez.eu
X-WR-CALDESC:Eventos para Lina Gálvez
REFRESH-INTERVAL;VALUE=DURATION:PT1H
X-Robots-Tag:noindex
X-PUBLISHED-TTL:PT1H
BEGIN:VTIMEZONE
TZID:Europe/Madrid
BEGIN:DAYLIGHT
TZOFFSETFROM:+0100
TZOFFSETTO:+0200
TZNAME:CEST
DTSTART:20240331T010000
END:DAYLIGHT
BEGIN:STANDARD
TZOFFSETFROM:+0200
TZOFFSETTO:+0100
TZNAME:CET
DTSTART:20241027T010000
END:STANDARD
BEGIN:DAYLIGHT
TZOFFSETFROM:+0100
TZOFFSETTO:+0200
TZNAME:CEST
DTSTART:20250330T010000
END:DAYLIGHT
BEGIN:STANDARD
TZOFFSETFROM:+0200
TZOFFSETTO:+0100
TZNAME:CET
DTSTART:20251026T010000
END:STANDARD
BEGIN:DAYLIGHT
TZOFFSETFROM:+0100
TZOFFSETTO:+0200
TZNAME:CEST
DTSTART:20260329T010000
END:DAYLIGHT
BEGIN:STANDARD
TZOFFSETFROM:+0200
TZOFFSETTO:+0100
TZNAME:CET
DTSTART:20261025T010000
END:STANDARD
END:VTIMEZONE
BEGIN:VEVENT
DTSTART;TZID=Europe/Madrid:20250528T103000
DTEND;TZID=Europe/Madrid:20250528T114500
DTSTAMP:20260423T143010
CREATED:20250523T082339Z
LAST-MODIFIED:20250526T092823Z
UID:11888-1748428200-1748432700@linagalvez.eu
SUMMARY:Reunión con representantes de las autoridades nacionales competentes de la Delegación del Gobierno en Andalucía (Sevilla)
DESCRIPTION:Reunión con representantes de las autoridades nacionales competentes de la Delegación del Gobierno en Andalucía en Sevilla \n\nD. Pedro Fernández Peñalver\, Delegado del Gobierno en la Comunidad Autónoma de Andalucía\n\nFuente de la imagen: wikimapia.org. En esta web se realiza un uso justo y no comercial de la imagen para la difusión del evento.
URL:https://linagalvez.eu/agenda/reunion-delegacion-gobierno-en-andalucia-mision-peti/
CATEGORIES:Actualidad,Andalucía,Parlamento
ATTACH;FMTTYPE=image/jpeg:https://linagalvez.eu/wp-content/uploads/Delegacion-gobierno-en-andalucia-plaza-espana.jpg
END:VEVENT
BEGIN:VEVENT
DTSTART;TZID=Europe/Madrid:20250528T114500
DTEND;TZID=Europe/Madrid:20250528T133000
DTSTAMP:20260423T143010
CREATED:20250523T094053Z
LAST-MODIFIED:20250526T094623Z
UID:11895-1748432700-1748439000@linagalvez.eu
SUMMARY:Visita al Alcázar de Sevilla - misión PETI
DESCRIPTION:Fuente de la imagen: Reales Alcázares de Sevilla. En esta web se realiza un uso justo y no comercial de la imagen para la difusión del evento.
URL:https://linagalvez.eu/agenda/visita-alcazar-sevilla-mision-peti/
CATEGORIES:Actualidad,Andalucía,Parlamento
ATTACH;FMTTYPE=image/jpeg:https://linagalvez.eu/wp-content/uploads/patio-de-las-doncellas-real-alcazar-de-sevilla-2.jpg
END:VEVENT
END:VCALENDAR