BEGIN:VCALENDAR
VERSION:2.0
PRODID:-//Lina Gálvez - ECPv6.15.20//NONSGML v1.0//EN
CALSCALE:GREGORIAN
METHOD:PUBLISH
X-WR-CALNAME:Lina Gálvez
X-ORIGINAL-URL:https://linagalvez.eu
X-WR-CALDESC:Eventos para Lina Gálvez
REFRESH-INTERVAL;VALUE=DURATION:PT1H
X-Robots-Tag:noindex
X-PUBLISHED-TTL:PT1H
BEGIN:VTIMEZONE
TZID:Europe/Madrid
BEGIN:DAYLIGHT
TZOFFSETFROM:+0100
TZOFFSETTO:+0200
TZNAME:CEST
DTSTART:20250330T010000
END:DAYLIGHT
BEGIN:STANDARD
TZOFFSETFROM:+0200
TZOFFSETTO:+0100
TZNAME:CET
DTSTART:20251026T010000
END:STANDARD
BEGIN:DAYLIGHT
TZOFFSETFROM:+0100
TZOFFSETTO:+0200
TZNAME:CEST
DTSTART:20260329T010000
END:DAYLIGHT
BEGIN:STANDARD
TZOFFSETFROM:+0200
TZOFFSETTO:+0100
TZNAME:CET
DTSTART:20261025T010000
END:STANDARD
BEGIN:DAYLIGHT
TZOFFSETFROM:+0100
TZOFFSETTO:+0200
TZNAME:CEST
DTSTART:20270328T010000
END:DAYLIGHT
BEGIN:STANDARD
TZOFFSETFROM:+0200
TZOFFSETTO:+0100
TZNAME:CET
DTSTART:20271031T010000
END:STANDARD
END:VTIMEZONE
BEGIN:VEVENT
DTSTART;TZID=Europe/Madrid:20260304T123000
DTEND;TZID=Europe/Madrid:20260304T133000
DTSTAMP:20260421T154216
CREATED:20260227T083947Z
LAST-MODIFIED:20260305T101134Z
UID:13750-1772627400-1772631000@linagalvez.eu
SUMMARY:Debate de alto nivel "Abordando la violencia contra las mujeres: el enfoque del Parlamento Europeo"
DESCRIPTION:Lina Gálvez intervendrá en el evento de alto nivel organizado por el Parlamento Europeo con motivo del Día Internacional de las Mujeres donde\, centrándose en el tema de la violencia contra las mujeres\, se analizarán las medidas que puede adoptar el Parlamento Europeo para proteger a su personal y a sus diputadas contra la violencia y el discurso del odio. \nIntervendrán: \n\nEwa Kopacz\, vicepresidenta del Parlamento Europeo y presidenta del Grupo de Alto Nivel sobre Igualdad de Género y Diversidad\nNicolae Ștefănuță\, vicepresidente del Parlamento Europeo y miembro del Grupo de Alto Nivel sobre Igualdad de Género y Diversidad\nLina Gálvez\, presidenta de la comisión FEMM del Parlamento Europeo\nLeticia Zuleta de Reales Ansaldo\, directora general de la DG IUST y\nSanna Lepola\, directora general de la DG PART\n\nModerará Valérie Montebello-Demogeot\, directora de Apoyo a los Recursos Humanos y Servicios Sociales de la DG PERS.
URL:https://linagalvez.eu/agenda/debate-alto-nivel-abordando-violencia-mujeres-enfoque-pe-2026-03-8m/
CATEGORIES:Actualidad,Destacado,FEMM,Parlamento
ATTACH;FMTTYPE=image/png:https://linagalvez.eu/wp-content/uploads/20260304_EP-200891A_AR2_0285-3-2.png
END:VEVENT
BEGIN:VEVENT
DTSTART;TZID=Europe/Madrid:20260305T090000
DTEND;TZID=Europe/Madrid:20260305T123000
DTSTAMP:20260421T154216
CREATED:20260227T083947Z
LAST-MODIFIED:20260302T090828Z
UID:13677-1772701200-1772713800@linagalvez.eu
SUMMARY:Reunión de FEMM con motivo del Día Internacional de las Mujeres
DESCRIPTION:Lina Gálvez presidirá la reunión del Comité Interparlamentario con motivo del Día Internacional de las Mujeres\, sobre «Los derechos de las mujeres y la democracia: lucha contra los estereotipos\, la desinformación y la violencia en la era digital». \nEl jueves 5 de marzo de 2026\, para celebrar el Día Internacional de la Mujer 2026\, la Comisión de Derechos de las Mujeres e Igualdad de Género (FEMM)\, que Gálvez preside\, en colaboración con la Dirección de Relaciones con los Parlamentos Nacionales\, organiza una reunión de la comisión interparlamentaria (ICM). \nEl evento de este año tiene como objetivo fomentar el diálogo y la reflexión crítica sobre los retos a los que se enfrentan los derechos de la mujer y los procesos democráticos en el panorama digital actual. El debate se centrará en el impacto de los estereotipos\, la desinformación y la violencia en línea\, y reunirá diversas perspectivas y conocimientos especializados. \nSe invita a representantes de alto nivel de los Estados miembros\, las instituciones de la UE\, diputadas y diputados del Parlamento Europeo y los parlamentos nacionales de la UE a debatir las diferentes formas en que las mujeres pueden contribuir a combatir las desigualdades y empoderar a las generaciones futuras. \nMás información (en inglés) aquí \nVer en streaming aquí \nFuente de la imagen: Parlamento Europeo. Evento anunciado en el que participa Lina Gálvez. En esta web se realiza un uso justo y no comercial de la imagen para la difusión del evento.
URL:https://linagalvez.eu/agenda/interparlamentaria-femm-2026-03-8m/
CATEGORIES:Actualidad,Destacado,FEMM,Parlamento
ATTACH;FMTTYPE=image/png:https://linagalvez.eu/wp-content/uploads/20260217PHT35605-ml.png
END:VEVENT
BEGIN:VEVENT
DTSTART;TZID=Europe/Madrid:20260306T090000
DTEND;TZID=Europe/Madrid:20260306T130000
DTSTAMP:20260421T154216
CREATED:20260227T083947Z
LAST-MODIFIED:20260303T123100Z
UID:13726-1772787600-1772802000@linagalvez.eu
SUMMARY:Jornada con motivo del Día Internacional de la Mujer en la Oficina del Parlamento Europeo de Madrid
DESCRIPTION:La Oficina del Parlamento Europeo de Madrid conmemora el 8 de marzo\, Día Internacional de las Mujeres\, con la Jornada «España celebra 40 años en la UE avanzando en igualdad» en la que Lina Gálvez participará\, como presidenta de la Comisión de Derechos de las Mujeres e Igualdad de Género del Parlamento Europeo\, en una mesa de debate sobre iniciativas de igualdad de género en el Parlamento Europeo. \nMás info e inscripción aquí \nFuente de la imagen: evento anunciado en el que participa Lina Gálvez. En esta web se realiza un uso justo y no comercial de la imagen para la difusión del evento.
URL:https://linagalvez.eu/agenda/jornada-8m-oficina-pe-madrid-2026/
CATEGORIES:Actualidad,FEMM,Parlamento
ATTACH;FMTTYPE=image/webp:https://linagalvez.eu/wp-content/uploads/dondeestanellas-PE-Madrid-2025-16-9.webp
END:VEVENT
BEGIN:VEVENT
DTSTART;TZID=Europe/Madrid:20260312T163000
DTEND;TZID=Europe/Madrid:20260312T174500
DTSTAMP:20260421T154216
CREATED:20260306T103647Z
LAST-MODIFIED:20260311T103507Z
UID:13855-1773333000-1773337500@linagalvez.eu
SUMMARY:Reunión de alto nivel: 5º aniversario del Grupo de Amig@s para la Eliminación de la Violencia contra las Mujeres y las Niñas. CSW70.
DESCRIPTION:Lina Gálvez asistirá al evento de alto nivel con motivo del 5º aniversario del Grupo de Amig@s para la Eliminación de la Violencia contra las Mujeres y las Niñas: «Cinco años después: consolidar los logros y garantizar un impacto duradero»\, en el marco de la CSW70. \nObjetivos del evento: \n\nDebatir\, en el contexto actual de incertidumbre y déficit de financiación\, los compromisos que pueden asumir las integrantes del Grupo de Amig@s para prevenir y responder a la violencia contra las mujeres y las niñas.\nIdentificar programas y políticas eficaces para eliminar la violencia contra las mujeres y las niñas.\nExplorar el mejor uso de los recursos limitados para maximizar el impacto.\nFortalecer el apoyo a la sociedad civil y los movimientos de mujeres y destacar las formas de mantener y restablecer una financiación adecuada\, predecible y a largo plazo para su labor.\n\n\nEl 70.º período de sesiones anual de la Comisión de la Condición Jurídica y Social de la Mujer (CSW70)\, se celebrará del 9 al 19 de marzo en la Sede de las Naciones Unidas en Nueva York. Es el mayor encuentro anual de las Naciones Unidas dedicado a la igualdad de género y los derechos de las mujeres. \nLa reunión llega en un punto de inflexión crítico. El Estado de derecho está siendo atacado. El espacio democrático se está reduciendo. Los derechos de las mujeres y niñas están retrocediendo\, pero los sistemas judiciales no las protegen. La igualdad jurídica sigue estando fuera del alcance de la mayoría de las mujeres y niñas del mundo\, que solo tienen el 64 por ciento de los derechos legales de los que disfrutan los hombres. La desigualdad jurídica tiene consecuencias largas y profundas\, que abarcan vidas\, generaciones y afectan a sociedades enteras. El tema prioritario de la CSW70\, “Garantizar y reforzar el acceso a la justicia para todas las mujeres y niñas”\, analiza lo que significa la desigualdad jurídica en la vida\, y recomienda una serie de acciones para cerrar esta brecha. \nMás información: Parlamento Europeo | ONU Mujeres – CSW70 \n 11:30 – 14:45 hora local de Nueva York \nMás información (en inglés) aquí \nFuente de la imagen: evento anunciado en el que participa Lina Gálvez. En esta web se realiza un uso justo y no comercial de la imagen para la difusión del evento.
URL:https://linagalvez.eu/agenda/reunion-alto-nivel-group-friends-elimination-vawg-csw70/
CATEGORIES:Actualidad,FEMM,Parlamento
ATTACH;FMTTYPE=image/png:https://linagalvez.eu/wp-content/uploads/260312_CSW70-GoF-on-5th-Anniversary.png
END:VEVENT
BEGIN:VEVENT
DTSTART;TZID=Europe/Madrid:20260325T103000
DTEND;TZID=Europe/Madrid:20260325T110000
DTSTAMP:20260421T154216
CREATED:20260320T102156Z
LAST-MODIFIED:20260324T133743Z
UID:13930-1774434600-1774436400@linagalvez.eu
SUMMARY:Reunión con Feminist Law Clinic (Alemania)
DESCRIPTION:Lina Gálvez se reunirá con la organización alemana Feminist Law Clinic. \n\nFeminist Law Clinic es una iniciativa queer-feminista que ofrece asesoramiento jurídico gratuito y formación a mujeres\, personas FINTA* (mujeres\, intersexuales\, no binarias\, trans y agénero) y personas queer. Empodera a las víctimas de discriminación y violencia\, al tiempo que cubre las lagunas en materia de educación jurídica mediante talleres especializados y consultas dirigidas a estudiantes y supervisadas por expertas. \nMás información (en alemán) aquí
URL:https://linagalvez.eu/agenda/reunion-feminist-law-clinic-alemania/
CATEGORIES:Actualidad,Parlamento,Universidad
ATTACH;FMTTYPE=image/jpeg:https://linagalvez.eu/wp-content/uploads/15652694953_e902ea5c26_o.jpg
END:VEVENT
END:VCALENDAR