BEGIN:VCALENDAR
VERSION:2.0
PRODID:-//Lina Gálvez - ECPv6.15.20//NONSGML v1.0//EN
CALSCALE:GREGORIAN
METHOD:PUBLISH
X-ORIGINAL-URL:https://linagalvez.eu
X-WR-CALDESC:Eventos para Lina Gálvez
REFRESH-INTERVAL;VALUE=DURATION:PT1H
X-Robots-Tag:noindex
X-PUBLISHED-TTL:PT1H
BEGIN:VTIMEZONE
TZID:Europe/Madrid
BEGIN:DAYLIGHT
TZOFFSETFROM:+0100
TZOFFSETTO:+0200
TZNAME:CEST
DTSTART:20230326T010000
END:DAYLIGHT
BEGIN:STANDARD
TZOFFSETFROM:+0200
TZOFFSETTO:+0100
TZNAME:CET
DTSTART:20231029T010000
END:STANDARD
BEGIN:DAYLIGHT
TZOFFSETFROM:+0100
TZOFFSETTO:+0200
TZNAME:CEST
DTSTART:20240331T010000
END:DAYLIGHT
BEGIN:STANDARD
TZOFFSETFROM:+0200
TZOFFSETTO:+0100
TZNAME:CET
DTSTART:20241027T010000
END:STANDARD
BEGIN:DAYLIGHT
TZOFFSETFROM:+0100
TZOFFSETTO:+0200
TZNAME:CEST
DTSTART:20250330T010000
END:DAYLIGHT
BEGIN:STANDARD
TZOFFSETFROM:+0200
TZOFFSETTO:+0100
TZNAME:CET
DTSTART:20251026T010000
END:STANDARD
END:VTIMEZONE
BEGIN:VEVENT
DTSTART;TZID=Europe/Madrid:20241010T180000
DTEND;TZID=Europe/Madrid:20241010T190000
DTSTAMP:20260424T002521
CREATED:20241007T090006Z
LAST-MODIFIED:20241007T090531Z
UID:9856-1728583200-1728586800@linagalvez.eu
SUMMARY:Acto "El futuro es rural: viendo las cosas de otra manera"
DESCRIPTION:Lina Gálvez Muñoz asistirá al acto «El futuro es rural»\, donde se llevará a cabo una conversación abierta y participativa. El evento reunirá a vecinos\, responsables políticas\, artistas y ciudadanas para explorar la relación entre las zonas urbanas y rurales\, y cómo la innovación puede surgir de los lugares menos esperados. \nMás información aquí.
URL:https://linagalvez.eu/agenda/acto-futuro-es-rural-viendo-las-cosas-de-otra-manera/
CATEGORIES:Actualidad
ATTACH;FMTTYPE=image/jpeg:https://linagalvez.eu/wp-content/uploads/2024/10/El-futuro-es-rural.jpg
END:VEVENT
END:VCALENDAR