BEGIN:VCALENDAR
VERSION:2.0
PRODID:-//Lina Gálvez - ECPv6.15.20//NONSGML v1.0//EN
CALSCALE:GREGORIAN
METHOD:PUBLISH
X-WR-CALNAME:Lina Gálvez
X-ORIGINAL-URL:https://linagalvez.eu
X-WR-CALDESC:Eventos para Lina Gálvez
REFRESH-INTERVAL;VALUE=DURATION:PT1H
X-Robots-Tag:noindex
X-PUBLISHED-TTL:PT1H
BEGIN:VTIMEZONE
TZID:Europe/Madrid
BEGIN:DAYLIGHT
TZOFFSETFROM:+0100
TZOFFSETTO:+0200
TZNAME:CEST
DTSTART:20230326T010000
END:DAYLIGHT
BEGIN:STANDARD
TZOFFSETFROM:+0200
TZOFFSETTO:+0100
TZNAME:CET
DTSTART:20231029T010000
END:STANDARD
BEGIN:DAYLIGHT
TZOFFSETFROM:+0100
TZOFFSETTO:+0200
TZNAME:CEST
DTSTART:20240331T010000
END:DAYLIGHT
BEGIN:STANDARD
TZOFFSETFROM:+0200
TZOFFSETTO:+0100
TZNAME:CET
DTSTART:20241027T010000
END:STANDARD
BEGIN:DAYLIGHT
TZOFFSETFROM:+0100
TZOFFSETTO:+0200
TZNAME:CEST
DTSTART:20250330T010000
END:DAYLIGHT
BEGIN:STANDARD
TZOFFSETFROM:+0200
TZOFFSETTO:+0100
TZNAME:CET
DTSTART:20251026T010000
END:STANDARD
END:VTIMEZONE
BEGIN:VEVENT
DTSTART;TZID=Europe/Madrid:20240423T173000
DTEND;TZID=Europe/Madrid:20240423T183000
DTSTAMP:20260423T004031
CREATED:20240409T121110Z
LAST-MODIFIED:20240422T140416Z
UID:9091-1713893400-1713897000@linagalvez.eu
SUMMARY:Programa de TVE. Igualdad
DESCRIPTION:La eurodiputada S&D Lina Gálvez será entrevistada por Carolina Pecharroman\, periodista de Televisión Española y directora del programa «Objetivo Igualdad»\, en su calidad de eurodiputada y miembro de la Comisión de Derechos de la Mujer. Discutirán el progreso y los desafíos en materia de igualdad de género durante esta novena legislatura del Parlamento Europeo y en la Unión Europea\, destacando los avances significativos en los derechos de las mujeres.
URL:https://linagalvez.eu/agenda/programa-de-tv-participacion-territorial-en-las-regiones-2/
CATEGORIES:Actualidad,FEMM,Parlamento,S&D
ATTACH;FMTTYPE=image/jpeg:https://linagalvez.eu/wp-content/uploads/2024/02/2024-02-09_LGM_Opinion-directiva-europea-VG_imagen.jpg
END:VEVENT
END:VCALENDAR