BEGIN:VCALENDAR
VERSION:2.0
PRODID:-//Lina Gálvez - ECPv6.15.20//NONSGML v1.0//EN
CALSCALE:GREGORIAN
METHOD:PUBLISH
X-WR-CALNAME:Lina Gálvez
X-ORIGINAL-URL:https://linagalvez.eu
X-WR-CALDESC:Eventos para Lina Gálvez
REFRESH-INTERVAL;VALUE=DURATION:PT1H
X-Robots-Tag:noindex
X-PUBLISHED-TTL:PT1H
BEGIN:VTIMEZONE
TZID:Europe/Madrid
BEGIN:DAYLIGHT
TZOFFSETFROM:+0100
TZOFFSETTO:+0200
TZNAME:CEST
DTSTART:20190331T010000
END:DAYLIGHT
BEGIN:STANDARD
TZOFFSETFROM:+0200
TZOFFSETTO:+0100
TZNAME:CET
DTSTART:20191027T010000
END:STANDARD
BEGIN:DAYLIGHT
TZOFFSETFROM:+0100
TZOFFSETTO:+0200
TZNAME:CEST
DTSTART:20200329T010000
END:DAYLIGHT
BEGIN:STANDARD
TZOFFSETFROM:+0200
TZOFFSETTO:+0100
TZNAME:CET
DTSTART:20201025T010000
END:STANDARD
BEGIN:DAYLIGHT
TZOFFSETFROM:+0100
TZOFFSETTO:+0200
TZNAME:CEST
DTSTART:20210328T010000
END:DAYLIGHT
BEGIN:STANDARD
TZOFFSETFROM:+0200
TZOFFSETTO:+0100
TZNAME:CET
DTSTART:20211031T010000
END:STANDARD
END:VTIMEZONE
BEGIN:VEVENT
DTSTART;TZID=Europe/Madrid:20201210T160000
DTEND;TZID=Europe/Madrid:20201210T170000
DTSTAMP:20260423T065449
CREATED:20201202T183642Z
LAST-MODIFIED:20201207T184432Z
UID:2739-1607616000-1607619600@linagalvez.eu
SUMMARY:Participación en las Jornadas "LA DESINFORMACIÓN EN TIEMPOS DE LA COVID-19"
DESCRIPTION:El problema de la desinformación ha crecido exponencialmente en los últimos años. Con la crisis actual\, la situación se ha agravado y ha llevado a la UE a intensificar sus medidas para abordar la desinformación en torno al coronavirus\, al tiempo que mantiene su protección a la libertad de expresión. \nEn este contexto\, el Grupo Socialistas y Demócratas en el Parlamento Europeo y la Universidad Carlos III de Madrid proponemos unas jornadas dedicadas a este tema\, con el título “LA DESINFORMACIÓN EN LA UE EN LOS TIEMPOS DE LA COVID-19”\, que tendrán lugar de manera telemática los próximos 10 y 11 de diciembre. \nLa idea es abordar la cuestión de la desinformación desde tres perspectivas distintas: la histórica\, la periodística y la institucional (especialmente en el ámbito comunitario). El objetivo es invitar al asistente a una reflexión profunda sobre las causas de este fenómeno y\, sobre todo\, cómo identificarlo y luchar contra él. Perseguimos\, por lo tanto\, contribuir al mantenimiento de una sociedad democrática e informada. \nMás información AQUÍ
URL:https://linagalvez.eu/agenda/participacion-en-las-jornadas-la-desinformacion-en-tiempos-de-la-covid-19/
CATEGORIES:Actualidad,Parlamento,S&D
ATTACH;FMTTYPE=image/jpeg:https://linagalvez.eu/wp-content/uploads/2020/12/CarlosIII.jpg
END:VEVENT
BEGIN:VEVENT
DTSTART;TZID=Europe/Madrid:20201217T083000
DTEND;TZID=Europe/Madrid:20201217T090000
DTSTAMP:20260423T065449
CREATED:20201202T091104Z
LAST-MODIFIED:20201214T093143Z
UID:2768-1608193800-1608195600@linagalvez.eu
SUMMARY:Participación en la jornada “Age of misinformation: an interdisciplinary outlook on fake news”\, organizado por el Centro per l’Eccellenza e gli Studi Transdisciplinari
DESCRIPTION:Age of misinformation: an interdisciplinary outlook on fake news\nA webinar with leading scholars and policymakers in a dialogue on technical\, cognitive and regulatory aspects of the fake news phenomenon.\nZoom Webinar\n\n\nWith the spread of web 2.0 and digital technologies\, the divide between producers and consumers – of culture\, of science\, of news – has become more and more blurred. Building on the frameworks of Culture 3.0 and Post-Normal Science\, in which the relation between the public and the experts is characterised by growing complexity\, the conference “Age of Misinformation” will bring together leading scholars from different fields and policy makers to offer a transdisciplinary perspective in a Europe-wide debate on the phenomenon of fake news. \nThe webinar will take place on Zoom. Pre-registration is required.
URL:https://linagalvez.eu/agenda/participacion-en-la-jornada-age-of-misinformation-an-interdisciplinary-outlook-on-fake-news-organizado-por-el-centro-per-leccellenza-e-gli-studi-transdisciplinari/
CATEGORIES:Actualidad,ITRE,Parlamento
ATTACH;FMTTYPE=image/jpeg:https://linagalvez.eu/wp-content/uploads/2020/12/Desinformación..jpg
END:VEVENT
END:VCALENDAR