BEGIN:VCALENDAR
VERSION:2.0
PRODID:-//Lina Gálvez - ECPv6.15.20//NONSGML v1.0//EN
CALSCALE:GREGORIAN
METHOD:PUBLISH
X-ORIGINAL-URL:https://linagalvez.eu
X-WR-CALDESC:Eventos para Lina Gálvez
REFRESH-INTERVAL;VALUE=DURATION:PT1H
X-Robots-Tag:noindex
X-PUBLISHED-TTL:PT1H
BEGIN:VTIMEZONE
TZID:Europe/Madrid
BEGIN:DAYLIGHT
TZOFFSETFROM:+0100
TZOFFSETTO:+0200
TZNAME:CEST
DTSTART:20250330T010000
END:DAYLIGHT
BEGIN:STANDARD
TZOFFSETFROM:+0200
TZOFFSETTO:+0100
TZNAME:CET
DTSTART:20251026T010000
END:STANDARD
BEGIN:DAYLIGHT
TZOFFSETFROM:+0100
TZOFFSETTO:+0200
TZNAME:CEST
DTSTART:20260329T010000
END:DAYLIGHT
BEGIN:STANDARD
TZOFFSETFROM:+0200
TZOFFSETTO:+0100
TZNAME:CET
DTSTART:20261025T010000
END:STANDARD
BEGIN:DAYLIGHT
TZOFFSETFROM:+0100
TZOFFSETTO:+0200
TZNAME:CEST
DTSTART:20270328T010000
END:DAYLIGHT
BEGIN:STANDARD
TZOFFSETFROM:+0200
TZOFFSETTO:+0100
TZNAME:CET
DTSTART:20271031T010000
END:STANDARD
END:VTIMEZONE
BEGIN:VEVENT
DTSTART;TZID=Europe/Madrid:20260317T103000
DTEND;TZID=Europe/Madrid:20260317T114500
DTSTAMP:20260421T043634
CREATED:20260312T083947Z
LAST-MODIFIED:20260316T132725Z
UID:13862-1773743400-1773747900@linagalvez.eu
SUMMARY:Reunión del S&D de ITRE profesor Philippe Aghion\, laureado con el Premio Nobel de Ciencias Económicas
DESCRIPTION:Lina Gálvez participará en la reunión del grupo S&D de la Comisión de Industria\, Investigación y Energía (ITRE) para intercambiar puntos de vista\, con el profesor Philippe Aghion\, laureado con el Premio Nobel de Ciencias Económicas.
URL:https://linagalvez.eu/agenda/sd-itre-working-group-meeting-26-03-nobel-economia/
CATEGORIES:Actualidad,ITRE,Parlamento,S&D
ATTACH;FMTTYPE=image/jpeg:https://linagalvez.eu/wp-content/uploads/2025_01-Lina-ITRE.jpg
END:VEVENT
END:VCALENDAR