BEGIN:VCALENDAR
VERSION:2.0
PRODID:-//Lina Gálvez - ECPv6.15.20//NONSGML v1.0//EN
CALSCALE:GREGORIAN
METHOD:PUBLISH
X-WR-CALNAME:Lina Gálvez
X-ORIGINAL-URL:https://linagalvez.eu
X-WR-CALDESC:Eventos para Lina Gálvez
REFRESH-INTERVAL;VALUE=DURATION:PT1H
X-Robots-Tag:noindex
X-PUBLISHED-TTL:PT1H
BEGIN:VTIMEZONE
TZID:Europe/Madrid
BEGIN:DAYLIGHT
TZOFFSETFROM:+0100
TZOFFSETTO:+0200
TZNAME:CEST
DTSTART:20240331T010000
END:DAYLIGHT
BEGIN:STANDARD
TZOFFSETFROM:+0200
TZOFFSETTO:+0100
TZNAME:CET
DTSTART:20241027T010000
END:STANDARD
BEGIN:DAYLIGHT
TZOFFSETFROM:+0100
TZOFFSETTO:+0200
TZNAME:CEST
DTSTART:20250330T010000
END:DAYLIGHT
BEGIN:STANDARD
TZOFFSETFROM:+0200
TZOFFSETTO:+0100
TZNAME:CET
DTSTART:20251026T010000
END:STANDARD
BEGIN:DAYLIGHT
TZOFFSETFROM:+0100
TZOFFSETTO:+0200
TZNAME:CEST
DTSTART:20260329T010000
END:DAYLIGHT
BEGIN:STANDARD
TZOFFSETFROM:+0200
TZOFFSETTO:+0100
TZNAME:CET
DTSTART:20261025T010000
END:STANDARD
END:VTIMEZONE
BEGIN:VEVENT
DTSTART;TZID=Europe/Madrid:20250325T120000
DTEND;TZID=Europe/Madrid:20250325T123000
DTSTAMP:20260423T171935
CREATED:20250323T191614Z
LAST-MODIFIED:20250323T191614Z
UID:11343-1742904000-1742905800@linagalvez.eu
SUMMARY:Reunión con Asociación Internacional de Editoriales Científicas\, Técnicas y Médicas (STM)
DESCRIPTION:Lina Gálvez se reunirá\, como miembro de ITRE\, con STM\, la asociación comercial global que representa a las principales editoriales académicas del mundo\, así como a las organizaciones que brindan servicios y apoyo dentro del ecosistema de publicaciones académicas.
URL:https://linagalvez.eu/agenda/reunion-asociacion-internacional-de-editoriales-cientificas-tecnicas-medicas-stm/
CATEGORIES:Actualidad,ITRE,Parlamento
ATTACH;FMTTYPE=image/jpeg:https://linagalvez.eu/wp-content/uploads/2021/09/newspapers-3488861-scaled.jpg
END:VEVENT
END:VCALENDAR