BEGIN:VCALENDAR
VERSION:2.0
PRODID:-//Lina Gálvez - ECPv6.15.20//NONSGML v1.0//EN
CALSCALE:GREGORIAN
METHOD:PUBLISH
X-WR-CALNAME:Lina Gálvez
X-ORIGINAL-URL:https://linagalvez.eu
X-WR-CALDESC:Eventos para Lina Gálvez
REFRESH-INTERVAL;VALUE=DURATION:PT1H
X-Robots-Tag:noindex
X-PUBLISHED-TTL:PT1H
BEGIN:VTIMEZONE
TZID:Europe/Madrid
BEGIN:DAYLIGHT
TZOFFSETFROM:+0100
TZOFFSETTO:+0200
TZNAME:CEST
DTSTART:20240331T010000
END:DAYLIGHT
BEGIN:STANDARD
TZOFFSETFROM:+0200
TZOFFSETTO:+0100
TZNAME:CET
DTSTART:20241027T010000
END:STANDARD
BEGIN:DAYLIGHT
TZOFFSETFROM:+0100
TZOFFSETTO:+0200
TZNAME:CEST
DTSTART:20250330T010000
END:DAYLIGHT
BEGIN:STANDARD
TZOFFSETFROM:+0200
TZOFFSETTO:+0100
TZNAME:CET
DTSTART:20251026T010000
END:STANDARD
BEGIN:DAYLIGHT
TZOFFSETFROM:+0100
TZOFFSETTO:+0200
TZNAME:CEST
DTSTART:20260329T010000
END:DAYLIGHT
BEGIN:STANDARD
TZOFFSETFROM:+0200
TZOFFSETTO:+0100
TZNAME:CET
DTSTART:20261025T010000
END:STANDARD
END:VTIMEZONE
BEGIN:VEVENT
DTSTART;TZID=Europe/Madrid:20250326T134500
DTEND;TZID=Europe/Madrid:20250326T144500
DTSTAMP:20260421T042920
CREATED:20250321T121048Z
LAST-MODIFIED:20250324T111321Z
UID:11355-1742996700-1743000300@linagalvez.eu
SUMMARY:Debate 'Europa Decide' conocimiento\, ciencia e I+D+i
DESCRIPTION:Lina gálvez participará en el programa ‘Europa Decide’ de CANAL EUROPA para hablar sobre la brecha de la Unión Europea en conocimiento\, ciencia e I+D+i en comparación con China y Estados Unidos. \nCanal Europa es un canal de información y opinión sobre la actualidad de las Instituciones Europeas para hispanohablantes.
URL:https://linagalvez.eu/agenda/debate-europa-decide-conocimiento-ciencia-idi/
CATEGORIES:Actualidad,ITRE,Parlamento,STOA
ATTACH;FMTTYPE=image/jpeg:https://linagalvez.eu/wp-content/uploads/2022/04/Sevilla_ciudades-inteligentes.jpg
END:VEVENT
BEGIN:VEVENT
DTSTART;TZID=Europe/Madrid:20250327T093000
DTEND;TZID=Europe/Madrid:20250327T110000
DTSTAMP:20260421T042920
CREATED:20250321T090953Z
LAST-MODIFIED:20250324T112136Z
UID:11359-1743067800-1743073200@linagalvez.eu
SUMMARY:Evento por el Día Internacional de las Mujeres de la AmCham EU
DESCRIPTION:Lina Gálvez participará en el evento en conmemoración del Día Internacional de las Mujeres organizado por el Grupo de Trabajo sobre Diversidad\, Equidad e Inclusión (DE&I) de la Cámara de Comercio Americana ante la UE (AmCham EU). Dicho evento se centrará en el tema de las Mujeres en el Liderazgo.
URL:https://linagalvez.eu/agenda/evento-iwd2025-american-chamber-commerce-amcham-eu/
CATEGORIES:Actualidad,D-US,FEMM,Parlamento
ATTACH;FMTTYPE=image/webp:https://linagalvez.eu/wp-content/uploads/2024/10/amcham-EU-16-9.webp
END:VEVENT
END:VCALENDAR