BEGIN:VCALENDAR
VERSION:2.0
PRODID:-//Lina Gálvez - ECPv6.15.20//NONSGML v1.0//EN
CALSCALE:GREGORIAN
METHOD:PUBLISH
X-ORIGINAL-URL:https://linagalvez.eu
X-WR-CALDESC:Eventos para Lina Gálvez
REFRESH-INTERVAL;VALUE=DURATION:PT1H
X-Robots-Tag:noindex
X-PUBLISHED-TTL:PT1H
BEGIN:VTIMEZONE
TZID:Europe/Madrid
BEGIN:DAYLIGHT
TZOFFSETFROM:+0100
TZOFFSETTO:+0200
TZNAME:CEST
DTSTART:20240331T010000
END:DAYLIGHT
BEGIN:STANDARD
TZOFFSETFROM:+0200
TZOFFSETTO:+0100
TZNAME:CET
DTSTART:20241027T010000
END:STANDARD
BEGIN:DAYLIGHT
TZOFFSETFROM:+0100
TZOFFSETTO:+0200
TZNAME:CEST
DTSTART:20250330T010000
END:DAYLIGHT
BEGIN:STANDARD
TZOFFSETFROM:+0200
TZOFFSETTO:+0100
TZNAME:CET
DTSTART:20251026T010000
END:STANDARD
BEGIN:DAYLIGHT
TZOFFSETFROM:+0100
TZOFFSETTO:+0200
TZNAME:CEST
DTSTART:20260329T010000
END:DAYLIGHT
BEGIN:STANDARD
TZOFFSETFROM:+0200
TZOFFSETTO:+0100
TZNAME:CET
DTSTART:20261025T010000
END:STANDARD
END:VTIMEZONE
BEGIN:VEVENT
DTSTART;TZID=Europe/Madrid:20250402T174500
DTEND;TZID=Europe/Madrid:20250402T181500
DTSTAMP:20260421T062813
CREATED:20250327T083947Z
LAST-MODIFIED:20250331T091537Z
UID:11414-1743615900-1743617700@linagalvez.eu
SUMMARY:S&D DROI+INTA+D-US Working Group meeting
DESCRIPTION:Reunión del grupo S&D de la Subcomisión de Derechos Humanos (DROI) en la que llevarán a cabo un intercambio de opiniones con la Comisión de Comercio Internacional (INTA) y la Delegación para las Relaciones con los Estados Unidos (D-US) del Parlamento Europeo\, de las que Lina Gálvez es miembro.
URL:https://linagalvez.eu/agenda/sd-droi-inta-d-us-working-group-meeting-25-04/
CATEGORIES:Actualidad,D-US,INTA,Parlamento,S&D
ATTACH;FMTTYPE=image/png:https://linagalvez.eu/wp-content/uploads/Comisiones-PE.png
END:VEVENT
BEGIN:VEVENT
DTSTART;TZID=Europe/Madrid:20250407T160000
DTEND;TZID=Europe/Madrid:20250407T173000
DTSTAMP:20260421T062813
CREATED:20250404T141627Z
LAST-MODIFIED:20250407T091316Z
UID:11492-1744041600-1744047000@linagalvez.eu
SUMMARY:Reunión de la Delegación de Estados Unidos en el Parlamento Europeo (D-US)
DESCRIPTION:Lina Gálvez asistirá a la reunión de la Delegación para las Relaciones con los Estados Unidos (D-US)\, de la que forma parte\, en la que se llevará a cabo un intercambio de opiniones sobre los últimos avances en las relaciones entre la UE y EE.UU.
URL:https://linagalvez.eu/agenda/reunion-d-usa-2504/
CATEGORIES:Actualidad,D-US,Parlamento
ATTACH;FMTTYPE=image/jpeg:https://linagalvez.eu/wp-content/uploads/banderas-eu-es-cruzadas_img_77744_pca-freepik.jpg
END:VEVENT
BEGIN:VEVENT
DTSTART;VALUE=DATE:20250423
DTEND;VALUE=DATE:20250425
DTSTAMP:20260421T062813
CREATED:20250416T121627Z
LAST-MODIFIED:20250416T123706Z
UID:11573-1745366400-1745539199@linagalvez.eu
SUMMARY:Participación en el Progressive Economics Network 2025 en Washington DC
DESCRIPTION:Lina Gálvez\, vicepresidenta de FEPS\, participará en la reunión sobre «Comercio\, confianza y transición – Dando forma al próximo capítulo transatlántico» de la Red de Economía Progresista (PEN\, por sus siglas en inglés) en Washington\, D.C.\, organizada en el Center for American Progress (CAP). Los debates se centrarán en el comercio\, las cambiantes relaciones entre Estados Unidos y la Unión Europea y las alianzas estratégicas para la sostenibilidad. Concretamente\, Lina Gálvez intervendrá como ponente en la sesión “Geoeconomía de la sostenibilidad: formación de alianzas estratégicas”. \nLina Gálvez\, vicepresidenta de FEPS\, participará en la reunión «Comercio\, confianza y transición – Dando forma al próximo capítulo transatlántico» de la Red de Economía Progresista (PEN\, por sus siglas en inglés) en Washington\, D.C.\, organizada en el Center for American Progress (CAP). Los debates se centrarán en el comercio\, las cambiantes relaciones entre Estados Unidos y la Unión Europea y las alianzas estratégicas para la sostenibilidad. Concretamente\, Lina Gálvez intervendrá como ponente en la sesión “Geoeconomía de la sostenibilidad: formación de alianzas estratégicas”. \nLa eurodiputada Lina Gálvez asistirá al encuentro Progressive Economics Network de la Foundation for European Progresssive Studies\, organizado en Washington cuyo objetivo es reunir a algunos de los principales asesores económicos\, analistas y responsables de la formulación de políticas para elaborar estrategias\, intercambiar buenas practicas. \nMás información sobre el encuentro en Progressive Economics Network
URL:https://linagalvez.eu/agenda/progressive-economics-network-2025-washington/
CATEGORIES:Actualidad,Autonomía estratégica,D-US,Destacado,FEPS,INTA,Parlamento
ATTACH;FMTTYPE=image/png:https://linagalvez.eu/wp-content/uploads/FEPS.png
END:VEVENT
END:VCALENDAR