BEGIN:VCALENDAR
VERSION:2.0
PRODID:-//Lina Gálvez - ECPv6.15.20//NONSGML v1.0//EN
CALSCALE:GREGORIAN
METHOD:PUBLISH
X-WR-CALNAME:Lina Gálvez
X-ORIGINAL-URL:https://linagalvez.eu
X-WR-CALDESC:Eventos para Lina Gálvez
REFRESH-INTERVAL;VALUE=DURATION:PT1H
X-Robots-Tag:noindex
X-PUBLISHED-TTL:PT1H
BEGIN:VTIMEZONE
TZID:Europe/Madrid
BEGIN:DAYLIGHT
TZOFFSETFROM:+0100
TZOFFSETTO:+0200
TZNAME:CEST
DTSTART:20250330T010000
END:DAYLIGHT
BEGIN:STANDARD
TZOFFSETFROM:+0200
TZOFFSETTO:+0100
TZNAME:CET
DTSTART:20251026T010000
END:STANDARD
BEGIN:DAYLIGHT
TZOFFSETFROM:+0100
TZOFFSETTO:+0200
TZNAME:CEST
DTSTART:20260329T010000
END:DAYLIGHT
BEGIN:STANDARD
TZOFFSETFROM:+0200
TZOFFSETTO:+0100
TZNAME:CET
DTSTART:20261025T010000
END:STANDARD
BEGIN:DAYLIGHT
TZOFFSETFROM:+0100
TZOFFSETTO:+0200
TZNAME:CEST
DTSTART:20270328T010000
END:DAYLIGHT
BEGIN:STANDARD
TZOFFSETFROM:+0200
TZOFFSETTO:+0100
TZNAME:CET
DTSTART:20271031T010000
END:STANDARD
END:VTIMEZONE
BEGIN:VEVENT
DTSTART;TZID=Europe/Madrid:20260304T090000
DTEND;TZID=Europe/Madrid:20260304T133000
DTSTAMP:20260421T125623
CREATED:20260227T113920Z
LAST-MODIFIED:20260303T121208Z
UID:13681-1772614800-1772631000@linagalvez.eu
SUMMARY:Conversación por el Día Internacional de las Mujeres de The Parliament Magazine
DESCRIPTION:Lina Gálvez participará en el evento en formato charla organizado por The Parliament Magazine en el especial del Día Internacional de las Mujeres\, donde distintas eurodiputadas debatirán sobre la prioridad de la salud de las mujeres. \n\nEn el Día Internacional de la Mujer en Bruselas\, responsables políticas\, expertas y partes interesadas afrontarán una realidad crítica: la salud de las mujeres en Europa sigue sin ser una prioridad\, con diferencias persistentes en el acceso\, la investigación y la implementación de políticas. \nDesde la menopausia y la salud mental materna hasta la neurología y la oncología\, las desigualdades estructurales siguen determinando los resultados\, con consecuencias económicas y sociales tangibles. \nLas líneas de falla son claras\, y la cuestión ya no es si es necesario actuar\, sino si la voluntad política podrá finalmente estar a la altura de la urgencia. \n\nEn concreto\, la Eurodiputada Gálvez intervendrá en la sesión: «La menopausia importa: configurando políticas\, trabajo y bienestar«\, en la que se abordarán las cuestiones: \n\n¿Cómo puede la Estrategia de la UE para la salud de la mujer apoyar la atención a la menopausia y qué mecanismos de financiación se pueden aprovechar para garantizar un acceso equitativo en todos los Estados miembros?\n¿Qué repercusiones económicas tiene en la UE la pérdida de mano de obra relacionada con la menopausia y cómo pueden las políticas mitigar estos efectos?\n¿Cómo pueden las instituciones de la UE incentivar a los sectores público y privado para que apliquen políticas laborales que apoyen a las mujeres que atraviesan la menopausia?\n\nMás información (en inglés) aquí \nFuente de la imagen: evento anunciado en el que participa Lina Gálvez. En esta web se realiza un uso justo y no comercial de la imagen para la difusión del evento.
URL:https://linagalvez.eu/agenda/charla-parliament-magazine-2026-03-8m/
CATEGORIES:Actualidad,Destacado,FEMM,Parlamento
ATTACH;FMTTYPE=image/webp:https://linagalvez.eu/wp-content/uploads/IWD-NWV-2026-1130x650-1.webp
END:VEVENT
END:VCALENDAR