BEGIN:VCALENDAR
VERSION:2.0
PRODID:-//Lina Gálvez - ECPv6.15.20//NONSGML v1.0//EN
CALSCALE:GREGORIAN
METHOD:PUBLISH
X-ORIGINAL-URL:https://linagalvez.eu
X-WR-CALDESC:Eventos para Lina Gálvez
REFRESH-INTERVAL;VALUE=DURATION:PT1H
X-Robots-Tag:noindex
X-PUBLISHED-TTL:PT1H
BEGIN:VTIMEZONE
TZID:Europe/Madrid
BEGIN:DAYLIGHT
TZOFFSETFROM:+0100
TZOFFSETTO:+0200
TZNAME:CEST
DTSTART:20250330T010000
END:DAYLIGHT
BEGIN:STANDARD
TZOFFSETFROM:+0200
TZOFFSETTO:+0100
TZNAME:CET
DTSTART:20251026T010000
END:STANDARD
BEGIN:DAYLIGHT
TZOFFSETFROM:+0100
TZOFFSETTO:+0200
TZNAME:CEST
DTSTART:20260329T010000
END:DAYLIGHT
BEGIN:STANDARD
TZOFFSETFROM:+0200
TZOFFSETTO:+0100
TZNAME:CET
DTSTART:20261025T010000
END:STANDARD
BEGIN:DAYLIGHT
TZOFFSETFROM:+0100
TZOFFSETTO:+0200
TZNAME:CEST
DTSTART:20270328T010000
END:DAYLIGHT
BEGIN:STANDARD
TZOFFSETFROM:+0200
TZOFFSETTO:+0100
TZNAME:CET
DTSTART:20271031T010000
END:STANDARD
END:VTIMEZONE
BEGIN:VEVENT
DTSTART;TZID=Europe/Madrid:20260302T163000
DTEND;TZID=Europe/Madrid:20260302T170000
DTSTAMP:20260421T151051
CREATED:20260227T103647Z
LAST-MODIFIED:20260303T103445Z
UID:13695-1772469000-1772470800@linagalvez.eu
SUMMARY:Entrevista a Lina Gálvez para La Vanguardia por el Día Internacional de las Mujeres
DESCRIPTION:Lina Gálvez\, presidenta de la Comisión de Derechos de las Mujeres e Igualdad de Género (FEMM) del Parlamento Europeo\, será entrevistada por La Vanguardia\, para analizar los avances en igualdad en la UE\, la brecha de inversión de género y los retos ante los movimientos anti-género; con motivo del Día Internacional de las Mujeres\, que se conmemora el próximo 8 de marzo de 2026.
URL:https://linagalvez.eu/agenda/entrevista-vanguardia-iwd-2026-8m/
CATEGORIES:Actualidad,FEMM,Parlamento,S&D
ATTACH;FMTTYPE=image/jpeg:https://linagalvez.eu/wp-content/uploads/2023/01/hq720.jpg
END:VEVENT
BEGIN:VEVENT
DTSTART;TZID=Europe/Madrid:20260304T110000
DTEND;TZID=Europe/Madrid:20260304T113000
DTSTAMP:20260421T151051
CREATED:20260227T103647Z
LAST-MODIFIED:20260303T121430Z
UID:13723-1772622000-1772623800@linagalvez.eu
SUMMARY:Entrevista a Lina Gálvez para la Agencia EFE. Especial 8M Día Internacional de las Mujeres.
DESCRIPTION:Lina Gálvez\, presidenta de la Comisión de Derechos de las Mujeres e Igualdad de Género (FEMM) del Parlamento Europeo\, será entrevistada por La Vanguardia\, para analizar los avances en igualdad en la UE\, la brecha de inversión de género y los retos ante los movimientos anti-género; con motivo del Día Internacional de las Mujeres\, que se conmemora el próximo 8 de marzo de 2026.
URL:https://linagalvez.eu/agenda/entrevista-agencia-efe-iwd-2026-8m/
CATEGORIES:Actualidad,FEMM,Parlamento,S&D
ATTACH;FMTTYPE=image/jpeg:https://linagalvez.eu/wp-content/uploads/2023/01/hq720.jpg
END:VEVENT
BEGIN:VEVENT
DTSTART;TZID=Europe/Madrid:20260306T140000
DTEND;TZID=Europe/Madrid:20260306T143000
DTSTAMP:20260421T151051
CREATED:20260227T135702Z
LAST-MODIFIED:20260303T124003Z
UID:13728-1772805600-1772807400@linagalvez.eu
SUMMARY:Lina Gálvez: entrevista en el programa "Europa Abierta" de Radio 5 (RNE)
DESCRIPTION:El próximo viernes\, 6 de marzo\, la eurodiputada socialista Lina Gálvez y presidenta de la comisión de igualdad y derechos de las mujeres del Parlamento Europeo será entrevistada en el programa «Europa Abierta» de Radio 5\, Radio Nacional de España (RNE)\, con motivo del Día Internacional de las Mujeres. \n\nDónde seguirlo: Puedes escuchar la entrevista a través del siguiente enlace: RNE Radio 5
URL:https://linagalvez.eu/agenda/lina-galvez-entrevista-programa-europa-abierta-radio-5-rne-8m-2026/
CATEGORIES:Actualidad,FEMM,Parlamento
ATTACH;FMTTYPE=image/jpeg:https://linagalvez.eu/wp-content/uploads/rne-micros.jpg
END:VEVENT
END:VCALENDAR