BEGIN:VCALENDAR
VERSION:2.0
PRODID:-//Lina Gálvez - ECPv6.15.20//NONSGML v1.0//EN
CALSCALE:GREGORIAN
METHOD:PUBLISH
X-ORIGINAL-URL:https://linagalvez.eu
X-WR-CALDESC:Eventos para Lina Gálvez
REFRESH-INTERVAL;VALUE=DURATION:PT1H
X-Robots-Tag:noindex
X-PUBLISHED-TTL:PT1H
BEGIN:VTIMEZONE
TZID:Europe/Madrid
BEGIN:DAYLIGHT
TZOFFSETFROM:+0100
TZOFFSETTO:+0200
TZNAME:CEST
DTSTART:20240331T010000
END:DAYLIGHT
BEGIN:STANDARD
TZOFFSETFROM:+0200
TZOFFSETTO:+0100
TZNAME:CET
DTSTART:20241027T010000
END:STANDARD
BEGIN:DAYLIGHT
TZOFFSETFROM:+0100
TZOFFSETTO:+0200
TZNAME:CEST
DTSTART:20250330T010000
END:DAYLIGHT
BEGIN:STANDARD
TZOFFSETFROM:+0200
TZOFFSETTO:+0100
TZNAME:CET
DTSTART:20251026T010000
END:STANDARD
BEGIN:DAYLIGHT
TZOFFSETFROM:+0100
TZOFFSETTO:+0200
TZNAME:CEST
DTSTART:20260329T010000
END:DAYLIGHT
BEGIN:STANDARD
TZOFFSETFROM:+0200
TZOFFSETTO:+0100
TZNAME:CET
DTSTART:20261025T010000
END:STANDARD
END:VTIMEZONE
BEGIN:VEVENT
DTSTART;TZID=Europe/Madrid:20251104T200000
DTEND;TZID=Europe/Madrid:20251104T210000
DTSTAMP:20260423T105707
CREATED:20251031T083947Z
LAST-MODIFIED:20251103T123650Z
UID:12798-1762286400-1762290000@linagalvez.eu
SUMMARY:Reunión de la DSE con el ministro para la Transformación Digital y de la Función Pública de España
DESCRIPTION:Lina Gálvez participará en la reunión de la Delegación Socialista Española con Óscar López\, ministro para la Transformación Digital y de la Función Pública del Gobierno de España\, en calidad de secretaria general adjunta.
URL:https://linagalvez.eu/agenda/sd-reunion-delegacion-socialista-espanola-dse-25-11/
CATEGORIES:Actualidad,Parlamento,S&D
ATTACH;FMTTYPE=image/jpeg:https://linagalvez.eu/wp-content/uploads/DSE-Delegacion-Socialista-Espanola-10legislatura-en-PE.jpeg
END:VEVENT
BEGIN:VEVENT
DTSTART;TZID=Europe/Madrid:20251106T111500
DTEND;TZID=Europe/Madrid:20251106T120000
DTSTAMP:20260423T105707
CREATED:20251031T083947Z
LAST-MODIFIED:20251104T091346Z
UID:12828-1762427700-1762430400@linagalvez.eu
SUMMARY:Reunión de la DSE con el ministro de Asuntos Exteriores\, Unión Europea y Cooperación de España
DESCRIPTION:Lina Gálvez participará en la reunión de la Delegación Socialista Española con José Manuel Albares\, ministro de Asuntos Exteriores\, Unión Europea y Cooperación del Gobierno de España\, en calidad de secretaria general adjunta de la DSE.
URL:https://linagalvez.eu/agenda/sd-reunion-delegacion-socialista-espanola-dse-25-11-2/
CATEGORIES:Actualidad,Parlamento,S&D
ATTACH;FMTTYPE=image/jpeg:https://linagalvez.eu/wp-content/uploads/2024/07/GP-Socialista-X-Legislatura.jpeg
END:VEVENT
BEGIN:VEVENT
DTSTART;TZID=Europe/Madrid:20251111T080000
DTEND;TZID=Europe/Madrid:20251111T090000
DTSTAMP:20260423T105707
CREATED:20251107T083947Z
LAST-MODIFIED:20251110T120618Z
UID:12859-1762848000-1762851600@linagalvez.eu
SUMMARY:Desayuno de trabajo con José Ramón Gómez Besteiro\, Secretario General del PSdeG
DESCRIPTION:Lina Gálvez se reunirá con José Ramón Gómez Besteiro\, Secretario General del Partido Socialista de Galicia.
URL:https://linagalvez.eu/agenda/sd-reunion-secretario-general-psdeg-25-11/
CATEGORIES:Actualidad,S&D
ATTACH;FMTTYPE=image/png:https://linagalvez.eu/wp-content/uploads/territorial-PSOE-1400x475_16-9.png
END:VEVENT
BEGIN:VEVENT
DTSTART;TZID=Europe/Madrid:20251112T080000
DTEND;TZID=Europe/Madrid:20251112T090000
DTSTAMP:20260423T105707
CREATED:20251107T083947Z
LAST-MODIFIED:20251110T120826Z
UID:12862-1762934400-1762938000@linagalvez.eu
SUMMARY:Desayuno de trabajo con Eneko Andueza\, Secretario General del PSE-EE
DESCRIPTION:Lina Gálvez se reunirá con Eneko Andueza\, Secretario General del Partido Socialista de Euskadi.
URL:https://linagalvez.eu/agenda/sd-reunion-secretario-general-pseee-25-11/
CATEGORIES:Actualidad,S&D
ATTACH;FMTTYPE=image/png:https://linagalvez.eu/wp-content/uploads/territorial-PSOE-1400x475_16-9.png
END:VEVENT
BEGIN:VEVENT
DTSTART;TZID=Europe/Madrid:20251113T093000
DTEND;TZID=Europe/Madrid:20251113T103000
DTSTAMP:20260423T105707
CREATED:20251107T083947Z
LAST-MODIFIED:20251110T125501Z
UID:12875-1763026200-1763029800@linagalvez.eu
SUMMARY:Reunión de trabajo con Aina Calvo Sastre\, Secretaria de Estado de Seguridad del Gobierno de España
DESCRIPTION:Lina Gálvez participará en la reunión de trabajo con Aina Calvo Sastre\, Secretaria de Estado de Seguridad del Gobierno de España.
URL:https://linagalvez.eu/agenda/reunion-trabajo-con-aina-calvo-sastre-secretaria-estado-seguridad-espana/
CATEGORIES:Actualidad,Parlamento,S&D
ATTACH;FMTTYPE=image/jpeg:https://linagalvez.eu/wp-content/uploads/16968052800_00249ab0fa_o-scaled.jpg
END:VEVENT
BEGIN:VEVENT
DTSTART;TZID=Europe/Madrid:20251119T093000
DTEND;TZID=Europe/Madrid:20251119T100000
DTSTAMP:20260423T105707
CREATED:20251114T083947Z
LAST-MODIFIED:20251118T112147Z
UID:12953-1763544600-1763546400@linagalvez.eu
SUMMARY:Vistita Partido Socialista de la region de Murcia
DESCRIPTION:
URL:https://linagalvez.eu/agenda/vistita-partido-socialista-murcia-25-11/
CATEGORIES:Actualidad,S&D
ATTACH;FMTTYPE=image/png:https://linagalvez.eu/wp-content/uploads/territorial-PSOE-1400x475_16-9.png
END:VEVENT
BEGIN:VEVENT
DTSTART;TZID=Europe/Madrid:20251120T150000
DTEND;TZID=Europe/Madrid:20251120T170000
DTSTAMP:20260423T105707
CREATED:20251114T102113Z
LAST-MODIFIED:20251121T112642Z
UID:12985-1763650800-1763658000@linagalvez.eu
SUMMARY:Presentación estudio PIMEC: evaluación del impacto de género de los fondos Next Generation
DESCRIPTION:La eurodiputada Lina Gálvez hará de anfitriona del acto de presentación de investigaciones sobre el valor económico de la contribución de las mujeres a la economía española y la evaluación del impacto de género de los fondos Next Generation. \nEl objetivo del evento es difundir los resultados y proponer herramientas y estrategias para reducir la brecha de género en los negocios e impulsar la inclusión económica en la UE. \nMás información y registro (en inglés) aquí \nVer en streaming aquí \nFuente de la imagen: Parlamento Europeo. Evento anunciado en el que participa Lina Gálvez. En esta web se realiza un uso justo y no comercial de la imagen para la difusión del evento.
URL:https://linagalvez.eu/agenda/presentacion-estudio-pimec-evaluacion-del-impacto-genero-next-generation-2025-11/
CATEGORIES:Actualidad,Destacado,FEMM,Parlamento
ATTACH;FMTTYPE=image/jpeg:https://linagalvez.eu/wp-content/uploads/b8b913271bddc88db1556faa75a80799.jpg
END:VEVENT
END:VCALENDAR