BEGIN:VCALENDAR
VERSION:2.0
PRODID:-//Lina Gálvez - ECPv6.15.20//NONSGML v1.0//EN
CALSCALE:GREGORIAN
METHOD:PUBLISH
X-WR-CALNAME:Lina Gálvez
X-ORIGINAL-URL:https://linagalvez.eu
X-WR-CALDESC:Eventos para Lina Gálvez
REFRESH-INTERVAL;VALUE=DURATION:PT1H
X-Robots-Tag:noindex
X-PUBLISHED-TTL:PT1H
BEGIN:VTIMEZONE
TZID:Europe/Madrid
BEGIN:DAYLIGHT
TZOFFSETFROM:+0100
TZOFFSETTO:+0200
TZNAME:CEST
DTSTART:20240331T010000
END:DAYLIGHT
BEGIN:STANDARD
TZOFFSETFROM:+0200
TZOFFSETTO:+0100
TZNAME:CET
DTSTART:20241027T010000
END:STANDARD
BEGIN:DAYLIGHT
TZOFFSETFROM:+0100
TZOFFSETTO:+0200
TZNAME:CEST
DTSTART:20250330T010000
END:DAYLIGHT
BEGIN:STANDARD
TZOFFSETFROM:+0200
TZOFFSETTO:+0100
TZNAME:CET
DTSTART:20251026T010000
END:STANDARD
BEGIN:DAYLIGHT
TZOFFSETFROM:+0100
TZOFFSETTO:+0200
TZNAME:CEST
DTSTART:20260329T010000
END:DAYLIGHT
BEGIN:STANDARD
TZOFFSETFROM:+0200
TZOFFSETTO:+0100
TZNAME:CET
DTSTART:20261025T010000
END:STANDARD
END:VTIMEZONE
BEGIN:VEVENT
DTSTART;TZID=Europe/Madrid:20250617T090000
DTEND;TZID=Europe/Madrid:20250617T094500
DTSTAMP:20260425T201044
CREATED:20250613T073947Z
LAST-MODIFIED:20250616T092212Z
UID:12029-1750150800-1750153500@linagalvez.eu
SUMMARY:S&D FEMM Working Group meeting
DESCRIPTION:Lina Gálvez asistirá la reunión de trabajo del grupo S&D Socialistas y Demócratas de la Comisión de Derechos de la Mujer e Igualdad de Género (FEMM)\, de la que es presidenta.
URL:https://linagalvez.eu/agenda/sd-femm-working-group-meeting-2506/
CATEGORIES:Actualidad,Destacado,FEMM,Parlamento,S&D
ATTACH;FMTTYPE=image/png:https://linagalvez.eu/wp-content/uploads/2023/01/femm_logo.png
END:VEVENT
BEGIN:VEVENT
DTSTART;TZID=Europe/Madrid:20250617T090000
DTEND;TZID=Europe/Madrid:20250620T140000
DTSTAMP:20260425T201044
CREATED:20250602T154450Z
LAST-MODIFIED:20250616T104116Z
UID:12027-1750150800-1750428000@linagalvez.eu
SUMMARY:Pleno del Parlamento Europeo. Estrasburgo
DESCRIPTION:Destacados del pleno. Estrasburgo \n\n\nSe podrán seguir las sesiones en el siguiente enlace AQUÍ
URL:https://linagalvez.eu/agenda/pleno-parlamento-europeo-estrasburgo-2025-06/
CATEGORIES:Actualidad,Parlamento
ATTACH;FMTTYPE=image/jpeg:https://linagalvez.eu/wp-content/uploads/2020/03/European_Parliament_Strasbourg_Hemicycle_-_Diliff-2-scaled.jpg
END:VEVENT
BEGIN:VEVENT
DTSTART;TZID=Europe/Madrid:20250617T123000
DTEND;TZID=Europe/Madrid:20250617T130000
DTSTAMP:20260425T201044
CREATED:20250613T091254Z
LAST-MODIFIED:20250616T092457Z
UID:12033-1750163400-1750165200@linagalvez.eu
SUMMARY:Votación plenario Parlamento
DESCRIPTION:
URL:https://linagalvez.eu/agenda/votacion-plenario-parlamento-25-06/
CATEGORIES:Actualidad,Parlamento
ATTACH;FMTTYPE=image/jpeg:https://linagalvez.eu/wp-content/uploads/Votando-Parlamento-Estrasburgo.jpg
END:VEVENT
BEGIN:VEVENT
DTSTART;TZID=Europe/Madrid:20250618T103000
DTEND;TZID=Europe/Madrid:20250618T110000
DTSTAMP:20260425T201044
CREATED:20250613T092715Z
LAST-MODIFIED:20250616T100426Z
UID:12058-1750242600-1750244400@linagalvez.eu
SUMMARY:Reunión con la Directora General de Derechos de Ciudadanía\, Justicia y Asuntos Institucionales (IUST)
DESCRIPTION:Lina Gálvez se reunirá con la directora de la Dirección para Ciudadanía\, Igualdad y Cultura del Parlamento Europeo\, que incluye las secretarías de las comisiones FEMM\, PETI y CULT.
URL:https://linagalvez.eu/agenda/reunion-directora-iust-pe-2506/
CATEGORIES:Actualidad,Parlamento
ATTACH;FMTTYPE=image/jpeg:https://linagalvez.eu/wp-content/uploads/2024/07/Estrasburgo.jpg
END:VEVENT
BEGIN:VEVENT
DTSTART;TZID=Europe/Madrid:20250618T120000
DTEND;TZID=Europe/Madrid:20250618T123000
DTSTAMP:20260425T201044
CREATED:20250613T091254Z
LAST-MODIFIED:20250616T094103Z
UID:12048-1750248000-1750249800@linagalvez.eu
SUMMARY:Votación plenario Parlamento
DESCRIPTION:
URL:https://linagalvez.eu/agenda/votacion-plenario-parlamento-25-06-2/
CATEGORIES:Actualidad,Parlamento
ATTACH;FMTTYPE=image/png:https://linagalvez.eu/wp-content/uploads/2024/09/Captura-de-pantalla-2024-09-02-153140.png
END:VEVENT
BEGIN:VEVENT
DTSTART;TZID=Europe/Madrid:20250618T181500
DTEND;TZID=Europe/Madrid:20250618T203000
DTSTAMP:20260425T201044
CREATED:20250613T073948Z
LAST-MODIFIED:20250616T093117Z
UID:12041-1750270500-1750278600@linagalvez.eu
SUMMARY:Reunión de grupo de S&D
DESCRIPTION:Lina Gálvez asistirá a la reunión del Grupo de los Socialistas y Demócratas en el Parlamento Europeo para preparar la sesión plenaria de junio\, dentro del programa de la semana del grupo en Lisboa. En esta reunión tendrá lugar un debate del Grupo S&D centrado en la crisis de la vivienda\, uno de los principales retos sociales en Europa.
URL:https://linagalvez.eu/agenda/reunion-grupo-sd-2025-06-2/
CATEGORIES:Actualidad,Parlamento,S&D
ATTACH;FMTTYPE=image/jpeg:https://linagalvez.eu/wp-content/uploads/SD-banner-euractiv.jpg
END:VEVENT
BEGIN:VEVENT
DTSTART;TZID=Europe/Madrid:20250619T090000
DTEND;TZID=Europe/Madrid:20250619T093000
DTSTAMP:20260425T201044
CREATED:20250613T092200Z
LAST-MODIFIED:20250616T104718Z
UID:12068-1750323600-1750325400@linagalvez.eu
SUMMARY:Reunión de Committee Chairs de S&D
DESCRIPTION:Lina Gálvez participará\, como presidenta del Comité de Derechos de las Mujeres e Igualdad de Género (FEMM)\, en la reunión de Presidentas y Presidentes de las Comisiones del Grupo de Socialistas y Demócratas del Parlamento Europeo.
URL:https://linagalvez.eu/agenda/sd-committee-chairs-2506/
CATEGORIES:Actualidad,FEMM,Parlamento
ATTACH;FMTTYPE=image/png:https://linagalvez.eu/wp-content/uploads/2020/05/digital-europe.png
END:VEVENT
BEGIN:VEVENT
DTSTART;TZID=Europe/Madrid:20250619T093000
DTEND;TZID=Europe/Madrid:20250619T110000
DTSTAMP:20260425T201044
CREATED:20250613T185833Z
LAST-MODIFIED:20250616T093638Z
UID:12045-1750325400-1750330800@linagalvez.eu
SUMMARY:Reunión del Panel STOA
DESCRIPTION:Lina Gálvez asistirá a la reunión del Panel STOA (European Parliament’s Science & Technology Options Assessment)\, del que es vicepresidenta. \nVer en streaming aquí
URL:https://linagalvez.eu/agenda/panel-stoa-25-06/
CATEGORIES:Actualidad,STOA
ATTACH;FMTTYPE=image/jpeg:https://linagalvez.eu/wp-content/uploads/2021/05/STOA-28M-e1639394848457.jpg
END:VEVENT
BEGIN:VEVENT
DTSTART;TZID=Europe/Madrid:20250619T120000
DTEND;TZID=Europe/Madrid:20250619T123000
DTSTAMP:20260425T201044
CREATED:20250613T091254Z
LAST-MODIFIED:20250616T094310Z
UID:12050-1750334400-1750336200@linagalvez.eu
SUMMARY:Votación plenario Parlamento
DESCRIPTION:
URL:https://linagalvez.eu/agenda/votacion-plenario-parlamento-25-06-3/
CATEGORIES:Actualidad,Parlamento
ATTACH;FMTTYPE=image/jpeg:https://linagalvez.eu/wp-content/uploads/2021/02/hemicycle_str.jpg
END:VEVENT
END:VCALENDAR