BEGIN:VCALENDAR
VERSION:2.0
PRODID:-//Lina Gálvez - ECPv6.15.20//NONSGML v1.0//EN
CALSCALE:GREGORIAN
METHOD:PUBLISH
X-WR-CALNAME:Lina Gálvez
X-ORIGINAL-URL:https://linagalvez.eu
X-WR-CALDESC:Eventos para Lina Gálvez
REFRESH-INTERVAL;VALUE=DURATION:PT1H
X-Robots-Tag:noindex
X-PUBLISHED-TTL:PT1H
BEGIN:VTIMEZONE
TZID:Europe/Madrid
BEGIN:DAYLIGHT
TZOFFSETFROM:+0100
TZOFFSETTO:+0200
TZNAME:CEST
DTSTART:20200329T010000
END:DAYLIGHT
BEGIN:STANDARD
TZOFFSETFROM:+0200
TZOFFSETTO:+0100
TZNAME:CET
DTSTART:20201025T010000
END:STANDARD
BEGIN:DAYLIGHT
TZOFFSETFROM:+0100
TZOFFSETTO:+0200
TZNAME:CEST
DTSTART:20210328T010000
END:DAYLIGHT
BEGIN:STANDARD
TZOFFSETFROM:+0200
TZOFFSETTO:+0100
TZNAME:CET
DTSTART:20211031T010000
END:STANDARD
BEGIN:DAYLIGHT
TZOFFSETFROM:+0100
TZOFFSETTO:+0200
TZNAME:CEST
DTSTART:20220327T010000
END:DAYLIGHT
BEGIN:STANDARD
TZOFFSETFROM:+0200
TZOFFSETTO:+0100
TZNAME:CET
DTSTART:20221030T010000
END:STANDARD
END:VTIMEZONE
BEGIN:VEVENT
DTSTART;TZID=Europe/Madrid:20210601T160000
DTEND;TZID=Europe/Madrid:20210601T173000
DTSTAMP:20260422T220801
CREATED:20210531T100606Z
LAST-MODIFIED:20210531T162637Z
UID:3787-1622563200-1622568600@linagalvez.eu
SUMMARY:Participación en el Fórum Europeo de Internet (EIF)
DESCRIPTION:La Eurodiputada Lina Gálvez participará en el Fórum Europeo de Internet (EIF) en relación a la nueva Ley europea de Servicios Digitales\, en concreto se centrará  en las oportunidades y los desafíos que ofrece esta reforma legislativa para convertir el entorno online en más seguro\, inclusivo\, innovador y abierto. \nEste debate se centrará en discutir diversas perspectivas sobre la propuesta de la Comisión de una Ley de Servicios Digitales y cómo crear mejor un conjunto de normas completo\, viable y eficaz para los servicios digitales en Europa. \nMás información AQUÍ
URL:https://linagalvez.eu/agenda/participacion-en-el-forum-europeo-de-internet-eif/
CATEGORIES:Actualidad,Destacado,ITRE,Parlamento,S&D,STOA
ATTACH;FMTTYPE=image/jpeg:https://linagalvez.eu/wp-content/uploads/2021/05/Europenan-Internet-Forum.jpg
END:VEVENT
END:VCALENDAR