BEGIN:VCALENDAR
VERSION:2.0
PRODID:-//Lina Gálvez - ECPv6.15.20//NONSGML v1.0//EN
CALSCALE:GREGORIAN
METHOD:PUBLISH
X-ORIGINAL-URL:https://linagalvez.eu
X-WR-CALDESC:Eventos para Lina Gálvez
REFRESH-INTERVAL;VALUE=DURATION:PT1H
X-Robots-Tag:noindex
X-PUBLISHED-TTL:PT1H
BEGIN:VTIMEZONE
TZID:Europe/Madrid
BEGIN:DAYLIGHT
TZOFFSETFROM:+0100
TZOFFSETTO:+0200
TZNAME:CEST
DTSTART:20200329T010000
END:DAYLIGHT
BEGIN:STANDARD
TZOFFSETFROM:+0200
TZOFFSETTO:+0100
TZNAME:CET
DTSTART:20201025T010000
END:STANDARD
BEGIN:DAYLIGHT
TZOFFSETFROM:+0100
TZOFFSETTO:+0200
TZNAME:CEST
DTSTART:20210328T010000
END:DAYLIGHT
BEGIN:STANDARD
TZOFFSETFROM:+0200
TZOFFSETTO:+0100
TZNAME:CET
DTSTART:20211031T010000
END:STANDARD
BEGIN:DAYLIGHT
TZOFFSETFROM:+0100
TZOFFSETTO:+0200
TZNAME:CEST
DTSTART:20220327T010000
END:DAYLIGHT
BEGIN:STANDARD
TZOFFSETFROM:+0200
TZOFFSETTO:+0100
TZNAME:CET
DTSTART:20221030T010000
END:STANDARD
END:VTIMEZONE
BEGIN:VEVENT
DTSTART;TZID=Europe/Madrid:20210921T160000
DTEND;TZID=Europe/Madrid:20210921T170000
DTSTAMP:20260422T160546
CREATED:20210920T071627Z
LAST-MODIFIED:20210920T071804Z
UID:4249-1632240000-1632243600@linagalvez.eu
SUMMARY:Participación en los Diálogos de la Fundación Carlos Amberes. La digitalización en el futuro de Europa.
DESCRIPTION:El próximo martes 21 de septiembre a las 16h\, la eurodiputada Lina Gálvez participará en un debate sobre la digitalización en el futuro de Europa\, en el que se abordarán temas como: geopolítica de la tecnología\, digitalización de la administración pública\, impacto social de la tecnología\, inteligencia artificial y democracia\, transición digital justa y nuevo contrato social para la digitalización.  Además de los ponentes\, diferentes representantes de la sociedad civil organizada\, expondrán sus propuestas. \nMás información AQUÍ
URL:https://linagalvez.eu/agenda/participacion-en-los-dialogos-de-la-fundacion-carlos-amberes-la-digitalizacion-en-el-futuro-de-europa/
CATEGORIES:Actualidad,Destacado,ITRE
ATTACH;FMTTYPE=image/jpeg:https://linagalvez.eu/wp-content/uploads/2021/09/DialogosFCA.jpg
END:VEVENT
END:VCALENDAR