BEGIN:VCALENDAR
VERSION:2.0
PRODID:-//Lina Gálvez - ECPv6.15.20//NONSGML v1.0//EN
CALSCALE:GREGORIAN
METHOD:PUBLISH
X-WR-CALNAME:Lina Gálvez
X-ORIGINAL-URL:https://linagalvez.eu
X-WR-CALDESC:Eventos para Lina Gálvez
REFRESH-INTERVAL;VALUE=DURATION:PT1H
X-Robots-Tag:noindex
X-PUBLISHED-TTL:PT1H
BEGIN:VTIMEZONE
TZID:Europe/Madrid
BEGIN:DAYLIGHT
TZOFFSETFROM:+0100
TZOFFSETTO:+0200
TZNAME:CEST
DTSTART:20240331T010000
END:DAYLIGHT
BEGIN:STANDARD
TZOFFSETFROM:+0200
TZOFFSETTO:+0100
TZNAME:CET
DTSTART:20241027T010000
END:STANDARD
BEGIN:DAYLIGHT
TZOFFSETFROM:+0100
TZOFFSETTO:+0200
TZNAME:CEST
DTSTART:20250330T010000
END:DAYLIGHT
BEGIN:STANDARD
TZOFFSETFROM:+0200
TZOFFSETTO:+0100
TZNAME:CET
DTSTART:20251026T010000
END:STANDARD
BEGIN:DAYLIGHT
TZOFFSETFROM:+0100
TZOFFSETTO:+0200
TZNAME:CEST
DTSTART:20260329T010000
END:DAYLIGHT
BEGIN:STANDARD
TZOFFSETFROM:+0200
TZOFFSETTO:+0100
TZNAME:CET
DTSTART:20261025T010000
END:STANDARD
END:VTIMEZONE
BEGIN:VEVENT
DTSTART;TZID=Europe/Madrid:20251014T130000
DTEND;TZID=Europe/Madrid:20251014T140000
DTSTAMP:20260423T134156
CREATED:20251013T061259Z
LAST-MODIFIED:20251017T114532Z
UID:12593-1760446800-1760450400@linagalvez.eu
SUMMARY:Conferencia "El papel de GÉANT en la transformación digital de Europa"
DESCRIPTION:Lina Gálvez participa en la conferencia “GÉANT’s Role in the Digital Transformation of Europe” («El papel de GÉANT en la transformación digital de Europa»)\, a través de un videomensaje. \nGÉANT es un elemento fundamental de la infraestructura electrónica europea\, que proporciona la red paneuropea GÉANT para la excelencia científica\, la investigación\, la educación y la innovación. A través de su catálogo integrado de servicios de conectividad\, colaboración e identidad GÉANT proporciona a las personas usuarias un acceso altamente fiable y sin restricciones a recursos informáticos\, de análisis\, de almacenamiento\, de aplicaciones y de otro tipo\, para garantizar que Europa se mantenga a la vanguardia de la investigación. Celebra su conferencia anual en Bruselas el 14 de octubre.
URL:https://linagalvez.eu/agenda/conferencia-papel-geant-transformacion-digital-europa/
CATEGORIES:Actualidad,Autonomía estratégica,STOA
ATTACH;FMTTYPE=image/jpeg:https://linagalvez.eu/wp-content/uploads/2023/12/Lina-Galvez_20230914_EP_176_MOBILE.jpg
END:VEVENT
END:VCALENDAR