BEGIN:VCALENDAR
VERSION:2.0
PRODID:-//Lina Gálvez - ECPv6.15.20//NONSGML v1.0//EN
CALSCALE:GREGORIAN
METHOD:PUBLISH
X-WR-CALNAME:Lina Gálvez
X-ORIGINAL-URL:https://linagalvez.eu
X-WR-CALDESC:Eventos para Lina Gálvez
REFRESH-INTERVAL;VALUE=DURATION:PT1H
X-Robots-Tag:noindex
X-PUBLISHED-TTL:PT1H
BEGIN:VTIMEZONE
TZID:Europe/Madrid
BEGIN:DAYLIGHT
TZOFFSETFROM:+0100
TZOFFSETTO:+0200
TZNAME:CEST
DTSTART:20230326T010000
END:DAYLIGHT
BEGIN:STANDARD
TZOFFSETFROM:+0200
TZOFFSETTO:+0100
TZNAME:CET
DTSTART:20231029T010000
END:STANDARD
BEGIN:DAYLIGHT
TZOFFSETFROM:+0100
TZOFFSETTO:+0200
TZNAME:CEST
DTSTART:20240331T010000
END:DAYLIGHT
BEGIN:STANDARD
TZOFFSETFROM:+0200
TZOFFSETTO:+0100
TZNAME:CET
DTSTART:20241027T010000
END:STANDARD
BEGIN:DAYLIGHT
TZOFFSETFROM:+0100
TZOFFSETTO:+0200
TZNAME:CEST
DTSTART:20250330T010000
END:DAYLIGHT
BEGIN:STANDARD
TZOFFSETFROM:+0200
TZOFFSETTO:+0100
TZNAME:CET
DTSTART:20251026T010000
END:STANDARD
END:VTIMEZONE
BEGIN:VEVENT
DTSTART;TZID=Europe/Madrid:20241018T143000
DTEND;TZID=Europe/Madrid:20241018T160000
DTSTAMP:20260423T053503
CREATED:20241011T103015Z
LAST-MODIFIED:20241014T112045Z
UID:9928-1729261800-1729267200@linagalvez.eu
SUMMARY:Reunión con periodistas especializadas en igualdad
DESCRIPTION:Lina Gálvez se reunirá con periodistas especializadas en temas de igualdad para intercambiar ideas y opiniones sobre los desafíos actuales en este ámbito.
URL:https://linagalvez.eu/agenda/reunion-periodistas-igualdad-24-10/
CATEGORIES:Actualidad,FEMM
END:VEVENT
BEGIN:VEVENT
DTSTART;TZID=Europe/Madrid:20241022T203000
DTEND;TZID=Europe/Madrid:20241022T220000
DTSTAMP:20260423T053503
CREATED:20241011T103015Z
LAST-MODIFIED:20241021T075630Z
UID:9957-1729629000-1729634400@linagalvez.eu
SUMMARY:Encuentro con prensa de S&D especializada en igualdad
DESCRIPTION:Lina Gálvez asistirá al encuentro con prensa especialista en igualdad del grupo de S&D como presidenta del Comité de Derechos de las Mujeres e Igualdad de Género.
URL:https://linagalvez.eu/agenda/encuentro-prensa-sd-igualdad-24-10/
CATEGORIES:Actualidad,Destacado,FEMM,S&D
END:VEVENT
END:VCALENDAR