BEGIN:VCALENDAR
VERSION:2.0
PRODID:-//Lina Gálvez - ECPv6.15.20//NONSGML v1.0//EN
CALSCALE:GREGORIAN
METHOD:PUBLISH
X-ORIGINAL-URL:https://linagalvez.eu
X-WR-CALDESC:Eventos para Lina Gálvez
REFRESH-INTERVAL;VALUE=DURATION:PT1H
X-Robots-Tag:noindex
X-PUBLISHED-TTL:PT1H
BEGIN:VTIMEZONE
TZID:Europe/Madrid
BEGIN:DAYLIGHT
TZOFFSETFROM:+0100
TZOFFSETTO:+0200
TZNAME:CEST
DTSTART:20230326T010000
END:DAYLIGHT
BEGIN:STANDARD
TZOFFSETFROM:+0200
TZOFFSETTO:+0100
TZNAME:CET
DTSTART:20231029T010000
END:STANDARD
BEGIN:DAYLIGHT
TZOFFSETFROM:+0100
TZOFFSETTO:+0200
TZNAME:CEST
DTSTART:20240331T010000
END:DAYLIGHT
BEGIN:STANDARD
TZOFFSETFROM:+0200
TZOFFSETTO:+0100
TZNAME:CET
DTSTART:20241027T010000
END:STANDARD
BEGIN:DAYLIGHT
TZOFFSETFROM:+0100
TZOFFSETTO:+0200
TZNAME:CEST
DTSTART:20250330T010000
END:DAYLIGHT
BEGIN:STANDARD
TZOFFSETFROM:+0200
TZOFFSETTO:+0100
TZNAME:CET
DTSTART:20251026T010000
END:STANDARD
END:VTIMEZONE
BEGIN:VEVENT
DTSTART;TZID=Europe/Madrid:20241204T103000
DTEND;TZID=Europe/Madrid:20241204T123000
DTSTAMP:20260424T063228
CREATED:20241129T083947Z
LAST-MODIFIED:20241202T095228Z
UID:10312-1733308200-1733315400@linagalvez.eu
SUMMARY:Comisión de Derechos de las Mujeres e Igualdad de Género (FEMM)
DESCRIPTION:Lina Gálvez presidirá la sesión matutina de la Comisión FEMM\, como presidenta de la misma\, en preparación para la Semana de la igualdad de género que tendrá lugar la próxima semana.
URL:https://linagalvez.eu/agenda/reunion-comite-femm-2024-12/
CATEGORIES:Actualidad,FEMM,Parlamento,S&D
ATTACH;FMTTYPE=image/png:https://linagalvez.eu/wp-content/uploads/2023/01/femm_logo.png
END:VEVENT
BEGIN:VEVENT
DTSTART;TZID=Europe/Madrid:20241204T150000
DTEND;TZID=Europe/Madrid:20241204T170000
DTSTAMP:20260424T063228
CREATED:20241129T083947Z
LAST-MODIFIED:20241202T095450Z
UID:10314-1733324400-1733331600@linagalvez.eu
SUMMARY:Comisión de Derechos de las Mujeres e Igualdad de Género (FEMM)
DESCRIPTION:La eurodiputada Gálvez presidirá la sesión de la Comisión FEMM de la tarde\, de nuevo en el marco de los preparativos para la Semana de la igualdad de género que tendrá lugar la semana próxima.
URL:https://linagalvez.eu/agenda/reunion-comite-femm-2024-12-2/
CATEGORIES:Actualidad,FEMM,Parlamento,S&D
ATTACH;FMTTYPE=image/png:https://linagalvez.eu/wp-content/uploads/2023/01/femm_logo.png
END:VEVENT
BEGIN:VEVENT
DTSTART;TZID=Europe/Madrid:20241205T090000
DTEND;TZID=Europe/Madrid:20241205T123000
DTSTAMP:20260424T063228
CREATED:20241129T083947Z
LAST-MODIFIED:20241202T095317Z
UID:10316-1733389200-1733401800@linagalvez.eu
SUMMARY:Comisión de Derechos de las Mujeres e Igualdad de Género (FEMM)
DESCRIPTION:Lina Gálvez presidirá esta sesión de la Comisión FEMM\, donde se tratarán temas en vista a la Semana de la igualdad de género de la semana próxima.
URL:https://linagalvez.eu/agenda/reunion-comite-femm-2024-12-3/
CATEGORIES:Actualidad,FEMM,Parlamento,S&D
ATTACH;FMTTYPE=image/png:https://linagalvez.eu/wp-content/uploads/2023/01/femm_logo.png
END:VEVENT
BEGIN:VEVENT
DTSTART;TZID=Europe/Madrid:20241211T160000
DTEND;TZID=Europe/Madrid:20241211T173000
DTSTAMP:20260424T063228
CREATED:20241209T071430Z
LAST-MODIFIED:20241209T101957Z
UID:10348-1733932800-1733938200@linagalvez.eu
SUMMARY:Reunión interna de la Comisión FEMM
DESCRIPTION:Lina Gálvez asistirá a la reunión de coordinadoras y coordinadores de la Comisión de Derechos de las Mujeres e Igualdad de Género (FEMM)\, de la que es presidenta.
URL:https://linagalvez.eu/agenda/reunion-coordinacion-interna-comite-femm-2024-12/
CATEGORIES:Actualidad,FEMM,Parlamento
ATTACH;FMTTYPE=image/jpeg:https://linagalvez.eu/wp-content/uploads/2024/11/Lina-Galvez_Presidenta-FEMM_Foto-PE_2024-10.jpg
END:VEVENT
BEGIN:VEVENT
DTSTART;TZID=Europe/Madrid:20241212T090000
DTEND;TZID=Europe/Madrid:20241212T123000
DTSTAMP:20260424T063228
CREATED:20241209T072047Z
LAST-MODIFIED:20241209T080621Z
UID:10355-1733994000-1734006600@linagalvez.eu
SUMMARY:Comisión de Derechos de las Mujeres e Igualdad de Género (FEMM)
DESCRIPTION:Lina Gálvez participará en la reunión de la Comisión de Derechos de las Mujeres e Igualdad de Género (FEMM)\, de la que es presidenta\, que versará sobre igualdad de género y derechos de las mujeres en el ámbito digital.
URL:https://linagalvez.eu/agenda/reunion-comision-femm-2024-12-12/
CATEGORIES:Actualidad,FEMM,Parlamento
ATTACH;FMTTYPE=image/png:https://linagalvez.eu/wp-content/uploads/2023/01/femm_logo.png
END:VEVENT
BEGIN:VEVENT
DTSTART;TZID=Europe/Madrid:20241212T150000
DTEND;TZID=Europe/Madrid:20241212T170000
DTSTAMP:20260424T063228
CREATED:20241209T071847Z
LAST-MODIFIED:20241209T080913Z
UID:10353-1734015600-1734022800@linagalvez.eu
SUMMARY:Reunión FEMM y EIGE: presentación del Índice de Igualdad de Género 2024
DESCRIPTION:Lina Gálvez presidirá la Comisión de Derechos de las Mujeres e Igualdad de Género (FEMM)\, en la que el European Institute for Gender Equality (EIGE) presentará a la Comisión los datos del Índice de Igualdad de Género de 2024.
URL:https://linagalvez.eu/agenda/reunion-femm-eige-2024-12-12/
CATEGORIES:Actualidad,FEMM,Parlamento
END:VEVENT
END:VCALENDAR