BEGIN:VCALENDAR
VERSION:2.0
PRODID:-//Lina Gálvez - ECPv6.15.20//NONSGML v1.0//EN
CALSCALE:GREGORIAN
METHOD:PUBLISH
X-ORIGINAL-URL:https://linagalvez.eu
X-WR-CALDESC:Eventos para Lina Gálvez
REFRESH-INTERVAL;VALUE=DURATION:PT1H
X-Robots-Tag:noindex
X-PUBLISHED-TTL:PT1H
BEGIN:VTIMEZONE
TZID:Europe/Madrid
BEGIN:DAYLIGHT
TZOFFSETFROM:+0100
TZOFFSETTO:+0200
TZNAME:CEST
DTSTART:20240331T010000
END:DAYLIGHT
BEGIN:STANDARD
TZOFFSETFROM:+0200
TZOFFSETTO:+0100
TZNAME:CET
DTSTART:20241027T010000
END:STANDARD
BEGIN:DAYLIGHT
TZOFFSETFROM:+0100
TZOFFSETTO:+0200
TZNAME:CEST
DTSTART:20250330T010000
END:DAYLIGHT
BEGIN:STANDARD
TZOFFSETFROM:+0200
TZOFFSETTO:+0100
TZNAME:CET
DTSTART:20251026T010000
END:STANDARD
BEGIN:DAYLIGHT
TZOFFSETFROM:+0100
TZOFFSETTO:+0200
TZNAME:CEST
DTSTART:20260329T010000
END:DAYLIGHT
BEGIN:STANDARD
TZOFFSETFROM:+0200
TZOFFSETTO:+0100
TZNAME:CET
DTSTART:20261025T010000
END:STANDARD
END:VTIMEZONE
BEGIN:VEVENT
DTSTART;TZID=Europe/Madrid:20251105T103000
DTEND;TZID=Europe/Madrid:20251105T120000
DTSTAMP:20260423T075418
CREATED:20251031T063536Z
LAST-MODIFIED:20260225T113624Z
UID:12801-1762338600-1762344000@linagalvez.eu
SUMMARY:Audiencia FEMM sobre el Liderazgo Femenino en la Política - Gender Equality Week
DESCRIPTION:Lina Gálvez presidirá el miércoles la audiencia sobre «El liderazgo de las mujeres en la política» en la Comisión de Derechos de la Mujer e Igualdad de Género\, que inaugurará Roberta Metsola\, presidenta del Parlamento Europeo. \nAprovechar el talento de las mujeres a través de la educación\, la formación y el empleo para impulsar el crecimiento económico y el progreso es el tema principal de varios eventos que organizan las comisiones parlamentarias esta semana (de lunes a jueves). \nCada año\, el Parlamento celebra una Semana de la Igualdad de Género para hacer balance de los logros y determinar nuevas medidas para promover los derechos de las niñas y las mujeres y garantizar la igualdad de género. Los actos son organizados por las comisiones\, las delegaciones\, los grupos políticos y la administración del Parlamento. La primera edición se celebró en 2020\, por iniciativa de la Comisión de Derechos de la Mujer e Igualdad de Género. \nEn 2025\, la Semana Europea de la Igualdad de Género se centrará en el talento. El acto principal acogerá un debate sobre cómo garantizar que las mujeres puedan acceder a las mismas oportunidades que los hombres para poder aprovechar su talento. El Parlamento desea hacer hincapié en que crear las condiciones para que las mujeres participen plenamente en la vida laboral y pública no es solo una cuestión de justicia\, sino que también reporta beneficios económicos y sociales. \n\n\n\nMás información (en inglés) y streaming aquí
URL:https://linagalvez.eu/agenda/audiencia-femm-liderazgo-femenino-politica-gender-equality-week/
CATEGORIES:Actualidad,FEMM,Parlamento
ATTACH;FMTTYPE=image/jpeg:https://linagalvez.eu/wp-content/uploads/2025/01/1733318827138_20241204_EP-176461A_AR2_066-scaled.jpg
END:VEVENT
BEGIN:VEVENT
DTSTART;TZID=Europe/Madrid:20251106T090000
DTEND;TZID=Europe/Madrid:20251106T103000
DTSTAMP:20260423T075418
CREATED:20251031T063536Z
LAST-MODIFIED:20251104T090358Z
UID:12823-1762419600-1762425000@linagalvez.eu
SUMMARY:Audiencia FEMM 25º aniversario de la Resolución 1325 del Consejo de Seguridad de la ONU sobre Mujeres\, Paz y Seguridad
DESCRIPTION:Lina Gálvez co-presidirá el miércoles la audiencia con motivo del 25º aniversario de la Resolución 1325 del Consejo de Seguridad de la ONU sobre Mujeres\, Paz y Seguridad del comité FEMM\, conjuntamente con el Comité de Seguridad y Defensa\, en el marco de la Semana Europea de la Igualdad de Género. \nPrograma: \n\n\nPalabras de bienvenida y apertura por Lina GÁLVEZ\, Presidenta del Comité de Derechos de la Mujer e Igualdad de Género.\nPalabras de bienvenida y apertura por Marie-Agnes STRACK-ZIMMERMANN\, Presidenta del Comité de Seguridad y Defensa. \nPanel 1: Implementación de la agenda Mujeres\, Paz y Seguridad\, la experiencia ucraniana \n\nIryna NIKORAK\, Miembro de la Verkhovna Rada de Ucrania y exalumna del programa de Jóvenes Líderes Políticos del Parlamento Europeo\nCapitán Olha BIHAR\, Subcomandante de Batallón en las Fuerzas Armadas de Ucrania\n\nPanel 2: 25º aniversario de la Agenda Mujeres\, Paz y Seguridad – logros y reflexiones sobre el futuro \n\nKifaya KHRAIM\, Coordinadora de Defensa Internacional en el Centro de Asesoramiento y Ayuda Legal a Mujeres (WCLAC) (pendiente de confirmación)\nDra. Magdalena BAR\n\nLa UE y la Resolución 1325 de la ONU \n\nEmbajadora de la UE para la Igualdad\, Aude MAIO-COLI\n\n\n\nVer en streaming aquí
URL:https://linagalvez.eu/agenda/audiencia-femm-resolucion-1325-cs-onu-gender-equality-week/
CATEGORIES:Actualidad,Destacado,FEMM,Parlamento
ATTACH;FMTTYPE=image/jpeg:https://linagalvez.eu/wp-content/uploads/2025/01/1733319067420_20241204_EP-176461A_AR2_025_R-scaled.jpg
END:VEVENT
BEGIN:VEVENT
DTSTART;TZID=Europe/Madrid:20251106T113000
DTEND;TZID=Europe/Madrid:20251106T123000
DTSTAMP:20260423T075419
CREATED:20251031T083947Z
LAST-MODIFIED:20251104T100322Z
UID:12830-1762428600-1762432200@linagalvez.eu
SUMMARY:Reunión conjunta de FEMM y LIBE sobre la implementación en la UE de la Convención de Estambul
DESCRIPTION:Continúa la jornada de trabajo de la Comisión FEMM bajo la presidencia de Lina Gálvez. \nReunión conjunta con el Comité de Libertades Civiles\, Justicia y Asuntos de Interior (LIBE) en el marco de la Semana Europea de la Igualdad de Género. \nSe presentará el informe sobre el Procedimiento de evaluación inicial de la implementación por parte de la Unión Europea de la Convención del Consejo de Europa sobre la prevención y lucha contra la violencia contra las mujeres y la violencia doméstica (Convención de Estambul). \nVer en streaming aquí
URL:https://linagalvez.eu/agenda/reunion-comite-femm-2025-11-4/
CATEGORIES:Actualidad,FEMM,Parlamento
ATTACH;FMTTYPE=image/jpeg:https://linagalvez.eu/wp-content/uploads/2025/01/1734010167128_20241212_EP-177604A_35A_198-scaled.jpg
END:VEVENT
BEGIN:VEVENT
DTSTART;TZID=Europe/Madrid:20251125T090000
DTEND;TZID=Europe/Madrid:20251125T094500
DTSTAMP:20260423T075419
CREATED:20251121T083947Z
LAST-MODIFIED:20251124T131345Z
UID:12999-1764061200-1764063900@linagalvez.eu
SUMMARY:S&D FEMM Working Group meeting
DESCRIPTION:Lina Gálvez participará en la reunión de trabajo del grupo S&D Socialistas y Demócratas de la Comisión de Derechos de la Mujer e Igualdad de Género (FEMM).
URL:https://linagalvez.eu/agenda/sd-femm-working-group-meeting-25-11/
CATEGORIES:Actualidad,FEMM,Parlamento,S&D
ATTACH;FMTTYPE=image/png:https://linagalvez.eu/wp-content/uploads/2023/01/femm_logo.png
END:VEVENT
BEGIN:VEVENT
DTSTART;TZID=Europe/Madrid:20251125T144500
DTEND;TZID=Europe/Madrid:20251125T161500
DTSTAMP:20260423T075419
CREATED:20251121T141425Z
LAST-MODIFIED:20251124T133730Z
UID:13008-1764081900-1764087300@linagalvez.eu
SUMMARY:Conference of Committee Chairs - CCC
DESCRIPTION:Conference of Committee Chairs (CCC) \nLina Gálvez participará\, como presidenta del Comité de Derechos de las Mujeres e Igualdad de Género (FEMM)\, en la reunión de Presidentas y Presidentes de las Comisiones del Parlamento Europeo.
URL:https://linagalvez.eu/agenda/conference-committee-chairs-ccc-2511/
CATEGORIES:Actualidad,FEMM,Parlamento
ATTACH;FMTTYPE=image/jpeg:https://linagalvez.eu/wp-content/uploads/2024/09/1726593435288_20240917_EP-172216A_EGZ_0333-Enhanced-NR_MOBILE.jpg
END:VEVENT
END:VCALENDAR