BEGIN:VCALENDAR
VERSION:2.0
PRODID:-//Lina Gálvez - ECPv6.15.20//NONSGML v1.0//EN
CALSCALE:GREGORIAN
METHOD:PUBLISH
X-ORIGINAL-URL:https://linagalvez.eu
X-WR-CALDESC:Eventos para Lina Gálvez
REFRESH-INTERVAL;VALUE=DURATION:PT1H
X-Robots-Tag:noindex
X-PUBLISHED-TTL:PT1H
BEGIN:VTIMEZONE
TZID:Europe/Madrid
BEGIN:DAYLIGHT
TZOFFSETFROM:+0100
TZOFFSETTO:+0200
TZNAME:CEST
DTSTART:20230326T010000
END:DAYLIGHT
BEGIN:STANDARD
TZOFFSETFROM:+0200
TZOFFSETTO:+0100
TZNAME:CET
DTSTART:20231029T010000
END:STANDARD
BEGIN:DAYLIGHT
TZOFFSETFROM:+0100
TZOFFSETTO:+0200
TZNAME:CEST
DTSTART:20240331T010000
END:DAYLIGHT
BEGIN:STANDARD
TZOFFSETFROM:+0200
TZOFFSETTO:+0100
TZNAME:CET
DTSTART:20241027T010000
END:STANDARD
BEGIN:DAYLIGHT
TZOFFSETFROM:+0100
TZOFFSETTO:+0200
TZNAME:CEST
DTSTART:20250330T010000
END:DAYLIGHT
BEGIN:STANDARD
TZOFFSETFROM:+0200
TZOFFSETTO:+0100
TZNAME:CET
DTSTART:20251026T010000
END:STANDARD
END:VTIMEZONE
BEGIN:VEVENT
DTSTART;TZID=Europe/Madrid:20241211T160000
DTEND;TZID=Europe/Madrid:20241211T173000
DTSTAMP:20260424T081153
CREATED:20241209T071430Z
LAST-MODIFIED:20241209T101957Z
UID:10348-1733932800-1733938200@linagalvez.eu
SUMMARY:Reunión interna de la Comisión FEMM
DESCRIPTION:Lina Gálvez asistirá a la reunión de coordinadoras y coordinadores de la Comisión de Derechos de las Mujeres e Igualdad de Género (FEMM)\, de la que es presidenta.
URL:https://linagalvez.eu/agenda/reunion-coordinacion-interna-comite-femm-2024-12/
CATEGORIES:Actualidad,FEMM,Parlamento
ATTACH;FMTTYPE=image/jpeg:https://linagalvez.eu/wp-content/uploads/2024/11/Lina-Galvez_Presidenta-FEMM_Foto-PE_2024-10.jpg
END:VEVENT
END:VCALENDAR