BEGIN:VCALENDAR
VERSION:2.0
PRODID:-//Lina Gálvez - ECPv6.15.20//NONSGML v1.0//EN
CALSCALE:GREGORIAN
METHOD:PUBLISH
X-WR-CALNAME:Lina Gálvez
X-ORIGINAL-URL:https://linagalvez.eu
X-WR-CALDESC:Eventos para Lina Gálvez
REFRESH-INTERVAL;VALUE=DURATION:PT1H
X-Robots-Tag:noindex
X-PUBLISHED-TTL:PT1H
BEGIN:VTIMEZONE
TZID:Europe/Madrid
BEGIN:DAYLIGHT
TZOFFSETFROM:+0100
TZOFFSETTO:+0200
TZNAME:CEST
DTSTART:20240331T010000
END:DAYLIGHT
BEGIN:STANDARD
TZOFFSETFROM:+0200
TZOFFSETTO:+0100
TZNAME:CET
DTSTART:20241027T010000
END:STANDARD
BEGIN:DAYLIGHT
TZOFFSETFROM:+0100
TZOFFSETTO:+0200
TZNAME:CEST
DTSTART:20250330T010000
END:DAYLIGHT
BEGIN:STANDARD
TZOFFSETFROM:+0200
TZOFFSETTO:+0100
TZNAME:CET
DTSTART:20251026T010000
END:STANDARD
BEGIN:DAYLIGHT
TZOFFSETFROM:+0100
TZOFFSETTO:+0200
TZNAME:CEST
DTSTART:20260329T010000
END:DAYLIGHT
BEGIN:STANDARD
TZOFFSETFROM:+0200
TZOFFSETTO:+0100
TZNAME:CET
DTSTART:20261025T010000
END:STANDARD
END:VTIMEZONE
BEGIN:VEVENT
DTSTART;TZID=Europe/Madrid:20251202T170000
DTEND;TZID=Europe/Madrid:20251202T183000
DTSTAMP:20260423T075409
CREATED:20251127T071430Z
LAST-MODIFIED:20251201T115008Z
UID:13069-1764694800-1764700200@linagalvez.eu
SUMMARY:Reunión interna de la Comisión FEMM
DESCRIPTION:Lina Gálvez asistirá a la reunión de coordinadoras y coordinadores de la Comisión de Derechos de las Mujeres e Igualdad de Género (FEMM)\, de la que es presidenta.
URL:https://linagalvez.eu/agenda/reunion-coordinacion-interna-comite-femm-2025-12/
CATEGORIES:Actualidad,FEMM,Parlamento
ATTACH;FMTTYPE=image/jpeg:https://linagalvez.eu/wp-content/uploads/20251104_EP-193457A_AR2_0105-scaled.jpg
END:VEVENT
BEGIN:VEVENT
DTSTART;TZID=Europe/Madrid:20251202T184500
DTEND;TZID=Europe/Madrid:20251202T194500
DTSTAMP:20260423T075409
CREATED:20251127T071430Z
LAST-MODIFIED:20251201T115227Z
UID:13092-1764701100-1764704700@linagalvez.eu
SUMMARY:Celebración del Final de Año de la comisión FEMM
DESCRIPTION:
URL:https://linagalvez.eu/agenda/reunion-comite-femm-2025-12-2/
CATEGORIES:Actualidad,FEMM,Parlamento
ATTACH;FMTTYPE=image/png:https://linagalvez.eu/wp-content/uploads/2023/01/femm_logo.png
END:VEVENT
END:VCALENDAR