BEGIN:VCALENDAR
VERSION:2.0
PRODID:-//Lina Gálvez - ECPv6.15.20//NONSGML v1.0//EN
CALSCALE:GREGORIAN
METHOD:PUBLISH
X-WR-CALNAME:Lina Gálvez
X-ORIGINAL-URL:https://linagalvez.eu
X-WR-CALDESC:Eventos para Lina Gálvez
REFRESH-INTERVAL;VALUE=DURATION:PT1H
X-Robots-Tag:noindex
X-PUBLISHED-TTL:PT1H
BEGIN:VTIMEZONE
TZID:Europe/Madrid
BEGIN:DAYLIGHT
TZOFFSETFROM:+0100
TZOFFSETTO:+0200
TZNAME:CEST
DTSTART:20240331T010000
END:DAYLIGHT
BEGIN:STANDARD
TZOFFSETFROM:+0200
TZOFFSETTO:+0100
TZNAME:CET
DTSTART:20241027T010000
END:STANDARD
BEGIN:DAYLIGHT
TZOFFSETFROM:+0100
TZOFFSETTO:+0200
TZNAME:CEST
DTSTART:20250330T010000
END:DAYLIGHT
BEGIN:STANDARD
TZOFFSETFROM:+0200
TZOFFSETTO:+0100
TZNAME:CET
DTSTART:20251026T010000
END:STANDARD
BEGIN:DAYLIGHT
TZOFFSETFROM:+0100
TZOFFSETTO:+0200
TZNAME:CEST
DTSTART:20260329T010000
END:DAYLIGHT
BEGIN:STANDARD
TZOFFSETFROM:+0200
TZOFFSETTO:+0100
TZNAME:CET
DTSTART:20261025T010000
END:STANDARD
END:VTIMEZONE
BEGIN:VEVENT
DTSTART;TZID=Europe/Madrid:20251021T200000
DTEND;TZID=Europe/Madrid:20251021T210000
DTSTAMP:20260422T225050
CREATED:20251017T092018Z
LAST-MODIFIED:20251020T084644Z
UID:12685-1761076800-1761080400@linagalvez.eu
SUMMARY:Intervención en Pleno en el debate sobre el Presupuesto General de la Unión Europea 2026
DESCRIPTION:Lina Gálvez tendrá la palabra en el debate sobre el Presupuesto General de la Unión Europea para el ejercicio financiero de 2026\, en el Parlamento Europeo. \nSe podrán seguir todas las sesiones del pleno en el siguiente enlace AQUÍ
URL:https://linagalvez.eu/agenda/intervencion-pleno-debate-presupuesto-ue-2026/
CATEGORIES:Actualidad,Destacado,FEMM,Parlamento
ATTACH;FMTTYPE=image/webp:https://linagalvez.eu/wp-content/uploads/LGM-Pleno-Skills-202503112.webp
END:VEVENT
BEGIN:VEVENT
DTSTART;TZID=Europe/Madrid:20251023T094500
DTEND;TZID=Europe/Madrid:20251023T100000
DTSTAMP:20260422T225050
CREATED:20251017T092018Z
LAST-MODIFIED:20251022T094416Z
UID:12692-1761212700-1761213600@linagalvez.eu
SUMMARY:Intervención en Pleno: Lucha contra la violencia hacia las mujeres y las niñas\, incluida la explotación de la maternidad
DESCRIPTION:Lina Gálvez tendrá la palabra en el plenario en el debate: «Declaraciones del Consejo y de la Comisión: Lucha contra la violencia hacia las mujeres y las niñas\, incluida la explotación de la maternidad» \nSe podrán seguir todas las sesiones del pleno en el siguiente enlace AQUÍ
URL:https://linagalvez.eu/agenda/intervencion-pleno-lucha-violencia-mujeres-ninas-explotacion-maternidad-25-10/
CATEGORIES:Actualidad,Destacado,FEMM,Parlamento
ATTACH;FMTTYPE=image/jpeg:https://linagalvez.eu/wp-content/uploads/2025-09-10_lgm-mep-pleno-estr_socialistas-pe-scaled.jpeg
END:VEVENT
BEGIN:VEVENT
DTSTART;TZID=Europe/Madrid:20251023T094500
DTEND;TZID=Europe/Madrid:20251023T100000
DTSTAMP:20260422T225050
CREATED:20251017T092018Z
LAST-MODIFIED:20251022T094919Z
UID:12696-1761212700-1761213600@linagalvez.eu
SUMMARY:Intervención en el debate Cáncer de mama: la importancia de la detección temprana
DESCRIPTION:Lina Gálvez tendrá la palabra en el debate: «Declaraciones del Consejo y de la Comisión: Cáncer de mama: la importancia de la detección temprana» en el plenario del Parlamento en Estrasburgo. \nSe podrán seguir todas las sesiones del pleno en el siguiente enlace AQUÍ
URL:https://linagalvez.eu/agenda/intervencion-pleno-cancer-mama-importancia-deteccion-temprana-25-10/
CATEGORIES:Actualidad,FEMM,Parlamento
ATTACH;FMTTYPE=image/jpeg:https://linagalvez.eu/wp-content/uploads/LGM_EP-184318G_LD1_PB_062-1024x683-1.jpg
END:VEVENT
END:VCALENDAR