BEGIN:VCALENDAR
VERSION:2.0
PRODID:-//Lina Gálvez - ECPv6.15.20//NONSGML v1.0//EN
CALSCALE:GREGORIAN
METHOD:PUBLISH
X-ORIGINAL-URL:https://linagalvez.eu
X-WR-CALDESC:Eventos para Lina Gálvez
REFRESH-INTERVAL;VALUE=DURATION:PT1H
X-Robots-Tag:noindex
X-PUBLISHED-TTL:PT1H
BEGIN:VTIMEZONE
TZID:Europe/Madrid
BEGIN:DAYLIGHT
TZOFFSETFROM:+0100
TZOFFSETTO:+0200
TZNAME:CEST
DTSTART:20210328T010000
END:DAYLIGHT
BEGIN:STANDARD
TZOFFSETFROM:+0200
TZOFFSETTO:+0100
TZNAME:CET
DTSTART:20211031T010000
END:STANDARD
BEGIN:DAYLIGHT
TZOFFSETFROM:+0100
TZOFFSETTO:+0200
TZNAME:CEST
DTSTART:20220327T010000
END:DAYLIGHT
BEGIN:STANDARD
TZOFFSETFROM:+0200
TZOFFSETTO:+0100
TZNAME:CET
DTSTART:20221030T010000
END:STANDARD
BEGIN:DAYLIGHT
TZOFFSETFROM:+0100
TZOFFSETTO:+0200
TZNAME:CEST
DTSTART:20230326T010000
END:DAYLIGHT
BEGIN:STANDARD
TZOFFSETFROM:+0200
TZOFFSETTO:+0100
TZNAME:CET
DTSTART:20231029T010000
END:STANDARD
END:VTIMEZONE
BEGIN:VEVENT
DTSTART;TZID=Europe/Madrid:20221025T170000
DTEND;TZID=Europe/Madrid:20221025T180000
DTSTAMP:20260422T005353
CREATED:20201001T083352Z
LAST-MODIFIED:20221021T123120Z
UID:6351-1666717200-1666720800@linagalvez.eu
SUMMARY:Conferencia sobre el Índice de Igualdad de Género 2022 de EIGE
DESCRIPTION:El 25 de octubre de 2022\, el Comité FEMM invitará al Instituto Europeo para la Igualdad de Género (EIGE) a revelar los resultados del Índice de Igualdad de Género para la UE. \n\n\nLas puntuaciones otorgadas a la UE y los Estados miembros se basan en las diferencias entre mujeres y hombres y los niveles de logro en seis dominios básicos: trabajo\, dinero\, conocimiento\, tiempo\, poder y salud\, y sus subdominios. El Índice de Igualdad de Género 2022 se centrará en el impacto de la pandemia de COVID-19 en el cuidado informal\, el equilibrio entre la vida laboral y personal\, los servicios de cuidado y las condiciones laborales de mujeres y hombres. Carlien Scheele\, directora de EIGE\, presentará estos resultados al Comité FEMM. \n\n\n\n\n\nRead more about the Gender Equality Index 2021 \n\n\nAgenda\nhttps://eige.europa.eu/gender-equality-index/2020-conference
URL:https://linagalvez.eu/agenda/conferencia-sobre-el-indice-de-igualdad-de-genero-2020-de-eige-2-2/
CATEGORIES:Actualidad,Destacado,FEMM,Parlamento
ATTACH;FMTTYPE=image/png:https://linagalvez.eu/wp-content/uploads/2020/01/Struging2017.png
END:VEVENT
END:VCALENDAR