BEGIN:VCALENDAR
VERSION:2.0
PRODID:-//Lina Gálvez - ECPv6.15.20//NONSGML v1.0//EN
CALSCALE:GREGORIAN
METHOD:PUBLISH
X-ORIGINAL-URL:https://linagalvez.eu
X-WR-CALDESC:Eventos para Lina Gálvez
REFRESH-INTERVAL;VALUE=DURATION:PT1H
X-Robots-Tag:noindex
X-PUBLISHED-TTL:PT1H
BEGIN:VTIMEZONE
TZID:Europe/Madrid
BEGIN:DAYLIGHT
TZOFFSETFROM:+0100
TZOFFSETTO:+0200
TZNAME:CEST
DTSTART:20240331T010000
END:DAYLIGHT
BEGIN:STANDARD
TZOFFSETFROM:+0200
TZOFFSETTO:+0100
TZNAME:CET
DTSTART:20241027T010000
END:STANDARD
BEGIN:DAYLIGHT
TZOFFSETFROM:+0100
TZOFFSETTO:+0200
TZNAME:CEST
DTSTART:20250330T010000
END:DAYLIGHT
BEGIN:STANDARD
TZOFFSETFROM:+0200
TZOFFSETTO:+0100
TZNAME:CET
DTSTART:20251026T010000
END:STANDARD
BEGIN:DAYLIGHT
TZOFFSETFROM:+0100
TZOFFSETTO:+0200
TZNAME:CEST
DTSTART:20260329T010000
END:DAYLIGHT
BEGIN:STANDARD
TZOFFSETFROM:+0200
TZOFFSETTO:+0100
TZNAME:CET
DTSTART:20261025T010000
END:STANDARD
END:VTIMEZONE
BEGIN:VEVENT
DTSTART;TZID=Europe/Madrid:20250901T150000
DTEND;TZID=Europe/Madrid:20250901T183000
DTSTAMP:20260425T145857
CREATED:20250828T073947Z
LAST-MODIFIED:20250902T063833Z
UID:12259-1756738800-1756751400@linagalvez.eu
SUMMARY:Reunión de la Comisión de Derechos de las Mujeres e Igualdad de Género (FEMM)
DESCRIPTION:En su calidad de presidenta de la Comisión de Derechos de las Mujeres e Igualdad de Género (FEMM)\, Lina Gálvez presidirá la sesión en la que se abordarán\, entre otros temas\, dos informes clave de los que es rapporteur: \n\nPresupuesto general de la Unión Europea para el ejercicio 2026 (FEMM/10/03194\, 2025/0210(BUD))\nDesarrollo de una nueva estrategia europea contra la pobreza (FEMM/10/02837\, 2025/2095(INI))\n\nVer en streaming aquí y aquí
URL:https://linagalvez.eu/agenda/reunion-comite-femm-2025-09/
CATEGORIES:Actualidad,Destacado,FEMM,Parlamento
ATTACH;FMTTYPE=image/jpeg:https://linagalvez.eu/wp-content/uploads/2025/01/1734010167128_20241212_EP-177604A_35A_198-scaled.jpg
END:VEVENT
BEGIN:VEVENT
DTSTART;TZID=Europe/Madrid:20250904T120000
DTEND;TZID=Europe/Madrid:20250904T150000
DTSTAMP:20260425T145857
CREATED:20250828T114317Z
LAST-MODIFIED:20250902T074320Z
UID:12291-1756987200-1756998000@linagalvez.eu
SUMMARY:Mesa redonda sobre igualdad – Alcorcón (Madrid)
DESCRIPTION:La eurodiputada Lina Gálvez participará en la Jornada de inicio del curso político\, centrada en la igualdad entre mujeres y hombres\, organizada en colaboración con el grupo socialista de la FEMP. El encuentro reunirá a cargos institucionales y orgánicos del PSOE\, con el objetivo de compartir iniciativas\, reflexionar colectivamente y reforzar el compromiso con el feminismo como motor de transformación social. La jornada tendrá lugar en el Museo de Arte Contemporáneo en Vidrio de Alcorcón (MAVA). \nPrograma:
URL:https://linagalvez.eu/agenda/mesa-redonda-igualdad-alcorcon/
CATEGORIES:Actualidad,FEMM,S&D
ATTACH;FMTTYPE=image/png:https://linagalvez.eu/wp-content/uploads/PSOE-jornada-feminismo.png
END:VEVENT
BEGIN:VEVENT
DTSTART;TZID=Europe/Madrid:20250909T090000
DTEND;TZID=Europe/Madrid:20250909T100000
DTSTAMP:20260425T145857
CREATED:20250905T073947Z
LAST-MODIFIED:20250908T145225Z
UID:12328-1757408400-1757412000@linagalvez.eu
SUMMARY:S&D FEMM Working Group meeting
DESCRIPTION:Lina Gálvez presidirá y participará en la reunión de trabajo del grupo S&D Socialistas y Demócratas de la Comisión de Derechos de la Mujer e Igualdad de Género (FEMM).
URL:https://linagalvez.eu/agenda/sd-femm-working-group-meeting-2509/
CATEGORIES:Actualidad,FEMM,Parlamento,S&D
ATTACH;FMTTYPE=image/png:https://linagalvez.eu/wp-content/uploads/2023/01/femm_logo.png
END:VEVENT
BEGIN:VEVENT
DTSTART;TZID=Europe/Madrid:20250909T100000
DTEND;TZID=Europe/Madrid:20250909T110000
DTSTAMP:20260425T145857
CREATED:20250905T085407Z
LAST-MODIFIED:20250908T085942Z
UID:12364-1757412000-1757415600@linagalvez.eu
SUMMARY:EqualPro: Conferencia CESI sobre igualdad de género.
DESCRIPTION:Lina Gálvez intervendrá y participará en la conferencia organizada por la Confederación Europea de Sindicatos Independientes (CESI). \nMás información (en inglés) aquí \nFuente de la imagen: evento anunciado en el que participa Lina Gálvez. En esta web se realiza un uso justo y no comercial de la imagen para la difusión del evento.
URL:https://linagalvez.eu/agenda/equalpro-conferencia-cesi-igualdad-genero/
CATEGORIES:Actualidad,Destacado,Parlamento
ATTACH;FMTTYPE=image/jpeg:https://linagalvez.eu/wp-content/uploads/EqualPro-CESI.jpg
END:VEVENT
BEGIN:VEVENT
DTSTART;TZID=Europe/Madrid:20250910T160000
DTEND;TZID=Europe/Madrid:20250910T170000
DTSTAMP:20260425T145857
CREATED:20250905T092540Z
LAST-MODIFIED:20250909T100702Z
UID:12346-1757520000-1757523600@linagalvez.eu
SUMMARY:Reunión con la Comisaria Hadja Lahbib
DESCRIPTION:Lina Gálvez tratará con Hadja Lahbib\, Comisaria de Preparación\, Gestión de Crisis e Igualdad\, la hoja de ruta para los derechos de las mujeres\, presupuestos 2026 y la cuestión de la pregunta parlamentaria sobre la perversa forma de contabilizar la prostitución en las estadísticas europeas armonizadas.
URL:https://linagalvez.eu/agenda/reunion-comisaria-hadja-lahbib-2509/
CATEGORIES:Actualidad,Destacado,FEMM,Parlamento
ATTACH;FMTTYPE=image/jpeg:https://linagalvez.eu/wp-content/uploads/Lina-Galvez-and-Hadja-Lahbib-FEMM-IWD2025-scaled.jpg
END:VEVENT
BEGIN:VEVENT
DTSTART;TZID=Europe/Madrid:20250915T170000
DTEND;TZID=Europe/Madrid:20250915T180000
DTSTAMP:20260425T145857
CREATED:20250912T065718Z
LAST-MODIFIED:20250915T092029Z
UID:12409-1757955600-1757959200@linagalvez.eu
SUMMARY:Reunión con la Sección SOC del Comité Económico y Social Europeo (CESE)
DESCRIPTION:Lina Gálvez se reunirá\, como presidenta de FEMM\, con Cinzia del Río\, Presidenta de la Sección SOC (Asuntos Sociales) del Comité Económico y Social Europeo (CESE).
URL:https://linagalvez.eu/agenda/reunion-seccion-soc-comite-economico-y-social-europeo-cese/
CATEGORIES:Actualidad,FEMM,Parlamento
ATTACH;FMTTYPE=image/webp:https://linagalvez.eu/wp-content/uploads/2024/10/cesefacade.webp
END:VEVENT
BEGIN:VEVENT
DTSTART;TZID=Europe/Madrid:20250923T093000
DTEND;TZID=Europe/Madrid:20250923T130000
DTSTAMP:20260425T145857
CREATED:20250919T073947Z
LAST-MODIFIED:20250922T120005Z
UID:12483-1758619800-1758632400@linagalvez.eu
SUMMARY:Reunión del Comité FEMM - Avanzando hacia una sociedad de cuidados: abordando la brecha de género en el cuidado.
DESCRIPTION:Lina Gálvez presidirá la sesión de la Comisión de Derechos de las Mujeres e Igualdad de Género (FEMM)\, en la que se debatirán temas legislativos y estratégicos relacionados con la igualdad en la UE. \nVer en streaming aquí
URL:https://linagalvez.eu/agenda/reunion-comite-femm-2025-09-3/
CATEGORIES:Actualidad,FEMM,Parlamento
ATTACH;FMTTYPE=image/png:https://linagalvez.eu/wp-content/uploads/2023/01/femm_logo.png
END:VEVENT
BEGIN:VEVENT
DTSTART;TZID=Europe/Madrid:20250923T143000
DTEND;TZID=Europe/Madrid:20250923T183000
DTSTAMP:20260425T145857
CREATED:20250919T073947Z
LAST-MODIFIED:20251003T123228Z
UID:12484-1758637800-1758652200@linagalvez.eu
SUMMARY:Reunión del Comité FEMM - Importancia de una legislación sobre violación basada en el consentimiento en la UE
DESCRIPTION:Continúa la jornada de trabajo de la Comisión FEMM bajo la presidencia de Lina Gálvez. \nReunión conjunta con el Comité de Libertades Civiles\, Justicia y Asuntos de Interior (LIBE) \nSe debatirán estos dos informes en los que Lina es rapporteur:\n• Recomendación al consejo sobre las prioridades de la UE para la 70ª sesión de la Comisión de la ONU para la Condición Jurídica y Social de la Mujer\n• Ayuda humanitaria en tiempos de policrisis – reafirmando nuestros principios para una respuesta más efectiva y ambiciosa a las crisis humanitarias \nVer en streaming aquí
URL:https://linagalvez.eu/agenda/reunion-comite-femm-2025-09-4/
CATEGORIES:Actualidad,Destacado,FEMM,Parlamento
ATTACH;FMTTYPE=image/jpeg:https://linagalvez.eu/wp-content/uploads/2025/01/1733319067420_20241204_EP-176461A_AR2_025_R-scaled.jpg
END:VEVENT
BEGIN:VEVENT
DTSTART;TZID=Europe/Madrid:20250924T123000
DTEND;TZID=Europe/Madrid:20250924T143000
DTSTAMP:20260425T145857
CREATED:20250919T063247Z
LAST-MODIFIED:20251008T123831Z
UID:12474-1758717000-1758724200@linagalvez.eu
SUMMARY:Presentación del libro "Mujeres en la sombra de la construcción europea" de Júlia Manresa
DESCRIPTION:La Fundación Catalunya Europa presenta el libro Las mujeres en la sombra de la construcción europea\, de la periodista Júlia Manresa\, en la Biblioteca del Parlamento Europeo\, en Bruselas. El acto contará con la participación de la propia autora y de Lina Gálvez\, eurodiputada y presidenta de la Comisión de Derechos de las Mujeres e Igualdad de Género del Parlamento Europeo. En la presentación también participará Airy Maragall\, presidenta de la Fundación Catalunya Europa – Legado Pasqual Maragall. \nEl libro es el resultado del trabajo de fin de máster de Manresa\, galardonado con el Premio Legado Pasqual Maragall 2023. La obra pone el foco en el papel fundamental —y a menudo invisibilizado— de diversas mujeres en la construcción del proyecto europeo\, desde una mirada crítica y feminista que reivindica una memoria más justa e inclusiva de la Unión. \nMás información aquí \nNoticia sobre el evento celebrado aquí \nFuente de la imagen: evento anunciado en el que participa Lina Gálvez. En esta web se realiza un uso justo y no comercial de la imagen para la difusión del evento.
URL:https://linagalvez.eu/agenda/presentacion-libro-mujeres-sombra-construccion-europea-julia-manresa/
CATEGORIES:Actualidad,Destacado,FEPS,Parlamento
ATTACH;FMTTYPE=image/png:https://linagalvez.eu/wp-content/uploads/a8e29-ju-lia-manresa.png
END:VEVENT
END:VCALENDAR