BEGIN:VCALENDAR
VERSION:2.0
PRODID:-//Lina Gálvez - ECPv6.15.20//NONSGML v1.0//EN
CALSCALE:GREGORIAN
METHOD:PUBLISH
X-ORIGINAL-URL:https://linagalvez.eu
X-WR-CALDESC:Eventos para Lina Gálvez
REFRESH-INTERVAL;VALUE=DURATION:PT1H
X-Robots-Tag:noindex
X-PUBLISHED-TTL:PT1H
BEGIN:VTIMEZONE
TZID:Europe/Madrid
BEGIN:DAYLIGHT
TZOFFSETFROM:+0100
TZOFFSETTO:+0200
TZNAME:CEST
DTSTART:20240331T010000
END:DAYLIGHT
BEGIN:STANDARD
TZOFFSETFROM:+0200
TZOFFSETTO:+0100
TZNAME:CET
DTSTART:20241027T010000
END:STANDARD
BEGIN:DAYLIGHT
TZOFFSETFROM:+0100
TZOFFSETTO:+0200
TZNAME:CEST
DTSTART:20250330T010000
END:DAYLIGHT
BEGIN:STANDARD
TZOFFSETFROM:+0200
TZOFFSETTO:+0100
TZNAME:CET
DTSTART:20251026T010000
END:STANDARD
BEGIN:DAYLIGHT
TZOFFSETFROM:+0100
TZOFFSETTO:+0200
TZNAME:CEST
DTSTART:20260329T010000
END:DAYLIGHT
BEGIN:STANDARD
TZOFFSETFROM:+0200
TZOFFSETTO:+0100
TZNAME:CET
DTSTART:20261025T010000
END:STANDARD
END:VTIMEZONE
BEGIN:VEVENT
DTSTART;TZID=Europe/Madrid:20251202T143000
DTEND;TZID=Europe/Madrid:20251202T153000
DTSTAMP:20260423T112512
CREATED:20251127T192513Z
LAST-MODIFIED:20251201T102612Z
UID:13061-1764685800-1764689400@linagalvez.eu
SUMMARY:PES Women Gender Equality Ministerial Meeting
DESCRIPTION:Reunión ministerial sobre igualdad de género del Partido Socialista Europeo (Party of European Socialists\, PES). \nPES Women es la organización de mujeres del Partido Socialista Europeo\, que promueve la igualdad de género y los derechos de las mujeres tanto dentro como fuera del partido. \nPES Women lucha por una Europa feminista y con justicia de género\, dando voz\, herramientas y una plataforma a las mujeres\, promoviendo políticas específicas en materia de derechos de la mujer e integrando la perspectiva de género en la elaboración de políticas generales de la familia socialdemócrata.
URL:https://linagalvez.eu/agenda/pes-women-gender-equality-ministerial-meeting-2025-12/
CATEGORIES:Actualidad,Parlamento,S&D
ATTACH;FMTTYPE=image/png:https://linagalvez.eu/wp-content/uploads/2020/10/PES-Women.png_20619903.png
END:VEVENT
BEGIN:VEVENT
DTSTART;TZID=Europe/Madrid:20251202T150000
DTEND;TZID=Europe/Madrid:20251202T160000
DTSTAMP:20260423T112512
CREATED:20251127T141425Z
LAST-MODIFIED:20251201T103230Z
UID:13065-1764687600-1764691200@linagalvez.eu
SUMMARY:Reunión de la Comisión FEMM - Presentación de EIGE Índice de Igualdad de Género 2025
DESCRIPTION:Lina Gálvez presidirá la Comisión de Derechos de las Mujeres e Igualdad de Género (FEMM)\, en la que Carlien Scheele\, Directora del European Institute for Gender Equality (EIGE) presentará a la Comisión los datos del Índice de Igualdad de Género de 2025. \n\nPresentar hallazgos y puntos destacados clave sobre el estado de la igualdad de género en la UE y sus Estados miembros.\nExplicar la metodología actualizada del Índice de Igualdad de Género de 2025.\nDebatir qué pueden hacer las instituciones y las personas individuales para desmantelar los estereotipos.\n\n\n\n\nVer en streaming aquí
URL:https://linagalvez.eu/agenda/reunion-femm-eige-indice-igualdad-genero-2025/
CATEGORIES:Actualidad,FEMM,Parlamento
ATTACH;FMTTYPE=image/jpeg:https://linagalvez.eu/wp-content/uploads/2025/01/1734022216580_20241212_EP-177604B_35A_0024-scaled.jpg
END:VEVENT
BEGIN:VEVENT
DTSTART;TZID=Europe/Madrid:20251202T160000
DTEND;TZID=Europe/Madrid:20251202T170000
DTSTAMP:20260423T112512
CREATED:20251127T083947Z
LAST-MODIFIED:20251201T114231Z
UID:13067-1764691200-1764694800@linagalvez.eu
SUMMARY:FEMM: Intercambio de opiniones sobre la integración de las mujeres con discapacidad en el mercado laboral con Eurofound
DESCRIPTION:Lina Gálvez presidirá la sesión de la Comisión de Derechos de las Mujeres e Igualdad de Género (FEMM)\, en la que se producirá un intercambio de opiniones con Eurofound (Fundación Europea para la Mejora de las Condiciones de Vida y Trabajo) sobre la integración de las mujeres con discapacidad en el mercado laboral. \nIntercambio de opiniones con: \n\nDaphne Ahrendt\, Gerente de Investigación Senior de la Fundación Europea para la Mejora de las Condiciones de Vida y Trabajo (Eurofound)\nAngelina Atanasova\, Oficial de Apoyo a la Investigación de la Fundación Europea para la Mejora de las Condiciones de Vida y Trabajo (Eurofound)\n\nVer en streaming aquí
URL:https://linagalvez.eu/agenda/reunion-comite-femm-2025-12/
CATEGORIES:Actualidad,FEMM,Parlamento
ATTACH;FMTTYPE=image/jpeg:https://linagalvez.eu/wp-content/uploads/2025/01/1733318782027_20241204_EP-176461A_AR1_469-scaled.jpg
END:VEVENT
END:VCALENDAR