BEGIN:VCALENDAR
VERSION:2.0
PRODID:-//Lina Gálvez - ECPv6.15.20//NONSGML v1.0//EN
CALSCALE:GREGORIAN
METHOD:PUBLISH
X-WR-CALNAME:Lina Gálvez
X-ORIGINAL-URL:https://linagalvez.eu
X-WR-CALDESC:Eventos para Lina Gálvez
REFRESH-INTERVAL;VALUE=DURATION:PT1H
X-Robots-Tag:noindex
X-PUBLISHED-TTL:PT1H
BEGIN:VTIMEZONE
TZID:Europe/Madrid
BEGIN:DAYLIGHT
TZOFFSETFROM:+0100
TZOFFSETTO:+0200
TZNAME:CEST
DTSTART:20240331T010000
END:DAYLIGHT
BEGIN:STANDARD
TZOFFSETFROM:+0200
TZOFFSETTO:+0100
TZNAME:CET
DTSTART:20241027T010000
END:STANDARD
BEGIN:DAYLIGHT
TZOFFSETFROM:+0100
TZOFFSETTO:+0200
TZNAME:CEST
DTSTART:20250330T010000
END:DAYLIGHT
BEGIN:STANDARD
TZOFFSETFROM:+0200
TZOFFSETTO:+0100
TZNAME:CET
DTSTART:20251026T010000
END:STANDARD
BEGIN:DAYLIGHT
TZOFFSETFROM:+0100
TZOFFSETTO:+0200
TZNAME:CEST
DTSTART:20260329T010000
END:DAYLIGHT
BEGIN:STANDARD
TZOFFSETFROM:+0200
TZOFFSETTO:+0100
TZNAME:CET
DTSTART:20261025T010000
END:STANDARD
END:VTIMEZONE
BEGIN:VEVENT
DTSTART;TZID=Europe/Madrid:20250204T110000
DTEND;TZID=Europe/Madrid:20250204T120000
DTSTAMP:20260423T121831
CREATED:20250130T103955Z
LAST-MODIFIED:20250224T095043Z
UID:10625-1738666800-1738670400@linagalvez.eu
SUMMARY:Monitoring group de INTA sobre sobre Estados Unidos
DESCRIPTION:Lina Gálvez asistirá al grupo de seguimiento como miembro de la Comisión de Comercio Internacional (INTA) sobre las relaciones comerciales entre la Unión Europea y Estados Unidos.
URL:https://linagalvez.eu/agenda/monitoring-group-inta-eeuu-2502/
CATEGORIES:Actualidad,INTA,Parlamento
ATTACH;FMTTYPE=image/jpeg:https://linagalvez.eu/wp-content/uploads/2024/09/INTA-16-9.jpeg
END:VEVENT
BEGIN:VEVENT
DTSTART;TZID=Europe/Madrid:20250212T170000
DTEND;TZID=Europe/Madrid:20250212T174500
DTSTAMP:20260423T121831
CREATED:20250207T131123Z
LAST-MODIFIED:20250210T092659Z
UID:10691-1739379600-1739382300@linagalvez.eu
SUMMARY:Reunión INTA WorkGroup S&D
DESCRIPTION:INTA WG S&D \nLa eurodiputada Lina Gálvez participará en la reunión del grupo S&D del Comité de Comercio Internacional (INTA) del Parlamento Europeo.
URL:https://linagalvez.eu/agenda/reunion-grupo-trabajo-sd-inta-25-02/
CATEGORIES:Actualidad,INTA,Parlamento,S&D
ATTACH;FMTTYPE=image/jpeg:https://linagalvez.eu/wp-content/uploads/2024/05/Lina-Galvez-UPO--scaled.jpeg
END:VEVENT
BEGIN:VEVENT
DTSTART;TZID=Europe/Madrid:20250220T093000
DTEND;TZID=Europe/Madrid:20250220T110000
DTSTAMP:20260423T121831
CREATED:20250214T103955Z
LAST-MODIFIED:20250217T111559Z
UID:10873-1740043800-1740049200@linagalvez.eu
SUMMARY:Comisión de Comercio Internacional (INTA)
DESCRIPTION:Lina Gálvez asistirá a esta sesión de la Comisión de Comercio Internacional (INTA)\, de la que forma parte. \nVer en streaming aquí
URL:https://linagalvez.eu/agenda/reunion-comision-inta-2025-02/
CATEGORIES:Actualidad,INTA,Parlamento
ATTACH;FMTTYPE=image/jpeg:https://linagalvez.eu/wp-content/uploads/2024/09/INTA-16-9.jpeg
END:VEVENT
BEGIN:VEVENT
DTSTART;TZID=Europe/Madrid:20250220T133000
DTEND;TZID=Europe/Madrid:20250220T143000
DTSTAMP:20260423T121831
CREATED:20250214T103955Z
LAST-MODIFIED:20250217T111822Z
UID:10875-1740058200-1740061800@linagalvez.eu
SUMMARY:Monitoring group de INTA sobre Corea del Sur
DESCRIPTION:Grupo de seguimiento de la Comisión de Comercio Internacional (INTA)\, de la que Lina Gálvez forma parte\, para valorar las perspectivas del comercio entre la Unión Europea y Singapur.
URL:https://linagalvez.eu/agenda/monitoring-group-inta-corea/
CATEGORIES:Actualidad,INTA,Parlamento
ATTACH;FMTTYPE=image/jpeg:https://linagalvez.eu/wp-content/uploads/2024/09/INTA-16-9.jpeg
END:VEVENT
END:VCALENDAR