BEGIN:VCALENDAR
VERSION:2.0
PRODID:-//Lina Gálvez - ECPv6.15.20//NONSGML v1.0//EN
CALSCALE:GREGORIAN
METHOD:PUBLISH
X-ORIGINAL-URL:https://linagalvez.eu
X-WR-CALDESC:Eventos para Lina Gálvez
REFRESH-INTERVAL;VALUE=DURATION:PT1H
X-Robots-Tag:noindex
X-PUBLISHED-TTL:PT1H
BEGIN:VTIMEZONE
TZID:Europe/Madrid
BEGIN:DAYLIGHT
TZOFFSETFROM:+0100
TZOFFSETTO:+0200
TZNAME:CEST
DTSTART:20240331T010000
END:DAYLIGHT
BEGIN:STANDARD
TZOFFSETFROM:+0200
TZOFFSETTO:+0100
TZNAME:CET
DTSTART:20241027T010000
END:STANDARD
BEGIN:DAYLIGHT
TZOFFSETFROM:+0100
TZOFFSETTO:+0200
TZNAME:CEST
DTSTART:20250330T010000
END:DAYLIGHT
BEGIN:STANDARD
TZOFFSETFROM:+0200
TZOFFSETTO:+0100
TZNAME:CET
DTSTART:20251026T010000
END:STANDARD
BEGIN:DAYLIGHT
TZOFFSETFROM:+0100
TZOFFSETTO:+0200
TZNAME:CEST
DTSTART:20260329T010000
END:DAYLIGHT
BEGIN:STANDARD
TZOFFSETFROM:+0200
TZOFFSETTO:+0100
TZNAME:CET
DTSTART:20261025T010000
END:STANDARD
END:VTIMEZONE
BEGIN:VEVENT
DTSTART;TZID=Europe/Madrid:20250402T170000
DTEND;TZID=Europe/Madrid:20250402T174500
DTSTAMP:20260423T060155
CREATED:20250327T083947Z
LAST-MODIFIED:20250331T090409Z
UID:11412-1743613200-1743615900@linagalvez.eu
SUMMARY:S&D INTA & ITRE Working Group meeting
DESCRIPTION:Lina Gálvez asistirá a la reunión del grupo S&D conjunta de las Comisiones de Comercio Internacional (INTA) e Industria\, Investigación y Energía (ITRE)\, como integrante de ambas\, en la que se llevará a cabo un intercambio de opiniones sobre el Acuerdo de Mercosur.
URL:https://linagalvez.eu/agenda/sd-inta-itre-working-group-meeting-25-04/
CATEGORIES:Actualidad,INTA,ITRE,Parlamento,S&D
ATTACH;FMTTYPE=image/png:https://linagalvez.eu/wp-content/uploads/2020/05/digital-europe.png
END:VEVENT
BEGIN:VEVENT
DTSTART;TZID=Europe/Madrid:20250402T174500
DTEND;TZID=Europe/Madrid:20250402T181500
DTSTAMP:20260423T060155
CREATED:20250327T083947Z
LAST-MODIFIED:20250331T091537Z
UID:11414-1743615900-1743617700@linagalvez.eu
SUMMARY:S&D DROI+INTA+D-US Working Group meeting
DESCRIPTION:Reunión del grupo S&D de la Subcomisión de Derechos Humanos (DROI) en la que llevarán a cabo un intercambio de opiniones con la Comisión de Comercio Internacional (INTA) y la Delegación para las Relaciones con los Estados Unidos (D-US) del Parlamento Europeo\, de las que Lina Gálvez es miembro.
URL:https://linagalvez.eu/agenda/sd-droi-inta-d-us-working-group-meeting-25-04/
CATEGORIES:Actualidad,D-US,INTA,Parlamento,S&D
ATTACH;FMTTYPE=image/png:https://linagalvez.eu/wp-content/uploads/Comisiones-PE.png
END:VEVENT
BEGIN:VEVENT
DTSTART;TZID=Europe/Madrid:20250407T150000
DTEND;TZID=Europe/Madrid:20250407T160000
DTSTAMP:20260423T060155
CREATED:20250404T093955Z
LAST-MODIFIED:20250407T090745Z
UID:11487-1744038000-1744041600@linagalvez.eu
SUMMARY:Comisión de Comercio Internacional (INTA)
DESCRIPTION:Lina Gálvez asistirá a esta sesión de la Comisión de Comercio Internacional (INTA)\, de la que forma parte. \nVer en streaming aquí
URL:https://linagalvez.eu/agenda/reunion-comision-inta-2025-04/
CATEGORIES:Actualidad,INTA,Parlamento
ATTACH;FMTTYPE=image/jpeg:https://linagalvez.eu/wp-content/uploads/2024/09/INTA-16-9.jpeg
END:VEVENT
BEGIN:VEVENT
DTSTART;TZID=Europe/Madrid:20250407T183000
DTEND;TZID=Europe/Madrid:20250407T203000
DTSTAMP:20260423T060155
CREATED:20250404T093955Z
LAST-MODIFIED:20250407T090939Z
UID:11490-1744050600-1744057800@linagalvez.eu
SUMMARY:Monitoring group de INTA sobre Mercosur
DESCRIPTION:Grupo de seguimiento de la Comisión de Comercio Internacional (INTA)\, de la que Lina Gálvez forma parte\, para valorar la situación del Acuerdo UE-Mercosur.
URL:https://linagalvez.eu/agenda/monitoring-group-inta-mercosur-2025-04/
CATEGORIES:Actualidad,INTA,Parlamento
ATTACH;FMTTYPE=image/jpeg:https://linagalvez.eu/wp-content/uploads/Europe-flag_2608475_1920_No-name-13_free-pixabay.jpg
END:VEVENT
BEGIN:VEVENT
DTSTART;TZID=Europe/Madrid:20250408T090000
DTEND;TZID=Europe/Madrid:20250408T100000
DTSTAMP:20260423T060155
CREATED:20250404T093955Z
LAST-MODIFIED:20250407T091549Z
UID:11495-1744102800-1744106400@linagalvez.eu
SUMMARY:Comisión de Comercio Internacional (INTA)
DESCRIPTION:Lina Gálvez asistirá a la reunión sobre las relaciones comerciales entre la Unión Europea y Corea del Sur\, de la que es ponente principal\, en la Comisión de Comercio Internacional (INTA). \nVer en streaming aquí
URL:https://linagalvez.eu/agenda/reunion-comision-inta-2025-04-2/
CATEGORIES:Actualidad,INTA,Parlamento
ATTACH;FMTTYPE=image/jpeg:https://linagalvez.eu/wp-content/uploads/2024/09/INTA-16-9.jpeg
END:VEVENT
BEGIN:VEVENT
DTSTART;TZID=Europe/Madrid:20250429T100000
DTEND;TZID=Europe/Madrid:20250429T103000
DTSTAMP:20260423T060155
CREATED:20250424T093955Z
LAST-MODIFIED:20250429T080102Z
UID:11582-1745920800-1745922600@linagalvez.eu
SUMMARY:Monitoring group de INTA sobre Singapur
DESCRIPTION:Lina Gálvez asistirá al grupo de seguimiento como miembro de la Comisión de Comercio Internacional (INTA) sobre las relaciones comerciales entre la Unión Europea y Singapur.
URL:https://linagalvez.eu/agenda/monitoring-group-inta-singapur-2025-04/
CATEGORIES:Actualidad,INTA,Parlamento
ATTACH;FMTTYPE=image/jpeg:https://linagalvez.eu/wp-content/uploads/Europe-flag_2608475_1920_No-name-13_free-pixabay.jpg
END:VEVENT
END:VCALENDAR