BEGIN:VCALENDAR
VERSION:2.0
PRODID:-//Lina Gálvez - ECPv6.15.20//NONSGML v1.0//EN
CALSCALE:GREGORIAN
METHOD:PUBLISH
X-WR-CALNAME:Lina Gálvez
X-ORIGINAL-URL:https://linagalvez.eu
X-WR-CALDESC:Eventos para Lina Gálvez
REFRESH-INTERVAL;VALUE=DURATION:PT1H
X-Robots-Tag:noindex
X-PUBLISHED-TTL:PT1H
BEGIN:VTIMEZONE
TZID:Europe/Madrid
BEGIN:DAYLIGHT
TZOFFSETFROM:+0100
TZOFFSETTO:+0200
TZNAME:CEST
DTSTART:20240331T010000
END:DAYLIGHT
BEGIN:STANDARD
TZOFFSETFROM:+0200
TZOFFSETTO:+0100
TZNAME:CET
DTSTART:20241027T010000
END:STANDARD
BEGIN:DAYLIGHT
TZOFFSETFROM:+0100
TZOFFSETTO:+0200
TZNAME:CEST
DTSTART:20250330T010000
END:DAYLIGHT
BEGIN:STANDARD
TZOFFSETFROM:+0200
TZOFFSETTO:+0100
TZNAME:CET
DTSTART:20251026T010000
END:STANDARD
BEGIN:DAYLIGHT
TZOFFSETFROM:+0100
TZOFFSETTO:+0200
TZNAME:CEST
DTSTART:20260329T010000
END:DAYLIGHT
BEGIN:STANDARD
TZOFFSETFROM:+0200
TZOFFSETTO:+0100
TZNAME:CET
DTSTART:20261025T010000
END:STANDARD
END:VTIMEZONE
BEGIN:VEVENT
DTSTART;TZID=Europe/Madrid:20250715T170000
DTEND;TZID=Europe/Madrid:20250715T183000
DTSTAMP:20260423T005640
CREATED:20250710T073947Z
LAST-MODIFIED:20250714T080202Z
UID:12240-1752598800-1752604200@linagalvez.eu
SUMMARY:Comisión conjunta INTA & ITRE
DESCRIPTION:Lina Gálvez asistirá a la reunión conjunta de las Comisiones de Comercio Internacional (INTA) e Industria\, Investigación y Energía (ITRE)\, como integrante de ambas\, donde se discutirán sinergias entre políticas comerciales y tecnológicas.
URL:https://linagalvez.eu/agenda/comision-conjunta-inta-itre-2025-07/
CATEGORIES:Actualidad,INTA,ITRE,Parlamento,S&D
ATTACH;FMTTYPE=image/jpeg:https://linagalvez.eu/wp-content/uploads/20250707PHT29482-ml-Recurso-chip-UE-destacados-ITRE.jpeg
END:VEVENT
END:VCALENDAR