BEGIN:VCALENDAR
VERSION:2.0
PRODID:-//Lina Gálvez - ECPv6.15.20//NONSGML v1.0//EN
CALSCALE:GREGORIAN
METHOD:PUBLISH
X-WR-CALNAME:Lina Gálvez
X-ORIGINAL-URL:https://linagalvez.eu
X-WR-CALDESC:Eventos para Lina Gálvez
REFRESH-INTERVAL;VALUE=DURATION:PT1H
X-Robots-Tag:noindex
X-PUBLISHED-TTL:PT1H
BEGIN:VTIMEZONE
TZID:Europe/Madrid
BEGIN:DAYLIGHT
TZOFFSETFROM:+0100
TZOFFSETTO:+0200
TZNAME:CEST
DTSTART:20240331T010000
END:DAYLIGHT
BEGIN:STANDARD
TZOFFSETFROM:+0200
TZOFFSETTO:+0100
TZNAME:CET
DTSTART:20241027T010000
END:STANDARD
BEGIN:DAYLIGHT
TZOFFSETFROM:+0100
TZOFFSETTO:+0200
TZNAME:CEST
DTSTART:20250330T010000
END:DAYLIGHT
BEGIN:STANDARD
TZOFFSETFROM:+0200
TZOFFSETTO:+0100
TZNAME:CET
DTSTART:20251026T010000
END:STANDARD
BEGIN:DAYLIGHT
TZOFFSETFROM:+0100
TZOFFSETTO:+0200
TZNAME:CEST
DTSTART:20260329T010000
END:DAYLIGHT
BEGIN:STANDARD
TZOFFSETFROM:+0200
TZOFFSETTO:+0100
TZNAME:CET
DTSTART:20261025T010000
END:STANDARD
END:VTIMEZONE
BEGIN:VEVENT
DTSTART;TZID=Europe/Madrid:20250613T100000
DTEND;TZID=Europe/Madrid:20250613T110000
DTSTAMP:20260424T092716
CREATED:20250606T162344Z
LAST-MODIFIED:20250609T112238Z
UID:12008-1749808800-1749812400@linagalvez.eu
SUMMARY:Evento de lanzamiento del informe del JRC sobre IA Generativa
DESCRIPTION:Lina Gálvez participará como ponente en el panel de alto nivel organizado por el Centro Común de Investigación (JRC) con motivo del lanzamiento de su nuevo informe JRC Outlook sobre Inteligencia Artificial Generativa\, que tendrá lugar en Bruselas. El evento será inaugurado por la Comisaria de Investigación y Startups\, Ekaterina Zaharieva\, e incluirá una mesa redonda moderada por el Director General en funciones del JRC\, Bernard Magenhann. \nEn este debate\, se abordarán los retos y oportunidades que plantea la adopción de la IA generativa en la sociedad y la economía europeas\, con aportaciones desde la ciencia\, la Comisión Europea y el Parlamento Europeo. \nMás información e inscripciones (en inglés) aquí
URL:https://linagalvez.eu/agenda/lanzamiento-informe-joint-research-center-jrc-ia-generativa-2025/
CATEGORIES:Actualidad,Destacado,ITRE,Parlamento,STOA
ATTACH;FMTTYPE=image/jpeg:https://linagalvez.eu/wp-content/uploads/GenAI-JRC-2025-scaled.jpg
END:VEVENT
BEGIN:VEVENT
DTSTART;TZID=Europe/Madrid:20250626T090000
DTEND;TZID=Europe/Madrid:20250626T110000
DTSTAMP:20260424T092716
CREATED:20250620T073947Z
LAST-MODIFIED:20250624T094056Z
UID:12114-1750928400-1750935600@linagalvez.eu
SUMMARY:Reunión de la Comisión de Derechos de las Mujeres e Igualdad de Género (FEMM)
DESCRIPTION:Lina Gálvez presidirá la Comisión de Derechos de las Mujeres e Igualdad de Género (FEMM)\, donde se llevará a cabo una audiencia acerca de la violencia sexual basada en imágenes en el contexto de la IA y las redes sociales\, explorando específicamente el papel de las aplicaciones de desnudez y las responsabilidades de las plataformas. \nVer en streaming aquí
URL:https://linagalvez.eu/agenda/reunion-comite-femm-2025-06-3/
CATEGORIES:Actualidad,FEMM,Parlamento
ATTACH;FMTTYPE=image/png:https://linagalvez.eu/wp-content/uploads/2023/01/femm_logo.png
END:VEVENT
END:VCALENDAR