BEGIN:VCALENDAR
VERSION:2.0
PRODID:-//Lina Gálvez - ECPv6.15.20//NONSGML v1.0//EN
CALSCALE:GREGORIAN
METHOD:PUBLISH
X-WR-CALNAME:Lina Gálvez
X-ORIGINAL-URL:https://linagalvez.eu
X-WR-CALDESC:Eventos para Lina Gálvez
REFRESH-INTERVAL;VALUE=DURATION:PT1H
X-Robots-Tag:noindex
X-PUBLISHED-TTL:PT1H
BEGIN:VTIMEZONE
TZID:Europe/Madrid
BEGIN:DAYLIGHT
TZOFFSETFROM:+0100
TZOFFSETTO:+0200
TZNAME:CEST
DTSTART:20250330T010000
END:DAYLIGHT
BEGIN:STANDARD
TZOFFSETFROM:+0200
TZOFFSETTO:+0100
TZNAME:CET
DTSTART:20251026T010000
END:STANDARD
BEGIN:DAYLIGHT
TZOFFSETFROM:+0100
TZOFFSETTO:+0200
TZNAME:CEST
DTSTART:20260329T010000
END:DAYLIGHT
BEGIN:STANDARD
TZOFFSETFROM:+0200
TZOFFSETTO:+0100
TZNAME:CET
DTSTART:20261025T010000
END:STANDARD
BEGIN:DAYLIGHT
TZOFFSETFROM:+0100
TZOFFSETTO:+0200
TZNAME:CEST
DTSTART:20270328T010000
END:DAYLIGHT
BEGIN:STANDARD
TZOFFSETFROM:+0200
TZOFFSETTO:+0100
TZNAME:CET
DTSTART:20271031T010000
END:STANDARD
END:VTIMEZONE
BEGIN:VEVENT
DTSTART;TZID=Europe/Madrid:20260303T111500
DTEND;TZID=Europe/Madrid:20260303T123000
DTSTAMP:20260419T230222
CREATED:20260227T143737Z
LAST-MODIFIED:20260303T113557Z
UID:13712-1772536500-1772541000@linagalvez.eu
SUMMARY:Participación en el panel: "El próximo Horizonte Europa: ideas para una gobernanza más ágil y eficaz"
DESCRIPTION:Lina Gálvez participará en el panel: «The Next Horizon Europe: ideas for a more agile and effective governance«. Como ponente del FP10 (10º Programa Marco de Investigación e Innovación)\, Lina defenderá una gobernanza que no solo sea ágil\, sino que integre la perspectiva de género y la reducción de la brecha de inversión como pilares de la excelencia científica europea. \n\nLa reconstrucción del Programa Marco —el próximo Horizonte Europa— es más necesaria de lo que parece. La política de investigación e innovación de la UE no solo sustenta la competitividad futura de la Unión\, sino que también configura sus relaciones internacionales. En un entorno geopolítico cada vez más complejo e inestable\, la UE se ve obligada a reevaluar su papel a nivel mundial. ¿Cómo puede la UE reforzar su posición como pionera en la configuración de nuestro futuro común? \nHorizonte Europa debe actuar como una fuerza equilibradora: reforzando la competitividad de la UE y consolidando al mismo tiempo el liderazgo de la Unión en la lucha contra los retos globales. Esta sesión reúne a partes interesadas de alto nivel para debatir el futuro del programa\, al tiempo que se arroja luz sobre la posición de Horizonte Europa en esta era compleja\, impulsada por factores técnicos y geopolíticos. \nMás información (en inglés) aquí
URL:https://linagalvez.eu/agenda/panel-proximo-horizon-europe-ideas-gobernanza-agil-eficaz-2026-03/
CATEGORIES:Horizon Europe,ITRE,Parlamento,STOA
ATTACH;FMTTYPE=image/jpeg:https://linagalvez.eu/wp-content/uploads/horizonEurope.jpg
END:VEVENT
BEGIN:VEVENT
DTSTART;TZID=Europe/Madrid:20260317T150000
DTEND;TZID=Europe/Madrid:20260317T163000
DTSTAMP:20260419T230222
CREATED:20260312T094153Z
LAST-MODIFIED:20260317T092845Z
UID:13861-1773759600-1773765000@linagalvez.eu
SUMMARY:Audiencia del grupo S&D de ITRE: sobre el marco financiero plurianual y el FP10 - Horizonte Europa
DESCRIPTION:Lina Gálvez dará las palabras de apertura en la reunión del grupo de Socialistas y Demócratas (S&D) de la Comisión de Industria\, Investigación y Energía (ITRE)\, en la que se realizará una Audiencia pública sobre el Marco financiero plurianual (MFP) y el 10º Programa Marco de Investigación – Horizonte Europa 2028-2034 (FP10)\, del que la eurodiputada Gálvez es ponente en la sombra (shadow rapporteur). \nFuente de la imagen: Parlamento Europeo. En esta web se realiza un uso justo y no comercial de la imagen para la difusión del evento.
URL:https://linagalvez.eu/agenda/audiencia-sd-comision-industria-investigacion-energia-itre-mfp-fp10-2026-03/
CATEGORIES:Actualidad,Destacado,ITRE,Parlamento
ATTACH;FMTTYPE=image/jpeg:https://linagalvez.eu/wp-content/uploads/horizonEurope.jpg
END:VEVENT
BEGIN:VEVENT
DTSTART;TZID=Europe/Madrid:20260317T163000
DTEND;TZID=Europe/Madrid:20260317T173000
DTSTAMP:20260419T230222
CREATED:20260312T094153Z
LAST-MODIFIED:20260317T092727Z
UID:13868-1773765000-1773768600@linagalvez.eu
SUMMARY:Reunión ad hoc del grupo S&D de ITRE: sobre el marco financiero plurianual y el FP10 - Horizonte Europa
DESCRIPTION:Lina Gálvez participará en la reunión ad hoc del grupo de Socialistas y Demócratas (S&D) de la Comisión de Industria\, Investigación y Energía (ITRE)\, en la que se tratará el Marco financiero plurianual (MFP) y el 10º Programa Marco de Investigación – Horizonte Europa (FP10)\, del que la eurodiputada Gálvez es ponente en la sombra (shadow rapporteur). \nFuente de la imagen: Parlamento Europeo. En esta web se realiza un uso justo y no comercial de la imagen para la difusión del evento.
URL:https://linagalvez.eu/agenda/reunion-sd-comision-industria-investigacion-energia-itre-mfp-fp10-2026-03/
CATEGORIES:Actualidad,ITRE,Parlamento,S&D
ATTACH;FMTTYPE=image/jpeg:https://linagalvez.eu/wp-content/uploads/horizonEurope.jpg
END:VEVENT
BEGIN:VEVENT
DTSTART;TZID=Europe/Madrid:20260318T161500
DTEND;TZID=Europe/Madrid:20260318T170000
DTSTAMP:20260419T230222
CREATED:20260313T085536Z
LAST-MODIFIED:20260317T111416Z
UID:13890-1773850500-1773853200@linagalvez.eu
SUMMARY:Reunión sobre el FP10 con ISGlobal
DESCRIPTION:Lina Gálvez se reunirá con ISGlobal para intercambiar impresiones sobre el FP10 (10º Programa Marco de Investigación – Horizonte Europa 2028-2034)\, del que la eurodiputada Gálvez es ponente en la sombra (shadow rapporteur). \n\nEl Instituto de Salud Global de Barcelona (ISGlobal) es el fruto de una innovadora alianza entre la Fundación «la Caixa» e instituciones académicas y gubernamentales para contribuir al esfuerzo de la comunidad internacional con el objetivo de afrontar los retos de la salud en un mundo globalizado. \nISGlobal consolida un nodo de excelencia basado en la investigación que tiene su origen en los ámbitos hospitalario y académico; y que en el campo de la salud global acumula más de 30 años de experiencia. Su modelo de trabajo se basa en la generación de conocimiento científico a través de los Programas y Grupos de investigación\, y en su traslación a través de las áreas de Formación y Análisis y Desarrollo Global. \nLa meta última de los proyectos que constituyen la agenda de ISGlobal es corregir las desigualdades en el estado de salud de las distintas poblaciones del mundo. \nFuente de la imagen: organización con la que se reúne Lina Gálvez. En esta web se realiza un uso justo y no comercial de la imagen para la difusión del evento.
URL:https://linagalvez.eu/agenda/reunion-fp10-con-isglobal-2026-03/
CATEGORIES:Actualidad,Horizon Europe,ITRE,Parlamento,S&D
ATTACH;FMTTYPE=image/jpeg:https://linagalvez.eu/wp-content/uploads/Investigadoras-IS-Global-Barcelona-scaled.jpg
END:VEVENT
BEGIN:VEVENT
DTSTART;TZID=Europe/Madrid:20260318T180000
DTEND;TZID=Europe/Madrid:20260318T183000
DTSTAMP:20260419T230222
CREATED:20260312T143737Z
LAST-MODIFIED:20260317T101359Z
UID:13872-1773856800-1773858600@linagalvez.eu
SUMMARY:Jornada de lanzamiento del manual UNTWIST de recomendaciones políticas en el Parlamento Europeo
DESCRIPTION:Lina Gálvez dará el discurso de apertura de la jornada ‘Por qué las desigualdades económicas tienen consecuencias de género para la democracia europea: presentación del manual UNTWIST’ que se realizará en el Parlamento Europeo\, como presidenta de la comisión de igualdad de género y derechos de las mujeres (FEMM). \nLa jornada ha sido organizado por Gálvez\, conjuntamente con las europarlamentarias Joanna SCHEURING-WIELGUS (S&D\, Polonia) y Lucia Yar (Renew\, Eslovaquia)\, y contará con una intervención del PPE. \n\nPolíticas antigénero: «guerras culturales» o inseguridad material. \nDotar a quienes toman las decisiones en la UE de soluciones políticas robustas basadas en datos empíricos para contrarrestar el ataque contra el género antes de que se consolide la atribución de culpas. \nLas políticas contrarias a la igualdad de género suelen plantearse como una «guerra cultural». Sin embargo\, cada vez hay más pruebas que sugieren que la inseguridad material y las desigualdades económicas estructurales desempeñan un papel fundamental en la configuración de las reivindicaciones políticas y las tensiones democráticas en toda Europa. Este evento presenta una nueva investigación que demuestra cómo las desigualdades económicas tienen consecuencias de género\, y por qué esto es importante para el futuro de la democracia europea. \nEl lanzamiento marca la culminación del proyecto de investigación ‘UNTWIST: Policy recommendations to regain «losers of feminsm» as mainstream voters’\, de tres años de duración\, financiado por Horizonte Europa. El proyecto aporta datos transnacionales y los traduce en recomendaciones políticas concretas y de gran impacto para la UE. \n\nPrograma completo: \nMás información sobre el evento (en inglés) aquí y sobre el proyecto UNTWIST aquí \nFuente de la imagen: Evento anunciado en el que participa Lina Gálvez. En esta web se realiza un uso justo y no comercial de la imagen para la difusión del evento.
URL:https://linagalvez.eu/agenda/jornada-lanzamiento-manual-untwist-recomendaciones-politicas-pe-2026-03/
CATEGORIES:Destacado,ITRE,Parlamento,STOA,Universidad
ATTACH;FMTTYPE=image/png:https://linagalvez.eu/wp-content/uploads/Untwist-2026-03-UPO.png
END:VEVENT
BEGIN:VEVENT
DTSTART;TZID=Europe/Madrid:20260323T153000
DTEND;TZID=Europe/Madrid:20260323T173000
DTSTAMP:20260419T230222
CREATED:20260320T083947Z
LAST-MODIFIED:20260324T120832Z
UID:13906-1774279800-1774287000@linagalvez.eu
SUMMARY:Reunión de la Comisión de Industria\, Investigación y Energía (ITRE)
DESCRIPTION:Lina Gálvez intervendrá en la reunión de la Comisión de Industria\, Investigación y Energía (ITRE)\, de la que forma parte\, donde se llevará a cabo un intercambio de puntos de vista con Ekaterina Zaharieva\, comisaria de Startups\, Investigación e Innovación. \nVer en streaming aquí
URL:https://linagalvez.eu/agenda/reunion-comision-industria-investigacion-energia-itre-2026-03/
CATEGORIES:Actualidad,ITRE,Parlamento,S&D
ATTACH;FMTTYPE=image/png:https://linagalvez.eu/wp-content/uploads/2020/09/ITRE.-Logo.png
END:VEVENT
BEGIN:VEVENT
DTSTART;TZID=Europe/Madrid:20260326T090000
DTEND;TZID=Europe/Madrid:20260326T100000
DTSTAMP:20260419T230222
CREATED:20260320T143737Z
LAST-MODIFIED:20260325T095946Z
UID:13947-1774515600-1774519200@linagalvez.eu
SUMMARY:Comisión ITRE: reunión de trabajo sobre Horizonte Europa
DESCRIPTION:Lina Gálvez participará en la reunión de la Comisión de Industria\, Investigación y Energía (ITRE)\, en la que se realizará un intercambio de puntos de vista sobre el 10º Programa Marco de Investigación – Horizonte Europa 2028-2034 (FP10). \nLa eurodiputada Gálvez es relatora en la sombra (shadow rapporteur) por parte del Grupo S&D del programa Horizonte Europa (2028-2034)\, principal instrumento de financiación de la Unión Europea para la investigación\, el desarrollo tecnológico y la innovación.
URL:https://linagalvez.eu/agenda/reunion-comision-industria-investigacion-energia-itre-2026-03-horizonte-europa/
CATEGORIES:Actualidad,ITRE,S&D
ATTACH;FMTTYPE=image/jpeg:https://linagalvez.eu/wp-content/uploads/horizonEurope.jpg
END:VEVENT
END:VCALENDAR