BEGIN:VCALENDAR
VERSION:2.0
PRODID:-//Lina Gálvez - ECPv6.15.20//NONSGML v1.0//EN
CALSCALE:GREGORIAN
METHOD:PUBLISH
X-WR-CALNAME:Lina Gálvez
X-ORIGINAL-URL:https://linagalvez.eu
X-WR-CALDESC:Eventos para Lina Gálvez
REFRESH-INTERVAL;VALUE=DURATION:PT1H
X-Robots-Tag:noindex
X-PUBLISHED-TTL:PT1H
BEGIN:VTIMEZONE
TZID:Europe/Madrid
BEGIN:DAYLIGHT
TZOFFSETFROM:+0100
TZOFFSETTO:+0200
TZNAME:CEST
DTSTART:20200329T010000
END:DAYLIGHT
BEGIN:STANDARD
TZOFFSETFROM:+0200
TZOFFSETTO:+0100
TZNAME:CET
DTSTART:20201025T010000
END:STANDARD
BEGIN:DAYLIGHT
TZOFFSETFROM:+0100
TZOFFSETTO:+0200
TZNAME:CEST
DTSTART:20210328T010000
END:DAYLIGHT
BEGIN:STANDARD
TZOFFSETFROM:+0200
TZOFFSETTO:+0100
TZNAME:CET
DTSTART:20211031T010000
END:STANDARD
BEGIN:DAYLIGHT
TZOFFSETFROM:+0100
TZOFFSETTO:+0200
TZNAME:CEST
DTSTART:20220327T010000
END:DAYLIGHT
BEGIN:STANDARD
TZOFFSETFROM:+0200
TZOFFSETTO:+0100
TZNAME:CET
DTSTART:20221030T010000
END:STANDARD
END:VTIMEZONE
BEGIN:VEVENT
DTSTART;TZID=Europe/Madrid:20210316T090000
DTEND;TZID=Europe/Madrid:20210316T110000
DTSTAMP:20260423T054149
CREATED:20210312T172344Z
LAST-MODIFIED:20210312T172344Z
UID:3275-1615885200-1615892400@linagalvez.eu
SUMMARY:Visita virtual de STOA al Joint Research Center (JRC) en Ispra\, Italia
DESCRIPTION:Debido a la pandemia esta visita prevista por el panel tecnológico y científico del Parlamento Europeo se realizará de manera telemática para conocer de primera mano el trabajo del Centro Común de Investigación o más conocido como Joint Research Center. \nLas operaciones del CCI en Ispra constan de muchos laboratorios e infraestructuras de investigación únicas orientadas a brindar respuestas basadas en la ciencia a los desafíos políticos de dimensiones tecnológicas y socioeconómicas. Varias de las áreas de investigación clave del CCI son de especial relevancia e interés para STOA\, incluida su investigación sobre la economía del cambio climático\, la eficiencia energética y el transporte\, y su trabajo sobre el conocimiento para el crecimiento. \nPor lo tanto\, esta visita proporcionará a los miembros del Panel de STOA información y conocimientos relevantes\, así como contactos útiles con científicos y expertos de alto nivel\, en vista del trabajo futuro de STOA.
URL:https://linagalvez.eu/agenda/visita-virtual-de-stoa-al-joint-research-center-jrc-en-ispra-italia/
CATEGORIES:Actualidad,ITRE,Parlamento,STOA
END:VEVENT
END:VCALENDAR