BEGIN:VCALENDAR
VERSION:2.0
PRODID:-//Lina Gálvez - ECPv6.15.20//NONSGML v1.0//EN
CALSCALE:GREGORIAN
METHOD:PUBLISH
X-ORIGINAL-URL:https://linagalvez.eu
X-WR-CALDESC:Eventos para Lina Gálvez
REFRESH-INTERVAL;VALUE=DURATION:PT1H
X-Robots-Tag:noindex
X-PUBLISHED-TTL:PT1H
BEGIN:VTIMEZONE
TZID:Europe/Madrid
BEGIN:DAYLIGHT
TZOFFSETFROM:+0100
TZOFFSETTO:+0200
TZNAME:CEST
DTSTART:20250330T010000
END:DAYLIGHT
BEGIN:STANDARD
TZOFFSETFROM:+0200
TZOFFSETTO:+0100
TZNAME:CET
DTSTART:20251026T010000
END:STANDARD
BEGIN:DAYLIGHT
TZOFFSETFROM:+0100
TZOFFSETTO:+0200
TZNAME:CEST
DTSTART:20260329T010000
END:DAYLIGHT
BEGIN:STANDARD
TZOFFSETFROM:+0200
TZOFFSETTO:+0100
TZNAME:CET
DTSTART:20261025T010000
END:STANDARD
BEGIN:DAYLIGHT
TZOFFSETFROM:+0100
TZOFFSETTO:+0200
TZNAME:CEST
DTSTART:20270328T010000
END:DAYLIGHT
BEGIN:STANDARD
TZOFFSETFROM:+0200
TZOFFSETTO:+0100
TZNAME:CET
DTSTART:20271031T010000
END:STANDARD
END:VTIMEZONE
BEGIN:VEVENT
DTSTART;TZID=Europe/Madrid:20260304T160000
DTEND;TZID=Europe/Madrid:20260304T170000
DTSTAMP:20260419T210205
CREATED:20260227T212935Z
LAST-MODIFIED:20260303T132338Z
UID:13735-1772640000-1772643600@linagalvez.eu
SUMMARY:Conferencia de alto nivel de STOA “Libertad académica en apoyo de la democracia”
DESCRIPTION:La eurodiputada Lina Gálvez intervendrá\, como vicepresidenta de STOA\, en la Conferencia de alto nivel de STOA: «La libertad académica en apoyo de la democracia«. \nEl evento contará con la apertura de Christian EHLER\, presidente de STOA y discursos clave de Roberta METSOLA\, presidenta del Parlamento Europeo; Ekaterina ZAHARIEVA\, comisaria europea de Startups\, Investigación e Innovación; y Eva YIASEMIDOU\, presidencia chipriota del Consejo de la UE. \nEn concreto\, Lina Gálvez participará en la mesa «Últimas tendencias en materia de libertad académica: conclusiones del Observatorio de la Libertad Académica 2025 del Parlamento Europeo«. Junto a ella intervendrán: Peter MAASSEN\, de la Universidad de Oslo; Vasiliki KOSTA\, de la Universidad de Leiden; y Paola MATTEI\, de la Universidad de Milán; autores del estudio Academic Freedom Monitor 2025. \n\n\n\n\n\n\nLa libertad académica es ampliamente reconocida como una condición clave para el funcionamiento de sociedades abiertas y democráticas que se adhieren al Estado de derecho. Del mismo modo\, es poco probable que se alcance la plena realización de la libertad académica cuando estos valores se ven amenazados. En un momento en que la libertad académica y la confianza en la ciencia se erosionan gradualmente en Europa\, esta conferencia anual de STOA se centra en la relación entre la libertad académica y la democracia\, así como en las iniciativas políticas que apoyan estos valores. \nLa conferencia permitirá a responsables políticos y de la academia debatir las siguientes cuestiones: ¿Cuál es el papel de la libertad académica en la democracia? ¿Cuáles son las políticas e iniciativas políticas que reconocen su relación y las apoyan? ¿Qué tendencias observamos en el estado de la democracia y la libertad académica? \nEl evento se llevará a cabo únicamente en inglés\, sin interpretación.\n#EP4AcademicFreedom \n\n\n\n\nMás información (en inglés) aquí \nVer en streaming aquí \nFuente de la imagen: evento anunciado en el que participa Lina Gálvez. En esta web se realiza un uso justo y no comercial de la imagen para la difusión del evento.
URL:https://linagalvez.eu/agenda/conferencia-stoa-libertad-academica-apoyo-democracia/
CATEGORIES:Actualidad,Parlamento,STOA,Universidad
ATTACH;FMTTYPE=image/jpeg:https://linagalvez.eu/wp-content/uploads/greece-1594689_1920_nonbirinonko_license-free-pixabay.jpg
END:VEVENT
END:VCALENDAR