BEGIN:VCALENDAR
VERSION:2.0
PRODID:-//Lina Gálvez - ECPv6.15.20//NONSGML v1.0//EN
CALSCALE:GREGORIAN
METHOD:PUBLISH
X-ORIGINAL-URL:https://linagalvez.eu
X-WR-CALDESC:Eventos para Lina Gálvez
REFRESH-INTERVAL;VALUE=DURATION:PT1H
X-Robots-Tag:noindex
X-PUBLISHED-TTL:PT1H
BEGIN:VTIMEZONE
TZID:Europe/Madrid
BEGIN:DAYLIGHT
TZOFFSETFROM:+0100
TZOFFSETTO:+0200
TZNAME:CEST
DTSTART:20250330T010000
END:DAYLIGHT
BEGIN:STANDARD
TZOFFSETFROM:+0200
TZOFFSETTO:+0100
TZNAME:CET
DTSTART:20251026T010000
END:STANDARD
BEGIN:DAYLIGHT
TZOFFSETFROM:+0100
TZOFFSETTO:+0200
TZNAME:CEST
DTSTART:20260329T010000
END:DAYLIGHT
BEGIN:STANDARD
TZOFFSETFROM:+0200
TZOFFSETTO:+0100
TZNAME:CET
DTSTART:20261025T010000
END:STANDARD
BEGIN:DAYLIGHT
TZOFFSETFROM:+0100
TZOFFSETTO:+0200
TZNAME:CEST
DTSTART:20270328T010000
END:DAYLIGHT
BEGIN:STANDARD
TZOFFSETFROM:+0200
TZOFFSETTO:+0100
TZNAME:CET
DTSTART:20271031T010000
END:STANDARD
END:VTIMEZONE
BEGIN:VEVENT
DTSTART;TZID=Europe/Madrid:20260325T150000
DTEND;TZID=Europe/Madrid:20260326T130000
DTSTAMP:20260421T121002
CREATED:20260320T164450Z
LAST-MODIFIED:20260324T104338Z
UID:13895-1774450800-1774530000@linagalvez.eu
SUMMARY:Pleno del Parlamento Europeo en Bruselas
DESCRIPTION:En el Pleno del Parlamento Europeo que se celebra esta semana en Bruselas\, la sesión Plenaria se extenderá durante los días miércoles 25 y jueves 26\nde marzo de 2026. \n\nDestacados del Pleno: \nJueves 26 de marzo de 2026 \n09:00 – 13:00: \n\nDebate conjunto sobre el acuerdo comercial UE-EE.UU y voto\nDebate conjunto – Protección de los depósitos y medidas de intervención temprana\nLucha contra la corrupción\nContaminantes de las aguas superficiales y subterráneas\nSimplificación de la aplicación de las normas armonizadas sobre inteligencia artificial (Paquete ómnibus digital sobre IA)\n\n\nPodrá seguirse aquí
URL:https://linagalvez.eu/agenda/pleno-parlamento-europeo-bruselas-2026-03/
CATEGORIES:Actualidad,Parlamento
ATTACH;FMTTYPE=image/jpeg:https://linagalvez.eu/wp-content/uploads/2021/02/Pleno-en-Bruselas.jpg
END:VEVENT
END:VCALENDAR