BEGIN:VCALENDAR
VERSION:2.0
PRODID:-//Lina Gálvez - ECPv6.15.20//NONSGML v1.0//EN
CALSCALE:GREGORIAN
METHOD:PUBLISH
X-WR-CALNAME:Lina Gálvez
X-ORIGINAL-URL:https://linagalvez.eu
X-WR-CALDESC:Eventos para Lina Gálvez
REFRESH-INTERVAL;VALUE=DURATION:PT1H
X-Robots-Tag:noindex
X-PUBLISHED-TTL:PT1H
BEGIN:VTIMEZONE
TZID:Europe/Madrid
BEGIN:DAYLIGHT
TZOFFSETFROM:+0100
TZOFFSETTO:+0200
TZNAME:CEST
DTSTART:20240331T010000
END:DAYLIGHT
BEGIN:STANDARD
TZOFFSETFROM:+0200
TZOFFSETTO:+0100
TZNAME:CET
DTSTART:20241027T010000
END:STANDARD
BEGIN:DAYLIGHT
TZOFFSETFROM:+0100
TZOFFSETTO:+0200
TZNAME:CEST
DTSTART:20250330T010000
END:DAYLIGHT
BEGIN:STANDARD
TZOFFSETFROM:+0200
TZOFFSETTO:+0100
TZNAME:CET
DTSTART:20251026T010000
END:STANDARD
BEGIN:DAYLIGHT
TZOFFSETFROM:+0100
TZOFFSETTO:+0200
TZNAME:CEST
DTSTART:20260329T010000
END:DAYLIGHT
BEGIN:STANDARD
TZOFFSETFROM:+0200
TZOFFSETTO:+0100
TZNAME:CET
DTSTART:20261025T010000
END:STANDARD
END:VTIMEZONE
BEGIN:VEVENT
DTSTART;TZID=Europe/Madrid:20250401T090000
DTEND;TZID=Europe/Madrid:20250401T094500
DTSTAMP:20260423T113856
CREATED:20250328T083947Z
LAST-MODIFIED:20250331T084045Z
UID:11394-1743498000-1743500700@linagalvez.eu
SUMMARY:S&D FEMM Working Group meeting
DESCRIPTION:Lina Gálvez asistirá la reunión de trabajo del grupo S&D Socialistas y Demócratas de la Comisión de Derechos de la Mujer e Igualdad de Género (FEMM)\, de la que es presidenta.
URL:https://linagalvez.eu/agenda/sd-femm-working-group-meeting-2504/
CATEGORIES:Actualidad,FEMM,Parlamento,S&D
ATTACH;FMTTYPE=image/png:https://linagalvez.eu/wp-content/uploads/2023/01/femm_logo.png
END:VEVENT
BEGIN:VEVENT
DTSTART;TZID=Europe/Madrid:20250408T100000
DTEND;TZID=Europe/Madrid:20250408T104500
DTSTAMP:20260423T113856
CREATED:20250404T073947Z
LAST-MODIFIED:20250407T092803Z
UID:11497-1744106400-1744109100@linagalvez.eu
SUMMARY:Reunión bilateral con diputadas del Parlamento de Brasil
DESCRIPTION:Lina Gálvez participará en una reunión bilateral con diputadas del Parlamento de Brasil en el marco de una visita al Parlamento Europeo. \nFuente de la imagen: Wikipedia. En esta web se realiza un uso justo y no comercial de la imagen para la difusión del evento.
URL:https://linagalvez.eu/agenda/reunion-bilateral-diputadas-parlamento-brasil-2025-04/
CATEGORIES:Actualidad,FEMM,Parlamento
ATTACH;FMTTYPE=image/jpeg:https://linagalvez.eu/wp-content/uploads/Congresso_do_Brasil-wikipedia.jpg
END:VEVENT
BEGIN:VEVENT
DTSTART;TZID=Europe/Madrid:20250409T090000
DTEND;TZID=Europe/Madrid:20250409T123000
DTSTAMP:20260423T113856
CREATED:20250404T073947Z
LAST-MODIFIED:20251209T083416Z
UID:11467-1744189200-1744201800@linagalvez.eu
SUMMARY:Reunión de la Comisión de Derechos de las Mujeres e Igualdad de Género (FEMM)
DESCRIPTION:Lina Gálvez presidirá la Comisión de Derechos de las Mujeres e Igualdad de Género (FEMM)\, en el que se llevará a cabo una audiencia conjunta con la Comisión de Salud Pública (SANT) sobre sumisión química. \nVer en streaming aquí
URL:https://linagalvez.eu/agenda/reunion-comite-femm-2025-04/
CATEGORIES:Actualidad,FEMM,Parlamento
ATTACH;FMTTYPE=image/jpeg:https://linagalvez.eu/wp-content/uploads/2025/01/1734010167128_20241212_EP-177604A_35A_198-scaled.jpg
END:VEVENT
BEGIN:VEVENT
DTSTART;TZID=Europe/Madrid:20250409T150000
DTEND;TZID=Europe/Madrid:20250409T183000
DTSTAMP:20260423T113856
CREATED:20250404T073947Z
LAST-MODIFIED:20250407T090422Z
UID:11471-1744210800-1744223400@linagalvez.eu
SUMMARY:Reunión de la Comisión de Derechos de las Mujeres e Igualdad de Género (FEMM)
DESCRIPTION:Lina Gálvez presidirá la Comisión de Derechos de las Mujeres e Igualdad de Género (FEMM)\, donde se llevará a cabo un intercambio de opiniones en colaboración con la Delegación del Parlamento Europeo para las Relaciones con Brasil sobre las mujeres en la política y la lucha contra la violencia. \nVer en streaming aquí
URL:https://linagalvez.eu/agenda/reunion-comite-femm-2025-04-2/
CATEGORIES:Actualidad,FEMM,Parlamento
ATTACH;FMTTYPE=image/jpeg:https://linagalvez.eu/wp-content/uploads/2025/01/1734010167128_20241212_EP-177604A_35A_198-scaled.jpg
END:VEVENT
BEGIN:VEVENT
DTSTART;TZID=Europe/Madrid:20250410T170000
DTEND;TZID=Europe/Madrid:20250410T193000
DTSTAMP:20260423T113856
CREATED:20250404T090950Z
LAST-MODIFIED:20250407T090140Z
UID:11459-1744304400-1744313400@linagalvez.eu
SUMMARY:Panel “Cobertura mediática de las mujeres políticas y su impacto en la democracia”
DESCRIPTION:Lina Gálvez participará en el panel del evento organizado por la Federación Internacional de Periodistas sobre “Cobertura mediática de las mujeres políticas y su impacto en la democracia” en el que se debatirá sobre estereotipos de género en noticias y medios de comunicación. \n Más información e inscripciones aquí. \nFuente de la imagen: evento anunciado en el que participa Lina Gálvez. En esta web se realiza un uso justo y no comercial de la imagen para la difusión del evento.
URL:https://linagalvez.eu/agenda/panel-cobertura-mediatica-mujeres-politicas-impacto-democracia/
CATEGORIES:Actualidad,Destacado,FEMM,Parlamento
ATTACH;FMTTYPE=image/png:https://linagalvez.eu/wp-content/uploads/Cobertura-mujeres-politicas-democracia.png
END:VEVENT
END:VCALENDAR