BEGIN:VCALENDAR
VERSION:2.0
PRODID:-//Lina Gálvez - ECPv6.15.20//NONSGML v1.0//EN
CALSCALE:GREGORIAN
METHOD:PUBLISH
X-WR-CALNAME:Lina Gálvez
X-ORIGINAL-URL:https://linagalvez.eu
X-WR-CALDESC:Eventos para Lina Gálvez
REFRESH-INTERVAL;VALUE=DURATION:PT1H
X-Robots-Tag:noindex
X-PUBLISHED-TTL:PT1H
BEGIN:VTIMEZONE
TZID:Europe/Madrid
BEGIN:DAYLIGHT
TZOFFSETFROM:+0100
TZOFFSETTO:+0200
TZNAME:CEST
DTSTART:20240331T010000
END:DAYLIGHT
BEGIN:STANDARD
TZOFFSETFROM:+0200
TZOFFSETTO:+0100
TZNAME:CET
DTSTART:20241027T010000
END:STANDARD
BEGIN:DAYLIGHT
TZOFFSETFROM:+0100
TZOFFSETTO:+0200
TZNAME:CEST
DTSTART:20250330T010000
END:DAYLIGHT
BEGIN:STANDARD
TZOFFSETFROM:+0200
TZOFFSETTO:+0100
TZNAME:CET
DTSTART:20251026T010000
END:STANDARD
BEGIN:DAYLIGHT
TZOFFSETFROM:+0100
TZOFFSETTO:+0200
TZNAME:CEST
DTSTART:20260329T010000
END:DAYLIGHT
BEGIN:STANDARD
TZOFFSETFROM:+0200
TZOFFSETTO:+0100
TZNAME:CET
DTSTART:20261025T010000
END:STANDARD
END:VTIMEZONE
BEGIN:VEVENT
DTSTART;TZID=Europe/Madrid:20250708T090000
DTEND;TZID=Europe/Madrid:20250708T094500
DTSTAMP:20260423T054000
CREATED:20250704T073947Z
LAST-MODIFIED:20250707T070520Z
UID:12194-1751965200-1751967900@linagalvez.eu
SUMMARY:S&D FEMM Working Group meeting
DESCRIPTION:Lina Gálvez asistirá la reunión de trabajo del grupo S&D Socialistas y Demócratas de la Comisión de Derechos de la Mujer e Igualdad de Género (FEMM)\, de la que es presidenta.
URL:https://linagalvez.eu/agenda/sd-femm-working-group-meeting-2507/
CATEGORIES:Actualidad,Destacado,FEMM,Parlamento,S&D
ATTACH;FMTTYPE=image/png:https://linagalvez.eu/wp-content/uploads/2023/01/femm_logo.png
END:VEVENT
BEGIN:VEVENT
DTSTART;TZID=Europe/Madrid:20250714T180000
DTEND;TZID=Europe/Madrid:20250714T180000
DTSTAMP:20260423T054000
CREATED:20250711T104830Z
LAST-MODIFIED:20250714T071231Z
UID:12225-1752516000-1752516000@linagalvez.eu
SUMMARY:Reunión conjunta de la Comisión de Derechos de la Mujer e Igualdad de Género y la Comisión de Libertades Civiles\, Justicia y Asuntos de Interior
DESCRIPTION:Lina Gálvez participará\, en calidad de presidenta de la Comisión de Derechos de las Mujeres e Igualdad de Género (FEMM)\, a la reunión conjunta con la Comisión de Libertades Civiles\, Justicia y Asuntos de Interior (LIBE) para tratar cuestiones relacionadas con la igualdad de género y los derechos fundamentales. \nVer en streaming aquí
URL:https://linagalvez.eu/agenda/joint-meeting-femm-libe-2025-07/
CATEGORIES:Actualidad,Destacado,FEMM,Parlamento
ATTACH;FMTTYPE=image/jpeg:https://linagalvez.eu/wp-content/uploads/2025/01/1733319039584_20241204_EP-176461A_AR2_018-scaled.jpg
END:VEVENT
BEGIN:VEVENT
DTSTART;TZID=Europe/Madrid:20250715T093000
DTEND;TZID=Europe/Madrid:20250715T103000
DTSTAMP:20260423T054000
CREATED:20250710T073947Z
LAST-MODIFIED:20250714T073716Z
UID:12230-1752571800-1752575400@linagalvez.eu
SUMMARY:Reunión con la Comisaria Zaharieva
DESCRIPTION:Lina Gálvez mantendrá un encuentro con Ekaterina Zaharieva\, comisaria de Startups\, Investigación e Innovación\, para tratar temas de interés común\, especialmente en relación con investigación\, innovación y el papel de las mujeres.
URL:https://linagalvez.eu/agenda/reunion-comisaria-zaharieva-25-07/
CATEGORIES:Actualidad,Destacado,ITRE,Parlamento,S&D
ATTACH;FMTTYPE=image/jpeg:https://linagalvez.eu/wp-content/uploads/PE_Lina-Galvez_ITRE_Exchange-of-views-with-commisioner-Ekaterina-Zaharieva-2025-2.jpg
END:VEVENT
BEGIN:VEVENT
DTSTART;TZID=Europe/Madrid:20250716T083000
DTEND;TZID=Europe/Madrid:20250716T123000
DTSTAMP:20260423T054000
CREATED:20250710T073947Z
LAST-MODIFIED:20250715T072446Z
UID:12249-1752654600-1752669000@linagalvez.eu
SUMMARY:Reunión de la Comisión de Derechos de las Mujeres e Igualdad de Género (FEMM)
DESCRIPTION:Lina Gálvez presidirá la sesión de la Comisión de Derechos de las Mujeres e Igualdad de Género (FEMM)\, en la que se debatirán temas legislativos y estratégicos relacionados con la igualdad en la UE. Durante la reunión se llevará a cabo un intercambio de opiniones con la presidencia danesa del Consejo (segundo semestre de 2025). \nVer en streaming aquí
URL:https://linagalvez.eu/agenda/reunion-comite-femm-2025-07/
CATEGORIES:Actualidad,Destacado,FEMM,Parlamento
ATTACH;FMTTYPE=image/png:https://linagalvez.eu/wp-content/uploads/2023/01/femm_logo.png
END:VEVENT
BEGIN:VEVENT
DTSTART;TZID=Europe/Madrid:20250716T150000
DTEND;TZID=Europe/Madrid:20250716T183000
DTSTAMP:20260423T054000
CREATED:20250710T073947Z
LAST-MODIFIED:20250714T082137Z
UID:12251-1752678000-1752690600@linagalvez.eu
SUMMARY:Reunión de la Comisión de Derechos de las Mujeres e Igualdad de Género (FEMM)
DESCRIPTION:Continúa la jornada de trabajo de la Comisión FEMM bajo la presidencia de Lina Gálvez. \nVer en streaming aquí
URL:https://linagalvez.eu/agenda/reunion-comite-femm-2025-07-2/
CATEGORIES:Actualidad,FEMM,Parlamento
ATTACH;FMTTYPE=image/jpeg:https://linagalvez.eu/wp-content/uploads/2025/01/1733319067420_20241204_EP-176461A_AR2_025_R-scaled.jpg
END:VEVENT
END:VCALENDAR