BEGIN:VCALENDAR
VERSION:2.0
PRODID:-//Lina Gálvez - ECPv6.15.20//NONSGML v1.0//EN
CALSCALE:GREGORIAN
METHOD:PUBLISH
X-WR-CALNAME:Lina Gálvez
X-ORIGINAL-URL:https://linagalvez.eu
X-WR-CALDESC:Eventos para Lina Gálvez
REFRESH-INTERVAL;VALUE=DURATION:PT1H
X-Robots-Tag:noindex
X-PUBLISHED-TTL:PT1H
BEGIN:VTIMEZONE
TZID:Europe/Madrid
BEGIN:DAYLIGHT
TZOFFSETFROM:+0100
TZOFFSETTO:+0200
TZNAME:CEST
DTSTART:20250330T010000
END:DAYLIGHT
BEGIN:STANDARD
TZOFFSETFROM:+0200
TZOFFSETTO:+0100
TZNAME:CET
DTSTART:20251026T010000
END:STANDARD
BEGIN:DAYLIGHT
TZOFFSETFROM:+0100
TZOFFSETTO:+0200
TZNAME:CEST
DTSTART:20260329T010000
END:DAYLIGHT
BEGIN:STANDARD
TZOFFSETFROM:+0200
TZOFFSETTO:+0100
TZNAME:CET
DTSTART:20261025T010000
END:STANDARD
BEGIN:DAYLIGHT
TZOFFSETFROM:+0100
TZOFFSETTO:+0200
TZNAME:CEST
DTSTART:20270328T010000
END:DAYLIGHT
BEGIN:STANDARD
TZOFFSETFROM:+0200
TZOFFSETTO:+0100
TZNAME:CET
DTSTART:20271031T010000
END:STANDARD
END:VTIMEZONE
BEGIN:VEVENT
DTSTART;TZID=Europe/Madrid:20260218T043000
DTEND;TZID=Europe/Madrid:20260218T063000
DTSTAMP:20260421T153722
CREATED:20260212T195513Z
LAST-MODIFIED:20260216T115541Z
UID:13582-1771389000-1771396200@linagalvez.eu
SUMMARY:Misión FEMM a la India: mesa redonda con representantes de la sociedad civil: ONGs\, OSC y asociaciones
DESCRIPTION:Lina Gálvez\, participará en la mesa redonda con organizaciones de la sociedad civil india (ONGs\, OSC\, asociaciones)\, como parte de la misión FEMM a la India\, en calidad de presidenta de la Delegación de Derechos de las Mujeres e Igualdad de Género del Parlamento Europeo. \nIntervendrán: \n\nSonal Sharma\, Self-Employed Women Association (SEWA)\nManjula Pradeep\, Wise Act of Youth Visioning and Engagement (WAYVE) Foundation\nBeena Pallical\, National Campaign on Dalit Human Rights (NCDHR)\n\n 09:00 – 11:00 hora local de Kolkata \nFuente de la imagen: Centro de Documentación Europea (CDE). Universidad de Almería. En esta web se realiza un uso justo y no comercial de la imagen para la difusión del evento.
URL:https://linagalvez.eu/agenda/mesa-redonda-sociedad-civil-mision-femm-india-2026-2/
CATEGORIES:Actualidad,FEMM,Parlamento
ATTACH;FMTTYPE=image/webp:https://linagalvez.eu/wp-content/uploads/india-union-europea.webp
END:VEVENT
END:VCALENDAR