BEGIN:VCALENDAR
VERSION:2.0
PRODID:-//Lina Gálvez - ECPv6.15.20//NONSGML v1.0//EN
CALSCALE:GREGORIAN
METHOD:PUBLISH
X-WR-CALNAME:Lina Gálvez
X-ORIGINAL-URL:https://linagalvez.eu
X-WR-CALDESC:Eventos para Lina Gálvez
REFRESH-INTERVAL;VALUE=DURATION:PT1H
X-Robots-Tag:noindex
X-PUBLISHED-TTL:PT1H
BEGIN:VTIMEZONE
TZID:Europe/Madrid
BEGIN:DAYLIGHT
TZOFFSETFROM:+0100
TZOFFSETTO:+0200
TZNAME:CEST
DTSTART:20240331T010000
END:DAYLIGHT
BEGIN:STANDARD
TZOFFSETFROM:+0200
TZOFFSETTO:+0100
TZNAME:CET
DTSTART:20241027T010000
END:STANDARD
BEGIN:DAYLIGHT
TZOFFSETFROM:+0100
TZOFFSETTO:+0200
TZNAME:CEST
DTSTART:20250330T010000
END:DAYLIGHT
BEGIN:STANDARD
TZOFFSETFROM:+0200
TZOFFSETTO:+0100
TZNAME:CET
DTSTART:20251026T010000
END:STANDARD
BEGIN:DAYLIGHT
TZOFFSETFROM:+0100
TZOFFSETTO:+0200
TZNAME:CEST
DTSTART:20260329T010000
END:DAYLIGHT
BEGIN:STANDARD
TZOFFSETFROM:+0200
TZOFFSETTO:+0100
TZNAME:CET
DTSTART:20261025T010000
END:STANDARD
END:VTIMEZONE
BEGIN:VEVENT
DTSTART;TZID=Europe/Madrid:20251017T164500
DTEND;TZID=Europe/Madrid:20251017T173000
DTSTAMP:20260422T045212
CREATED:20251013T094128Z
LAST-MODIFIED:20251017T114832Z
UID:12631-1760719500-1760722200@linagalvez.eu
SUMMARY:Presentación de 'Acción de Solidaridad: Oriente Medio' y 'One on one: Yulia Navalnaya'
DESCRIPTION:La eurodiputada Lina Gálvez\, en el marco de actividades del Congreso Electoral del Partido de los Socialistas Europeos (PES) de 2025 en Ámsterdam\, asistirá a las presentaciones de la tarde del viernes 17 de octubre: \n\n16:45 Presentación de ‘Acción de Solidaridad: Oriente Medio’. Anuncio de Resultados\n17:10h Presentación de ‘One on one: Yulia Navalnaya’\, a cargo de la activista rusa por los derechos humanos\n\nMás información (en inglés) aquí \nVer en streaming aquí \nFuente de la imagen: PES\, Partido Socialista Europeo. En esta web se realiza un uso justo y no comercial de la imagen para la difusión del evento.
URL:https://linagalvez.eu/agenda/congreso-partido-socialista-europeo-2025-amsterdam-dia-1-presentaciones/
CATEGORIES:Actualidad,Parlamento,S&D
ATTACH;FMTTYPE=image/png:https://linagalvez.eu/wp-content/uploads/Logo_PES_SD.png
END:VEVENT
END:VCALENDAR