BEGIN:VCALENDAR
VERSION:2.0
PRODID:-//Lina Gálvez - ECPv6.15.20//NONSGML v1.0//EN
CALSCALE:GREGORIAN
METHOD:PUBLISH
X-WR-CALNAME:Lina Gálvez
X-ORIGINAL-URL:https://linagalvez.eu
X-WR-CALDESC:Eventos para Lina Gálvez
REFRESH-INTERVAL;VALUE=DURATION:PT1H
X-Robots-Tag:noindex
X-PUBLISHED-TTL:PT1H
BEGIN:VTIMEZONE
TZID:Europe/Madrid
BEGIN:DAYLIGHT
TZOFFSETFROM:+0100
TZOFFSETTO:+0200
TZNAME:CEST
DTSTART:20250330T010000
END:DAYLIGHT
BEGIN:STANDARD
TZOFFSETFROM:+0200
TZOFFSETTO:+0100
TZNAME:CET
DTSTART:20251026T010000
END:STANDARD
BEGIN:DAYLIGHT
TZOFFSETFROM:+0100
TZOFFSETTO:+0200
TZNAME:CEST
DTSTART:20260329T010000
END:DAYLIGHT
BEGIN:STANDARD
TZOFFSETFROM:+0200
TZOFFSETTO:+0100
TZNAME:CET
DTSTART:20261025T010000
END:STANDARD
BEGIN:DAYLIGHT
TZOFFSETFROM:+0100
TZOFFSETTO:+0200
TZNAME:CEST
DTSTART:20270328T010000
END:DAYLIGHT
BEGIN:STANDARD
TZOFFSETFROM:+0200
TZOFFSETTO:+0100
TZNAME:CET
DTSTART:20271031T010000
END:STANDARD
END:VTIMEZONE
BEGIN:VEVENT
DTSTART;TZID=Europe/Madrid:20260311T164500
DTEND;TZID=Europe/Madrid:20260311T173000
DTSTAMP:20260421T105503
CREATED:20260306T103647Z
LAST-MODIFIED:20260311T100352Z
UID:13838-1773247500-1773250200@linagalvez.eu
SUMMARY:Reunión con las vicepresidencias de los Grupos de Estados de la Mesa del CSW70
DESCRIPTION:Lina Gálvez se reunirá con las vicepresidencias del 70.º periodo de sesiones de la Comisión de la Condición Jurídica y Social de la Mujer 2026 (CSW70): \n\nAndreea MOCANU (Rumanía)\, Vicepresidenta de la CSW70 (Grupo de Estados de Europa Oriental).\nNoah OEHRI (Liechtenstein)\, Vicepresidente de la CSW70 (Grupo de Estados de Europa Occidental y otros Estados).\nSamah DBOUK (Líbano)\, Vicepresidenta de la CSW70 (Grupo de Estados de Asia y el Pacífico).\nFlavia UMULISA (Ruanda)\, Vicepresidenta de la CSW70 (Grupo de Estados de África) (TBC).\n\n\nEl 70.º período de sesiones anual de la Comisión de la Condición Jurídica y Social de la Mujer (CSW70)\, se celebrará del 9 al 19 de marzo en la Sede de las Naciones Unidas en Nueva York. Es el mayor encuentro anual de las Naciones Unidas dedicado a la igualdad de género y los derechos de las mujeres. \nLa reunión llega en un punto de inflexión crítico. El Estado de derecho está siendo atacado. El espacio democrático se está reduciendo. Los derechos de las mujeres y niñas están retrocediendo\, pero los sistemas judiciales no las protegen. La igualdad jurídica sigue estando fuera del alcance de la mayoría de las mujeres y niñas del mundo\, que solo tienen el 64 por ciento de los derechos legales de los que disfrutan los hombres. La desigualdad jurídica tiene consecuencias largas y profundas\, que abarcan vidas\, generaciones y afectan a sociedades enteras. El tema prioritario de la CSW70\, “Garantizar y reforzar el acceso a la justicia para todas las mujeres y niñas”\, analiza lo que significa la desigualdad jurídica en la vida\, y recomienda una serie de acciones para cerrar esta brecha. \nMás información: Parlamento Europeo | ONU Mujeres – CSW70 \n 11:45 – 12:30 hora local de Nueva York \nFuente de la imagen: ONU Mujeres. CSW70. En esta web se realiza un uso justo y no comercial de la imagen para la difusión del evento.
URL:https://linagalvez.eu/agenda/reunion-vicepresidencias-grupos-estados-csw70/
CATEGORIES:Actualidad,FEMM,Parlamento
ATTACH;FMTTYPE=image/png:https://linagalvez.eu/wp-content/uploads/CSW70-9-19-March-2026_16-9.png
END:VEVENT
BEGIN:VEVENT
DTSTART;TZID=Europe/Madrid:20260312T151500
DTEND;TZID=Europe/Madrid:20260312T160000
DTSTAMP:20260421T105503
CREATED:20260306T103647Z
LAST-MODIFIED:20260311T100237Z
UID:13850-1773328500-1773331200@linagalvez.eu
SUMMARY:Reunión con Maritza Chan Valverde\, presidenta de la Mesa del CSW70
DESCRIPTION:Lina Gálvez se reunirá con S.E. la Sra. Maritza Chan VALVERDE (Costa Rica)\, Presidenta de la Mesa del 70.º periodo de sesiones de la Comisión de la Condición Jurídica y Social de la Mujer 2026 (CSW70) (representante del Grupo de Estados de América Latina y el Caribe). \n\nEl 70.º período de sesiones anual de la Comisión de la Condición Jurídica y Social de la Mujer (CSW70)\, se celebrará del 9 al 19 de marzo en la Sede de las Naciones Unidas en Nueva York. Es el mayor encuentro anual de las Naciones Unidas dedicado a la igualdad de género y los derechos de las mujeres. \nLa reunión llega en un punto de inflexión crítico. El Estado de derecho está siendo atacado. El espacio democrático se está reduciendo. Los derechos de las mujeres y niñas están retrocediendo\, pero los sistemas judiciales no las protegen. La igualdad jurídica sigue estando fuera del alcance de la mayoría de las mujeres y niñas del mundo\, que solo tienen el 64 por ciento de los derechos legales de los que disfrutan los hombres. La desigualdad jurídica tiene consecuencias largas y profundas\, que abarcan vidas\, generaciones y afectan a sociedades enteras. El tema prioritario de la CSW70\, “Garantizar y reforzar el acceso a la justicia para todas las mujeres y niñas”\, analiza lo que significa la desigualdad jurídica en la vida\, y recomienda una serie de acciones para cerrar esta brecha. \nMás información: Parlamento Europeo | ONU Mujeres – CSW70 \n 10:15 – 11:00 hora local de Nueva York \nFuente de la imagen: ONU Mujeres. CSW70. En esta web se realiza un uso justo y no comercial de la imagen para la difusión del evento.
URL:https://linagalvez.eu/agenda/reunion-maritza-chan-presidenta-mesa-csw70/
CATEGORIES:Actualidad,FEMM,Parlamento
ATTACH;FMTTYPE=image/png:https://linagalvez.eu/wp-content/uploads/CSW70-9-19-March-2026_16-9.png
END:VEVENT
END:VCALENDAR