BEGIN:VCALENDAR
VERSION:2.0
PRODID:-//Lina Gálvez - ECPv6.15.20//NONSGML v1.0//EN
CALSCALE:GREGORIAN
METHOD:PUBLISH
X-WR-CALNAME:Lina Gálvez
X-ORIGINAL-URL:https://linagalvez.eu
X-WR-CALDESC:Eventos para Lina Gálvez
REFRESH-INTERVAL;VALUE=DURATION:PT1H
X-Robots-Tag:noindex
X-PUBLISHED-TTL:PT1H
BEGIN:VTIMEZONE
TZID:Europe/Madrid
BEGIN:DAYLIGHT
TZOFFSETFROM:+0100
TZOFFSETTO:+0200
TZNAME:CEST
DTSTART:20230326T010000
END:DAYLIGHT
BEGIN:STANDARD
TZOFFSETFROM:+0200
TZOFFSETTO:+0100
TZNAME:CET
DTSTART:20231029T010000
END:STANDARD
BEGIN:DAYLIGHT
TZOFFSETFROM:+0100
TZOFFSETTO:+0200
TZNAME:CEST
DTSTART:20240331T010000
END:DAYLIGHT
BEGIN:STANDARD
TZOFFSETFROM:+0200
TZOFFSETTO:+0100
TZNAME:CET
DTSTART:20241027T010000
END:STANDARD
BEGIN:DAYLIGHT
TZOFFSETFROM:+0100
TZOFFSETTO:+0200
TZNAME:CEST
DTSTART:20250330T010000
END:DAYLIGHT
BEGIN:STANDARD
TZOFFSETFROM:+0200
TZOFFSETTO:+0100
TZNAME:CET
DTSTART:20251026T010000
END:STANDARD
END:VTIMEZONE
BEGIN:VEVENT
DTSTART;TZID=Europe/Madrid:20240701T120000
DTEND;TZID=Europe/Madrid:20240701T130000
DTSTAMP:20260425T182608
CREATED:20240701T114156Z
LAST-MODIFIED:20240701T114156Z
UID:9484-1719835200-1719838800@linagalvez.eu
SUMMARY:Acto de acatamiento a la Constitución de las candidatas y candidatos proclamados X Legislatura EU.
DESCRIPTION:La eurodiputada Lina Gálvez\, en su condición de proclamada electa\, asistirá al acto de acatamiento a la Constitución de las candidatas y candidatos proclamados electos en las elecciones al Parlamento Europeo del 9 de junio de 2024.\n\n\n\n\n\n\n\n\n\n\nL@s 61 nuev@s eurodiputadas y eurodiputad@s que resultaron elegidos en las elecciones del pasado 9 de junio tendrán que acudir al Congreso para proceder al acto de promesa o juramento de la Constitución\, un trámite que la legislación española considera necesario para poder recibir la credencial que permita tomar posesión del escaño en el Parlamento Europeo. \n\n\n\n\n\n\nSe puede seguir Aquí \n 
URL:https://linagalvez.eu/agenda/acto-de-acatamiento-a-la-constitucion-de-las-candidatas-y-candidatos-proclamados-x-legislatura-eu/
CATEGORIES:Actualidad,Destacado,Parlamento,S&D
ATTACH;FMTTYPE=image/jpeg:https://linagalvez.eu/wp-content/uploads/2024/07/GP-Socialista-X-Legislatura.jpeg
END:VEVENT
BEGIN:VEVENT
DTSTART;TZID=Europe/Madrid:20240702T080000
DTEND;TZID=Europe/Madrid:20240703T170000
DTSTAMP:20260425T182608
CREATED:20240612T070209Z
LAST-MODIFIED:20240701T094515Z
UID:9475-1719907200-1720026000@linagalvez.eu
SUMMARY:Encuentros del Grupo S&D\, negociación y reuniones de constitución de la legislatura 2024-2029.
DESCRIPTION:La eurodiputada Lina Glavez asistirá a la convocatoria del grupo S&D enmarcados en los trabajos de constitución e inicio de la legislatura 2024-2029. \nDetalles de las reuniones: \n\nReunión del Grupo parlamentario  S&D:\n\nFecha: Martes\nDescripción: Coordinación de legislatura
URL:https://linagalvez.eu/agenda/encuentros-sd-negociacion-y-reuniones-de-constitucion-de-la-legislatura-2024-2029-4-2/
CATEGORIES:Actualidad,Destacado,Parlamento,S&D
ATTACH;FMTTYPE=image/jpeg:https://linagalvez.eu/wp-content/uploads/2024/06/LGM-y-grupo.jpeg
END:VEVENT
BEGIN:VEVENT
DTSTART;TZID=Europe/Madrid:20240709T173000
DTEND;TZID=Europe/Madrid:20240710T200000
DTSTAMP:20260425T182608
CREATED:20240612T070209Z
LAST-MODIFIED:20240710T075833Z
UID:9492-1720546200-1720641600@linagalvez.eu
SUMMARY:Encuentros del Grupo S&D\, negociación y reuniones de constitución de la legislatura 2024-2029.
DESCRIPTION:La eurodiputada Lina Glavez asistirá a la convocatoria del grupo S&D enmarcados en los trabajos de constitución e inicio de la legislatura 2024-2029. \nDetalles de las reuniones: \n\nReunión del Grupo parlamentario  S&D:\n\nFecha: Martes\nDescripción: Coordinación de legislatura
URL:https://linagalvez.eu/agenda/encuentros-sd-negociacion-y-reuniones-de-constitucion-de-la-legislatura-2024-2029-4-2-2/
CATEGORIES:Actualidad,Parlamento,S&D
ATTACH;FMTTYPE=image/jpeg:https://linagalvez.eu/wp-content/uploads/2024/06/LGM-y-grupo.jpeg
END:VEVENT
BEGIN:VEVENT
DTSTART;TZID=Europe/Madrid:20240715T170000
DTEND;TZID=Europe/Madrid:20240719T183000
DTSTAMP:20260425T182608
CREATED:20210211T164450Z
LAST-MODIFIED:20240712T114026Z
UID:9428-1721062800-1721413800@linagalvez.eu
SUMMARY:Pleno constituyente de la X Legislatura del Parlamento Europeo. Estrasburgo
DESCRIPTION:Destacados del pleno. Estrasburgo \nOrden del día: \n\nElección del Presidente del Parlamento\nElección de la Mesa del Parlamento: 14 Vicepresidentes y 5 Cuestores\nNúmero y composición de las comisiones y subcomisiones del Parlamento y número de delegaciones interparlamentarias\nElección del Presidente de la Comisión Europea\nDebate con Charles Michel y la Comisión Europea sobre el Consejo Europeo del 27 de junio\nLa guerra de Rusia contra Ucrania: declaraciones de los líderes de los grupos políticos y votación de una resolución\n\nSe podrán seguir las sesiones en el siguiente enlace AQUÍ
URL:https://linagalvez.eu/agenda/pleno-del-parlamento-europeo-3/
CATEGORIES:Actualidad,Destacado,EMPL,FEMM,ITRE,Parlamento
ATTACH;FMTTYPE=image/jpeg:https://linagalvez.eu/wp-content/uploads/2020/03/European_Parliament_Strasbourg_Hemicycle_-_Diliff-2-scaled.jpg
END:VEVENT
BEGIN:VEVENT
DTSTART;TZID=Europe/Madrid:20240715T183000
DTEND;TZID=Europe/Madrid:20240715T210000
DTSTAMP:20260425T182608
CREATED:20240715T083114Z
LAST-MODIFIED:20240715T083640Z
UID:9519-1721068200-1721077200@linagalvez.eu
SUMMARY:Ceremonia de entrega de medallas a los diputados y diputadas salientes de la 9ª legislatura del Parlamento Europeo
DESCRIPTION:La eurodiputada Lina Gálvez asistirá a la Recepción de bienvenida a los y las diputadas de la 10ª legislatura\, organizada por el Parlamento Europeo. La ceremonia será presidida por la presidenta del Parlamento Europeo\, Roberta Metsola\, quien también presidirá la entrega de medallas a los diputados salientes de la 9ª legislatura del Parlamento Europeo. \nEsta recepción marca el inicio de la nueva legislatura y reconoce el trabajo realizado por los diputados y diputadas que han completado su mandato.
URL:https://linagalvez.eu/agenda/ceremonia-de-entrega-de-medallas-a-los-diputados-y-diputadas-salientes-de-la-9a-legislatura-del-parlamento-europeo/
CATEGORIES:Actualidad,Destacado,Parlamento,S&D
ATTACH;FMTTYPE=image/jpeg:https://linagalvez.eu/wp-content/uploads/2024/07/Estrasburgo.jpg
END:VEVENT
BEGIN:VEVENT
DTSTART;TZID=Europe/Madrid:20240722T090000
DTEND;TZID=Europe/Madrid:20240726T130000
DTSTAMP:20260425T182608
CREATED:20210211T164450Z
LAST-MODIFIED:20240620T114313Z
UID:9435-1721638800-1721998800@linagalvez.eu
SUMMARY:Semana de constitución de las comisiones parlamentaria de la X legislatura. Bruselas
DESCRIPTION:
URL:https://linagalvez.eu/agenda/pleno-del-parlamento-europeo-2-2-2-2-2-2-2-4-3-2-2-2-3-2-2-2-4-2-2-3-2/
CATEGORIES:Actualidad,Parlamento,S&D
ATTACH;FMTTYPE=image/jpeg:https://linagalvez.eu/wp-content/uploads/2021/02/Pleno-en-Bruselas.jpg
END:VEVENT
END:VCALENDAR