BEGIN:VCALENDAR
VERSION:2.0
PRODID:-//Lina Gálvez - ECPv6.15.20//NONSGML v1.0//EN
CALSCALE:GREGORIAN
METHOD:PUBLISH
X-WR-CALNAME:Lina Gálvez
X-ORIGINAL-URL:https://linagalvez.eu
X-WR-CALDESC:Eventos para Lina Gálvez
REFRESH-INTERVAL;VALUE=DURATION:PT1H
X-Robots-Tag:noindex
X-PUBLISHED-TTL:PT1H
BEGIN:VTIMEZONE
TZID:Europe/Madrid
BEGIN:DAYLIGHT
TZOFFSETFROM:+0100
TZOFFSETTO:+0200
TZNAME:CEST
DTSTART:20230326T010000
END:DAYLIGHT
BEGIN:STANDARD
TZOFFSETFROM:+0200
TZOFFSETTO:+0100
TZNAME:CET
DTSTART:20231029T010000
END:STANDARD
BEGIN:DAYLIGHT
TZOFFSETFROM:+0100
TZOFFSETTO:+0200
TZNAME:CEST
DTSTART:20240331T010000
END:DAYLIGHT
BEGIN:STANDARD
TZOFFSETFROM:+0200
TZOFFSETTO:+0100
TZNAME:CET
DTSTART:20241027T010000
END:STANDARD
BEGIN:DAYLIGHT
TZOFFSETFROM:+0100
TZOFFSETTO:+0200
TZNAME:CEST
DTSTART:20250330T010000
END:DAYLIGHT
BEGIN:STANDARD
TZOFFSETFROM:+0200
TZOFFSETTO:+0100
TZNAME:CET
DTSTART:20251026T010000
END:STANDARD
END:VTIMEZONE
BEGIN:VEVENT
DTSTART;TZID=Europe/Madrid:20240904T150000
DTEND;TZID=Europe/Madrid:20240904T153000
DTSTAMP:20260423T071749
CREATED:20240902T125417Z
LAST-MODIFIED:20240909T082446Z
UID:9590-1725462000-1725463800@linagalvez.eu
SUMMARY:Reunión con la presidenta del Parlamento Europeo
DESCRIPTION:La eurodiputada Lina Gálvez se reunirá con la presidenta del Parlamento Europeo\, Roberta Metsola.
URL:https://linagalvez.eu/agenda/reunion-presidenta-parlamento-europeo/
CATEGORIES:Actualidad,Parlamento
ATTACH;FMTTYPE=image/jpeg:https://linagalvez.eu/wp-content/uploads/2024/03/LGM_OIT_acoso-laboral.jpg
END:VEVENT
BEGIN:VEVENT
DTSTART;TZID=Europe/Madrid:20240916T170000
DTEND;TZID=Europe/Madrid:20240919T183000
DTSTAMP:20260423T071749
CREATED:20240911T154450Z
LAST-MODIFIED:20240918T081606Z
UID:9656-1726506000-1726770600@linagalvez.eu
SUMMARY:Pleno del Parlamento Europeo. Estrasburgo
DESCRIPTION:Destacados del pleno. Estrasburgo \nMiércoles 18 \nDebates sobre casos de violaciones de los derechos humanos\, de la democracia y del Estado de Derecho \nIntervención de Lina Gálvez en el debate: Deterioro de la situación de las mujeres en Afganistán debido a la reciente aprobación de la ley sobre la promoción de la virtud y la prevención del vicio. \nSe podrán seguir las sesiones en el siguiente enlace AQUÍ
URL:https://linagalvez.eu/agenda/pleno-parlamento-europeo-estrasburgo-2409/
CATEGORIES:Actualidad,Destacado,EMPL,FEMM,ITRE,Parlamento
ATTACH;FMTTYPE=image/jpeg:https://linagalvez.eu/wp-content/uploads/2020/03/European_Parliament_Strasbourg_Hemicycle_-_Diliff-2-scaled.jpg
END:VEVENT
BEGIN:VEVENT
DTSTART;TZID=Europe/Madrid:20240917T090000
DTEND;TZID=Europe/Madrid:20240917T094500
DTSTAMP:20260423T071749
CREATED:20240916T103014Z
LAST-MODIFIED:20240916T123735Z
UID:9669-1726563600-1726566300@linagalvez.eu
SUMMARY:S&D FEMM Working Group meeting
DESCRIPTION:Lina Gálvez participará en la reunión del grupo de Socialistas y Demócratas de la Comisión de Derechos de la Mujer e Igualdad de Género\, de la que es presidenta.
URL:https://linagalvez.eu/agenda/sd-femm-working-group-meeting-2409-2/
CATEGORIES:Actualidad,FEMM,Parlamento,S&D
ATTACH;FMTTYPE=image/png:https://linagalvez.eu/wp-content/uploads/2023/01/femm_logo.png
END:VEVENT
BEGIN:VEVENT
DTSTART;TZID=Europe/Madrid:20240917T150000
DTEND;TZID=Europe/Madrid:20240917T170000
DTSTAMP:20260423T071749
CREATED:20240913T131425Z
LAST-MODIFIED:20240916T104249Z
UID:9674-1726585200-1726592400@linagalvez.eu
SUMMARY:Conference of Committee Chairs
DESCRIPTION:Lina Gálvez participará\, como presidenta del Comité de Derechos de las Mujeres e Igualdad de Género\, en la reunión de la Conference of Committee Chairs (CCC)\, órgano político encargado de coordinar el trabajo de los comités del Parlamento Europeo y facilitar la cooperación entre ellos\, para facilitar la cooperación entre ellos en vistas de la conformación de la nueva Comisión Europea.
URL:https://linagalvez.eu/agenda/conference-committee-chairs-ccc-2409/
CATEGORIES:Actualidad,Destacado,FEMM,Parlamento
ATTACH;FMTTYPE=image/jpeg:https://linagalvez.eu/wp-content/uploads/2024/06/lina-galvez-el-pasado-31-de-elina-galvez-psoe-bruselas.jpeg
END:VEVENT
BEGIN:VEVENT
DTSTART;TZID=Europe/Madrid:20240918T130000
DTEND;TZID=Europe/Madrid:20240918T220000
DTSTAMP:20260423T071749
CREATED:20240916T154450Z
LAST-MODIFIED:20240919T084142Z
UID:9705-1726664400-1726696800@linagalvez.eu
SUMMARY:Debate sobre el deterioro de la situación de las mujeres en Afganistán
DESCRIPTION:Intervención de Lina Gálvez en el debate: Deterioro de la situación de las mujeres en Afganistán debido a la reciente aprobación de la ley sobre la promoción de la virtud y la prevención del vicio. Debate sobre casos de violaciones de los derechos humanos\, de la democracia y del Estado de Derecho. \nVer esta intervención AQUI \nSe podrán seguir todas las sesiones del pleno en el siguiente enlace AQUÍ
URL:https://linagalvez.eu/agenda/pleno-parlamento-europeo-estrasburgo-2409-2/
CATEGORIES:Actualidad,Destacado,EMPL,FEMM,ITRE,Parlamento
ATTACH;FMTTYPE=image/jpeg:https://linagalvez.eu/wp-content/uploads/2024/09/2024-09-18_LGM-img-pleno-alta_16-9.jpg
END:VEVENT
BEGIN:VEVENT
DTSTART;TZID=Europe/Madrid:20240923T110000
DTEND;TZID=Europe/Madrid:20240923T120000
DTSTAMP:20260423T071749
CREATED:20240920T131425Z
LAST-MODIFIED:20240923T074035Z
UID:9726-1727089200-1727092800@linagalvez.eu
SUMMARY:Reunión con el Director del Servicio de Estudios del Parlamento
DESCRIPTION:Lina Gálvez se reunirá con el Director del Servicio de Estudios del Parlamento Europeo (EPRS)\, que proporciona a los eurodiputados análisis independientes y objetivos\, disponibles también para el público en general.
URL:https://linagalvez.eu/agenda/reunion-director-eprs/
CATEGORIES:Actualidad,Parlamento
ATTACH;FMTTYPE=image/png:https://linagalvez.eu/wp-content/uploads/2020/01/Parlamento.png
END:VEVENT
BEGIN:VEVENT
DTSTART;TZID=Europe/Madrid:20240924T100000
DTEND;TZID=Europe/Madrid:20240924T110000
DTSTAMP:20260423T071749
CREATED:20240920T114846Z
LAST-MODIFIED:20240923T085001Z
UID:9734-1727172000-1727175600@linagalvez.eu
SUMMARY:Discurso de apertura del evento de lanzamiento del Proyecto Piloto del Parlamento Europeo sobre la Brecha de Género en Inversiones
DESCRIPTION:Lina Gálvez dará el discurso de apertura en el evento de lanzamiento del proyecto\, cuyo objetivo es desarrollar un estudio exhaustivo para establecer una metodología armonizada de recolección de datos que permita evaluar la brecha de género en inversiones. \nEl estudio analizará las disparidades en la inversión tanto en empresas lideradas por mujeres como en fondos gestionados por mujeres. El proyecto incluirá una serie de eventos locales en 10 países entre septiembre de 2024 y junio de 2025. \nMás información aquí
URL:https://linagalvez.eu/agenda/lanzamiento-piloto-brecha-geenero-inversiones/
CATEGORIES:Actualidad,Destacado,FEMM,Parlamento
ATTACH;FMTTYPE=image/jpeg:https://linagalvez.eu/wp-content/uploads/2024/09/GXWicskXcAA7KXS.jpeg
END:VEVENT
BEGIN:VEVENT
DTSTART;TZID=Europe/Madrid:20240924T141500
DTEND;TZID=Europe/Madrid:20240924T150000
DTSTAMP:20260423T071749
CREATED:20240920T114846Z
LAST-MODIFIED:20240923T084227Z
UID:9743-1727187300-1727190000@linagalvez.eu
SUMMARY:Discurso de apertura en el evento “Digital Independence for Europe: Investing in Digital Public Goods and Developing the EuroStack”
DESCRIPTION:Discurso de apertura en el evento “Digital Independence for Europe: Investing in Digital Public Goods and Developing the EuroStack”.\nLina Gálvez dará las palabras de apertura en este evento centrado en la independencia digital de Europa y el desarrollo de infraestructuras públicas digitales.
URL:https://linagalvez.eu/agenda/evento-digital-independence-europe-eurostack/
CATEGORIES:Actualidad,Autonomía estratégica,Destacado,ITRE,Parlamento
ATTACH;FMTTYPE=image/png:https://linagalvez.eu/wp-content/uploads/2024/09/Captura-de-pantalla-2024-09-23-103536_.png
END:VEVENT
BEGIN:VEVENT
DTSTART;TZID=Europe/Madrid:20240924T153000
DTEND;TZID=Europe/Madrid:20240924T163000
DTSTAMP:20260423T071749
CREATED:20240920T103014Z
LAST-MODIFIED:20240923T085412Z
UID:9749-1727191800-1727195400@linagalvez.eu
SUMMARY:S&D FEMM Working Group meeting
DESCRIPTION:Lina Gálvez participará en la reunión del grupo de Socialistas y Demócratas de la Comisión de Derechos de la Mujer e Igualdad de Género\, de la que es presidenta.
URL:https://linagalvez.eu/agenda/sd-femm-working-group-meeting-2409-3/
CATEGORIES:Actualidad,FEMM,Parlamento,S&D
ATTACH;FMTTYPE=image/png:https://linagalvez.eu/wp-content/uploads/2023/01/femm_logo.png
END:VEVENT
BEGIN:VEVENT
DTSTART;TZID=Europe/Madrid:20240925T170000
DTEND;TZID=Europe/Madrid:20240925T190000
DTSTAMP:20260423T071749
CREATED:20240920T200903Z
LAST-MODIFIED:20250901T072712Z
UID:9756-1727283600-1727290800@linagalvez.eu
SUMMARY:Evento de la red de Eurodiputadas y Eurodiputados por los Derechos Sexuales y Reproductivos
DESCRIPTION:Lina Gálvez será la anfitriona de este evento organizado por el EPF (MEPs por los Derechos Sexuales y Reproductivos)\, donde dará las palabras de bienvenida\, destacando la importancia de los derechos sexuales y reproductivos en el Parlamento Europeo. \nhttps://www.epfweb.org/node/85 \nAgenda del evento: \nEPF EVENT\, 25th September 2024\n15:00 – 17:00\nEuropean Parliament\, Brussels \n15:00 – 15:10 | Opening and Welcome by Lina Gálvez MEP (Chair of FEMM Committee) \n\nWelcome remarks highlighting the importance of SRHR in the European Parliament. How MEPs for SRR group can amplify the impact of MEPs’ work in these crucial areas.\n\n15:10 – 15:20 | Achievements of the European Parliament in advancing SRHR during the 9th legislature by [Robert Biedron MEP] (Ex-Chair of FEMM and Vice-Chair of DEVE Committee) \n\nA summary of the main FEMM and DEVE files mainstreaming gender equality and SRHR\, demonstrating the effectiveness of collective action within the MEPs for SRR group. Biedron will illustrate how these achievements could inspire new MEPs to join and make a tangible difference.\n\n15:20 – 15:30 | LIBE Committee’s Role in SRHR and Overcoming Anti-Gender Challenges by former MEPs for SRR Chair [Sophie in ‘t Veld] (MEP of 8th and 9th legislature) \n\nInsights on how the strategies and methods work\, with a focus on the strategic victories against anti-gender initiatives. She will emphasise the support MEPs for SRR provides in navigating these challenges.\n\n15:30 – 15:40 | Supporting MEPs for SRR: Research\, Awareness Raising and United Front by EPF Executive Director of European Parliamentary Forum for Sexual and Reproductive Rights\, Neil Datta \n\nPresentation on the practical support the MEPs for SRR secretariat offers\, including policy advice\, increasing awareness and united effort. Neil Datta will outline how the group enhances MEPs’ effectiveness in policy-making and advocacy.\n\n15:40 – 15:50 | Future Focus: European Commission’s future stance on SRHR by Regional Director of the IPPF European Network (IPPF EN)\, Micah Grzywnowicz \n\nOverview of the European Commission’s upcoming position on SRHR and how MEPs can influence this position and which common actions they can take.\n\n15:50 – 16:00 | Key Findings from the report “Contraceptive use and awareness among young people in the European region” by EPF [Vlad Velizanin] \n\nPresentation of the key findings from the latest EPF report on youth awareness and use of contraception in 2024 in European countries. This presentation will highlight the barriers to access to contraceptives in the European region.\n\n16:00 – 16:10 | Highlights from the 2024 SWAP Report of UNFPA by [Birgit Van Hout] \n\nSummary of the key highlights from the 2024 State of World Population (SWAP) report\, focusing on global trends in SRHR and their relevance to EU policy. The session will explore how MEPs for SRR can leverage these insights to drive legislative change.\n\n16:10 – 16:20 | Q&A Session moderated by MEP Lina Gálvez \n16:20 – 16:30 | Closing Remarks by Abir Al-Sahlani (Vice-Chair of DEVE Committee)[Emma Rafowicz or Joanna / Green MEP]
URL:https://linagalvez.eu/agenda/evento-red-meps-derechos-sexuales-reproductivos/
CATEGORIES:Actualidad,Destacado,FEMM,Parlamento,S&D
ATTACH;FMTTYPE=image/png:https://linagalvez.eu/wp-content/uploads/2024/09/MEPS-for-SRR.png
END:VEVENT
END:VCALENDAR