BEGIN:VCALENDAR
VERSION:2.0
PRODID:-//Lina Gálvez - ECPv6.15.20//NONSGML v1.0//EN
CALSCALE:GREGORIAN
METHOD:PUBLISH
X-WR-CALNAME:Lina Gálvez
X-ORIGINAL-URL:https://linagalvez.eu
X-WR-CALDESC:Eventos para Lina Gálvez
REFRESH-INTERVAL;VALUE=DURATION:PT1H
X-Robots-Tag:noindex
X-PUBLISHED-TTL:PT1H
BEGIN:VTIMEZONE
TZID:Europe/Madrid
BEGIN:DAYLIGHT
TZOFFSETFROM:+0100
TZOFFSETTO:+0200
TZNAME:CEST
DTSTART:20230326T010000
END:DAYLIGHT
BEGIN:STANDARD
TZOFFSETFROM:+0200
TZOFFSETTO:+0100
TZNAME:CET
DTSTART:20231029T010000
END:STANDARD
BEGIN:DAYLIGHT
TZOFFSETFROM:+0100
TZOFFSETTO:+0200
TZNAME:CEST
DTSTART:20240331T010000
END:DAYLIGHT
BEGIN:STANDARD
TZOFFSETFROM:+0200
TZOFFSETTO:+0100
TZNAME:CET
DTSTART:20241027T010000
END:STANDARD
BEGIN:DAYLIGHT
TZOFFSETFROM:+0100
TZOFFSETTO:+0200
TZNAME:CEST
DTSTART:20250330T010000
END:DAYLIGHT
BEGIN:STANDARD
TZOFFSETFROM:+0200
TZOFFSETTO:+0100
TZNAME:CET
DTSTART:20251026T010000
END:STANDARD
END:VTIMEZONE
BEGIN:VEVENT
DTSTART;TZID=Europe/Madrid:20241001T100000
DTEND;TZID=Europe/Madrid:20241001T120000
DTSTAMP:20260423T053347
CREATED:20240927T131425Z
LAST-MODIFIED:20240930T090824Z
UID:9789-1727776800-1727784000@linagalvez.eu
SUMMARY:Conference of Committee Chairs
DESCRIPTION:Conferencia de Presidentes y Presidentas de Comités del Parlamento Europeo\nConference of Committee Chairs (CCC) \n\nLina Gálvez participará en esta conferencia como presidenta de la Comisión de Derechos de la Mujer e Igualdad de Género (FEMM)\, donde se coordinarán las agendas y prioridades entre los distintos comités del Parlamento.
URL:https://linagalvez.eu/agenda/conference-committee-chairs-ccc-2410/
CATEGORIES:Actualidad,FEMM,Parlamento
ATTACH;FMTTYPE=image/jpeg:https://linagalvez.eu/wp-content/uploads/2024/06/lina-galvez-el-pasado-31-de-elina-galvez-psoe-bruselas.jpeg
END:VEVENT
BEGIN:VEVENT
DTSTART;TZID=Europe/Madrid:20241001T123000
DTEND;TZID=Europe/Madrid:20241001T133000
DTSTAMP:20260423T053347
CREATED:20240927T093954Z
LAST-MODIFIED:20250210T090028Z
UID:9793-1727785800-1727789400@linagalvez.eu
SUMMARY:S&D Reunión de la Delegación Socialista Española.
DESCRIPTION:Lina Gálvez participará en la reunión de la Delegación Socialista Española para definir la estrategia del grupo.
URL:https://linagalvez.eu/agenda/sd-reunion-delegacion-socialista-espanola-2410/
CATEGORIES:Actualidad,Parlamento,S&D
ATTACH;FMTTYPE=image/jpeg:https://linagalvez.eu/wp-content/uploads/2024/07/GP-Socialista-X-Legislatura.jpeg
END:VEVENT
BEGIN:VEVENT
DTSTART;TZID=Europe/Madrid:20241001T150000
DTEND;TZID=Europe/Madrid:20241001T160000
DTSTAMP:20260423T053347
CREATED:20240930T093830Z
LAST-MODIFIED:20240930T121633Z
UID:9798-1727794800-1727798400@linagalvez.eu
SUMMARY:Reunión con el Director General de Políticas Internas del Parlamento Europeo (DG IPOL)
DESCRIPTION:Lina Gálvez mantendrá una reunión bilateral con el Director General de Políticas Internas para discutir cómo el Parlamento puede apoyar su labor como presidenta del Comité FEMM.
URL:https://linagalvez.eu/agenda/reunion-dg-ipol-pe/
CATEGORIES:Actualidad,FEMM,Parlamento
ATTACH;FMTTYPE=image/jpeg:https://linagalvez.eu/wp-content/uploads/2023/02/Captura_UE.jpg
END:VEVENT
BEGIN:VEVENT
DTSTART;TZID=Europe/Madrid:20241001T183000
DTEND;TZID=Europe/Madrid:20241001T200000
DTSTAMP:20260423T053347
CREATED:20240930T094917Z
LAST-MODIFIED:20240930T094917Z
UID:9800-1727807400-1727812800@linagalvez.eu
SUMMARY:Recepción de Bienvenida al Parlamento Europeo
DESCRIPTION:Lina Gálvez asistirá a la recepción oficial para dar la bienvenida a los nuevos miembros del Parlamento Europeo\, donde la eurodiputada repite esta décima legislatura.
URL:https://linagalvez.eu/agenda/recepcion-bienvenida-parlamento-europeo-nuevos-mep/
CATEGORIES:Actualidad,Parlamento
ATTACH;FMTTYPE=image/jpeg:https://linagalvez.eu/wp-content/uploads/2021/09/Pleno-estrasburgo.jpg
END:VEVENT
BEGIN:VEVENT
DTSTART;TZID=Europe/Madrid:20241003T153000
DTEND;TZID=Europe/Madrid:20241003T163000
DTSTAMP:20260423T053347
CREATED:20240927T103014Z
LAST-MODIFIED:20240930T102325Z
UID:9815-1727969400-1727973000@linagalvez.eu
SUMMARY:S&D FEMM Working Group meeting
DESCRIPTION:Lina Gálvez participará en la reunión del grupo de Socialistas y Demócratas de la Comisión de Derechos de la Mujer e Igualdad de Género\, de la que es presidenta.
URL:https://linagalvez.eu/agenda/sd-femm-working-group-meeting-2410/
CATEGORIES:Actualidad,FEMM,Parlamento,S&D
ATTACH;FMTTYPE=image/png:https://linagalvez.eu/wp-content/uploads/2023/01/femm_logo.png
END:VEVENT
BEGIN:VEVENT
DTSTART;TZID=Europe/Madrid:20241007T170000
DTEND;TZID=Europe/Madrid:20241010T183000
DTSTAMP:20260423T053347
CREATED:20241004T154450Z
LAST-MODIFIED:20241014T115335Z
UID:9833-1728320400-1728585000@linagalvez.eu
SUMMARY:Pleno del Parlamento Europeo. Estrasburgo
DESCRIPTION:Destacados del pleno. Estrasburgo \n\nLunes 7 de octubre de 2024 \nIntervención de Lina Gálvez en el debate: ‘Necesidad de luchar contra el problema sistémico de la violencia de género en Europa’ \n\nMiércoles 9 de octubre de 2024 \nIntervención de Lina Gálvez sobre la situación de las niñas en Irak\, dentro del debate sobre casos de violaciones de los derechos humanos\, de la democracia y del Estado de Derecho. \n\nSe podrán seguir las sesiones en el siguiente enlace AQUÍ
URL:https://linagalvez.eu/agenda/pleno-parlamento-europeo-estrasburgo-2410/
CATEGORIES:Actualidad,Destacado,EMPL,ITRE,Parlamento
ATTACH;FMTTYPE=image/jpeg:https://linagalvez.eu/wp-content/uploads/2020/03/European_Parliament_Strasbourg_Hemicycle_-_Diliff-2-scaled.jpg
END:VEVENT
BEGIN:VEVENT
DTSTART;TZID=Europe/Madrid:20241008T090000
DTEND;TZID=Europe/Madrid:20241008T094500
DTSTAMP:20260423T053347
CREATED:20241007T092200Z
LAST-MODIFIED:20241007T092200Z
UID:9840-1728378000-1728380700@linagalvez.eu
SUMMARY:S&D FEMM Working Group meeting
DESCRIPTION:Lina Gálvez participará en la reunión del grupo de Socialistas y Demócratas de la Comisión de Derechos de la Mujer e Igualdad de Género\, de la que es presidenta.
URL:https://linagalvez.eu/agenda/sd-femm-working-group-meeting-2410-2/
CATEGORIES:Actualidad,FEMM,Parlamento,S&D
ATTACH;FMTTYPE=image/png:https://linagalvez.eu/wp-content/uploads/2023/01/femm_logo.png
END:VEVENT
BEGIN:VEVENT
DTSTART;TZID=Europe/Madrid:20241008T100000
DTEND;TZID=Europe/Madrid:20241008T101500
DTSTAMP:20260423T053347
CREATED:20241007T092200Z
LAST-MODIFIED:20241007T092200Z
UID:9844-1728381600-1728382500@linagalvez.eu
SUMMARY:S&D Committee Chairs
DESCRIPTION:Lina Gálvez participará\, como presidenta del Comité de Derechos de las Mujeres e Igualdad de Género\, en la reunión de Presidentas y Presidentes de las Comisiones del Grupo de Socialistas y Demócratas del Parlamento Europeo.
URL:https://linagalvez.eu/agenda/sd-committee-chairs-2410/
CATEGORIES:Actualidad,FEMM,Parlamento
ATTACH;FMTTYPE=image/png:https://linagalvez.eu/wp-content/uploads/2020/05/digital-europe.png
END:VEVENT
BEGIN:VEVENT
DTSTART;TZID=Europe/Madrid:20241008T130000
DTEND;TZID=Europe/Madrid:20241008T143000
DTSTAMP:20260423T053347
CREATED:20241004T093954Z
LAST-MODIFIED:20250210T090028Z
UID:9863-1728392400-1728397800@linagalvez.eu
SUMMARY:S&D Reunión de la Delegación Socialista Española.
DESCRIPTION:Lina Gálvez asistirá a la reunión de la Delegación Socialista Española para debatir y coordinar estrategias sobre temas clave de la agenda política.
URL:https://linagalvez.eu/agenda/sd-reunion-delegacion-socialista-espanola-2410-2/
CATEGORIES:Actualidad,Parlamento,S&D
ATTACH;FMTTYPE=image/jpeg:https://linagalvez.eu/wp-content/uploads/2024/07/GP-Socialista-X-Legislatura.jpeg
END:VEVENT
BEGIN:VEVENT
DTSTART;TZID=Europe/Madrid:20241011T100000
DTEND;TZID=Europe/Madrid:20241011T114500
DTSTAMP:20260423T053347
CREATED:20241004T094327Z
LAST-MODIFIED:20241007T091817Z
UID:9859-1728640800-1728647100@linagalvez.eu
SUMMARY:Seminario "La influencia de España en el Parlamento Europeo ante el ciclo 2024-2029"
DESCRIPTION:Lina Gálvez participará en esta jornada organizada por el Real Instituto Elcano en Madrid. Durante el evento\, compartirá sus reflexiones en el panel “Las competencias del Parlamento Europeo en la Agenda Estratégica 2024-2029”.
URL:https://linagalvez.eu/agenda/seminario-influencia-espana-en-parlamento-europeo-2024-2029/
CATEGORIES:Actualidad,Destacado,Parlamento
ATTACH;FMTTYPE=image/png:https://linagalvez.eu/wp-content/uploads/2021/04/20240624-simonmolinagarcia-la-comision-europea-ante-el-nuevo-ciclo-institucional-2024-2029-implicaciones-para-espana.png
END:VEVENT
BEGIN:VEVENT
DTSTART;TZID=Europe/Madrid:20241015T143000
DTEND;TZID=Europe/Madrid:20241015T151500
DTSTAMP:20260423T053347
CREATED:20241014T091324Z
LAST-MODIFIED:20241014T092117Z
UID:9888-1729002600-1729005300@linagalvez.eu
SUMMARY:Reunión de Feminist Foreign Policy Progressive Voices Collective (FFPPVC)
DESCRIPTION:Lina Gálvez participará en el meeting de Feminist Foreign Policy Progressive Voices Collective (FFPPVC) en el que se analiza cómo influye la nueva configuración de la Comisión y el Parlamento de la UE en la agenda y el desarrollo de estrategias de la política exterior feminista.
URL:https://linagalvez.eu/agenda/reunion-feminist-foreign-policy-progressive-voices-collective-ffppvc/
CATEGORIES:Actualidad,FEMM,S&D
ATTACH;FMTTYPE=image/webp:https://linagalvez.eu/wp-content/uploads/2024/10/Feminist-Foreign-Policy-Progressive-Voices-16-9.webp
END:VEVENT
BEGIN:VEVENT
DTSTART;TZID=Europe/Madrid:20241017T113000
DTEND;TZID=Europe/Madrid:20241017T130000
DTSTAMP:20260423T053347
CREATED:20241014T102435Z
LAST-MODIFIED:20241014T102436Z
UID:9912-1729164600-1729170000@linagalvez.eu
SUMMARY:Evento "Fulfil Migrant Women’s Rights" de la European Network of Migrant Women
DESCRIPTION:Lina Gálvez participará como ponente en el evento que tiene como objetivo destacar soluciones para una mejor protección de los derechos fundamentales de las mujeres inmigrantes en la UE. \nMás info: https://www.migrantwomennetwork.org/
URL:https://linagalvez.eu/agenda/evento-fulfil-migrant-womens-rights-de-la-european-network-of-migrant-women/
CATEGORIES:Actualidad,Destacado
ATTACH;FMTTYPE=image/jpeg:https://linagalvez.eu/wp-content/uploads/2024/10/https___cdn.evbuc_.com_images_854333999_181885137544_1_original.jpeg
END:VEVENT
BEGIN:VEVENT
DTSTART;TZID=Europe/Madrid:20241017T140000
DTEND;TZID=Europe/Madrid:20241017T150000
DTSTAMP:20260423T053347
CREATED:20241007T092200Z
LAST-MODIFIED:20241014T104416Z
UID:9916-1729173600-1729177200@linagalvez.eu
SUMMARY:S&D FEMM Working Group meeting
DESCRIPTION:Lina Gálvez participará en la reunión del grupo de Socialistas y Demócratas de la Comisión de Derechos de la Mujer e Igualdad de Género\, de la que es presidenta.
URL:https://linagalvez.eu/agenda/sd-femm-working-group-meeting-2410-3/
CATEGORIES:Actualidad,FEMM,Parlamento,S&D
ATTACH;FMTTYPE=image/png:https://linagalvez.eu/wp-content/uploads/2023/01/femm_logo.png
END:VEVENT
BEGIN:VEVENT
DTSTART;TZID=Europe/Madrid:20241021T170000
DTEND;TZID=Europe/Madrid:20241024T183000
DTSTAMP:20260423T053347
CREATED:20241004T154450Z
LAST-MODIFIED:20241022T125359Z
UID:9934-1729530000-1729794600@linagalvez.eu
SUMMARY:Pleno del Parlamento Europeo. Estrasburgo
DESCRIPTION:Destacados del pleno. Estrasburgo \n\nMartes 22 de octubre de 2024 \nLina Gálvez tendrá la palabra en el debate sobre el Presupuesto general de la Unión Europea para el sector financiero año 2025. \n\nMiércoles 23 de octubre de 2024 \n14:00 – 15:00 Intervención en Pleno de Estrasburgo: Lina Gálvez tendrá la palabra en el debate «Giro de 180 grados en la burocracia de la UE: necesidad de eliminar cargas e informes innecesarios para dar rienda suelta a la competitividad y la innovación». \n16:00 – 17:00 Intervención en Pleno de Estrasburgo: Lina Gálvez tendrá la palabra en el debate sobre las Conclusiones del Comité para la Eliminación de la Discriminación contra la Mujer sobre la ley polaca del aborto. \n\nSe podrán seguir las sesiones en el siguiente enlace AQUÍ
URL:https://linagalvez.eu/agenda/pleno-parlamento-europeo-estrasburgo-2410-3/
CATEGORIES:Actualidad,Destacado,EMPL,ITRE,Parlamento
ATTACH;FMTTYPE=image/jpeg:https://linagalvez.eu/wp-content/uploads/2020/03/European_Parliament_Strasbourg_Hemicycle_-_Diliff-2-scaled.jpg
END:VEVENT
BEGIN:VEVENT
DTSTART;TZID=Europe/Madrid:20241022T090000
DTEND;TZID=Europe/Madrid:20241022T094500
DTSTAMP:20260423T053347
CREATED:20241021T073947Z
LAST-MODIFIED:20241021T073947Z
UID:9942-1729587600-1729590300@linagalvez.eu
SUMMARY:S&D FEMM Working Group meeting
DESCRIPTION:Lina Gálvez asistirá la reunión del grupo de Socialistas y Demócratas de la Comisión de Derechos de la Mujer e Igualdad de Género\, de la que es presidenta.
URL:https://linagalvez.eu/agenda/sd-femm-working-group-meeting-2410-4/
CATEGORIES:Actualidad,FEMM,Parlamento,S&D
ATTACH;FMTTYPE=image/png:https://linagalvez.eu/wp-content/uploads/2023/01/femm_logo.png
END:VEVENT
BEGIN:VEVENT
DTSTART;TZID=Europe/Madrid:20241022T120000
DTEND;TZID=Europe/Madrid:20241022T123000
DTSTAMP:20260423T053347
CREATED:20241018T091254Z
LAST-MODIFIED:20241021T091509Z
UID:9973-1729598400-1729600200@linagalvez.eu
SUMMARY:Votación plenario Parlamento
DESCRIPTION:
URL:https://linagalvez.eu/agenda/votacion-plenario-parlamento-24-10/
CATEGORIES:Actualidad,Parlamento
ATTACH;FMTTYPE=image/png:https://linagalvez.eu/wp-content/uploads/2024/09/Captura-de-pantalla-2024-09-02-153140.png
END:VEVENT
BEGIN:VEVENT
DTSTART;TZID=Europe/Madrid:20241022T130000
DTEND;TZID=Europe/Madrid:20241022T140000
DTSTAMP:20260423T053347
CREATED:20240916T154450Z
LAST-MODIFIED:20241021T094649Z
UID:9954-1729602000-1729605600@linagalvez.eu
SUMMARY:Destacados del pleno: Intervención en Pleno de Estrasburgo
DESCRIPTION:Lina Gálvez tendrá la palabra en el debate sobre el Presupuesto general de la Unión Europea para el sector financiero año 2025. \nSe podrán seguir todas las sesiones del pleno en el siguiente enlace AQUÍ
URL:https://linagalvez.eu/agenda/intervencion-pleno-parlamento-europeo-estrasburgo-2410/
CATEGORIES:Actualidad,Destacado,EMPL,FEMM,ITRE,Parlamento
ATTACH;FMTTYPE=image/jpeg:https://linagalvez.eu/wp-content/uploads/2024/09/1728329544702_20241007_EP-173148D_FM2_PHB_032_MOBILE.jpg
END:VEVENT
BEGIN:VEVENT
DTSTART;TZID=Europe/Madrid:20241022T130000
DTEND;TZID=Europe/Madrid:20241022T143000
DTSTAMP:20260423T053347
CREATED:20241021T073947Z
LAST-MODIFIED:20250210T090028Z
UID:9940-1729602000-1729607400@linagalvez.eu
SUMMARY:S&D Reunión de la Delegación Socialista Española.
DESCRIPTION:Lina Gálvez asistirá a la reunión de la Delegación Socialista Española para debatir y coordinar estrategias sobre temas clave de la agenda política.
URL:https://linagalvez.eu/agenda/sd-reunion-delegacion-socialista-espanola-2410-3/
CATEGORIES:Actualidad,Parlamento,S&D
ATTACH;FMTTYPE=image/jpeg:https://linagalvez.eu/wp-content/uploads/2024/07/GP-Socialista-X-Legislatura.jpeg
END:VEVENT
BEGIN:VEVENT
DTSTART;TZID=Europe/Madrid:20241022T150000
DTEND;TZID=Europe/Madrid:20241022T170000
DTSTAMP:20260423T053347
CREATED:20240927T131425Z
LAST-MODIFIED:20241021T074519Z
UID:9951-1729609200-1729616400@linagalvez.eu
SUMMARY:Conference of Committee Chairs - CCC
DESCRIPTION:Conference of Committee Chairs (CCC) \nLina Gálvez participará\, como presidenta del Comité de Derechos de las Mujeres e Igualdad de Género\, en la reunión de Presidentas y Presidentes de las Comisiones del Parlamento Europeo.
URL:https://linagalvez.eu/agenda/conference-committee-chairs-ccc-2410-2/
CATEGORIES:Actualidad,FEMM,Parlamento
ATTACH;FMTTYPE=image/jpeg:https://linagalvez.eu/wp-content/uploads/2024/09/1726593435288_20240917_EP-172216A_EGZ_0333-Enhanced-NR_MOBILE.jpg
END:VEVENT
BEGIN:VEVENT
DTSTART;TZID=Europe/Madrid:20241023T120000
DTEND;TZID=Europe/Madrid:20241023T123000
DTSTAMP:20260423T053347
CREATED:20241018T091254Z
LAST-MODIFIED:20241021T091426Z
UID:9975-1729684800-1729686600@linagalvez.eu
SUMMARY:Votación plenario Parlamento
DESCRIPTION:
URL:https://linagalvez.eu/agenda/votacion-plenario-parlamento-24-10-2/
CATEGORIES:Actualidad,Parlamento
ATTACH;FMTTYPE=image/png:https://linagalvez.eu/wp-content/uploads/2024/09/Captura-de-pantalla-2024-09-02-153140.png
END:VEVENT
BEGIN:VEVENT
DTSTART;TZID=Europe/Madrid:20241023T140000
DTEND;TZID=Europe/Madrid:20241023T170000
DTSTAMP:20260423T053347
CREATED:20240916T154450Z
LAST-MODIFIED:20241022T125227Z
UID:9997-1729692000-1729702800@linagalvez.eu
SUMMARY:Destacados del pleno: Intervención en Pleno de Estrasburgo
DESCRIPTION:Miércoles 23 \n14:00 – 15:00 Intervención en Pleno de Estrasburgo: Lina Gálvez tendrá la palabra en el debate «Giro de 180 grados en la burocracia de la UE: necesidad de eliminar cargas e informes innecesarios para dar rienda suelta a la competitividad y la innovación». \n16:00 – 17:00 Intervención en Pleno de Estrasburgo: Lina Gálvez tendrá la palabra en el debate sobre las Conclusiones del Comité para la Eliminación de la Discriminación contra la Mujer sobre la ley polaca del aborto. \nSe podrán seguir todas las sesiones del pleno en el siguiente enlace AQUÍ
URL:https://linagalvez.eu/agenda/intervencion-pleno-parlamento-europeo-estrasburgo-2410-2/
CATEGORIES:Actualidad,FEMM,ITRE,Parlamento
ATTACH;FMTTYPE=image/jpeg:https://linagalvez.eu/wp-content/uploads/2024/09/1728329544702_20241007_EP-173148D_FM2_PHB_032_MOBILE.jpg
END:VEVENT
BEGIN:VEVENT
DTSTART;TZID=Europe/Madrid:20241023T141500
DTEND;TZID=Europe/Madrid:20241023T144500
DTSTAMP:20260423T053347
CREATED:20241018T133302Z
LAST-MODIFIED:20241021T093621Z
UID:9988-1729692900-1729694700@linagalvez.eu
SUMMARY:Reunión con el Grupo Orange
DESCRIPTION:Lina Gálvez se reunirá con el Grupo Orange para discutir el futuro del sector de las telecomunicaciones\, así como los desafíos cambiantes en el entorno digital en general.
URL:https://linagalvez.eu/agenda/reunion-grupo-orange-24-10/
CATEGORIES:Actualidad,FEMM,INTA,Parlamento,STOA
ATTACH;FMTTYPE=image/jpeg:https://linagalvez.eu/wp-content/uploads/2020/07/Calendario2.jpg
END:VEVENT
BEGIN:VEVENT
DTSTART;TZID=Europe/Madrid:20241024T120000
DTEND;TZID=Europe/Madrid:20241024T123000
DTSTAMP:20260423T053347
CREATED:20241018T091254Z
LAST-MODIFIED:20241021T091557Z
UID:9977-1729771200-1729773000@linagalvez.eu
SUMMARY:Votación plenario Parlamento
DESCRIPTION:
URL:https://linagalvez.eu/agenda/votacion-plenario-parlamento-24-10-2-2/
CATEGORIES:Actualidad,Parlamento
ATTACH;FMTTYPE=image/png:https://linagalvez.eu/wp-content/uploads/2024/09/Captura-de-pantalla-2024-09-02-153140.png
END:VEVENT
END:VCALENDAR