BEGIN:VCALENDAR
VERSION:2.0
PRODID:-//Lina Gálvez - ECPv6.15.20//NONSGML v1.0//EN
CALSCALE:GREGORIAN
METHOD:PUBLISH
X-WR-CALNAME:Lina Gálvez
X-ORIGINAL-URL:https://linagalvez.eu
X-WR-CALDESC:Eventos para Lina Gálvez
REFRESH-INTERVAL;VALUE=DURATION:PT1H
X-Robots-Tag:noindex
X-PUBLISHED-TTL:PT1H
BEGIN:VTIMEZONE
TZID:Europe/Madrid
BEGIN:DAYLIGHT
TZOFFSETFROM:+0100
TZOFFSETTO:+0200
TZNAME:CEST
DTSTART:20230326T010000
END:DAYLIGHT
BEGIN:STANDARD
TZOFFSETFROM:+0200
TZOFFSETTO:+0100
TZNAME:CET
DTSTART:20231029T010000
END:STANDARD
BEGIN:DAYLIGHT
TZOFFSETFROM:+0100
TZOFFSETTO:+0200
TZNAME:CEST
DTSTART:20240331T010000
END:DAYLIGHT
BEGIN:STANDARD
TZOFFSETFROM:+0200
TZOFFSETTO:+0100
TZNAME:CET
DTSTART:20241027T010000
END:STANDARD
BEGIN:DAYLIGHT
TZOFFSETFROM:+0100
TZOFFSETTO:+0200
TZNAME:CEST
DTSTART:20250330T010000
END:DAYLIGHT
BEGIN:STANDARD
TZOFFSETFROM:+0200
TZOFFSETTO:+0100
TZNAME:CET
DTSTART:20251026T010000
END:STANDARD
END:VTIMEZONE
BEGIN:VEVENT
DTSTART;TZID=Europe/Madrid:20241105T123000
DTEND;TZID=Europe/Madrid:20241105T140000
DTSTAMP:20260423T034709
CREATED:20241030T084742Z
LAST-MODIFIED:20241104T103707Z
UID:10055-1730809800-1730815200@linagalvez.eu
SUMMARY:Debate sobre 'Ciberseguridad – implementación de NIS2'
DESCRIPTION:Lina Gálvez participará en un debate sobre ciberseguridad e implementación de NIS2 en el Parlamento Europeo organizado por el European Internet Forum (EIF).  El debate consistirá en hacer balance de la implementación de la Directiva NIS2 y lo que cambiará para las entidades afectadas: alcance ampliado (incluidos nuevos sectores críticos)\, mayores obligaciones de notificación de incidentes y requisitos específicos de gestión de riesgos. \nEnlace al evento
URL:https://linagalvez.eu/agenda/debate-ciberseguridad-implementacion-nis2/
CATEGORIES:Actualidad,Destacado
ATTACH;FMTTYPE=image/webp:https://linagalvez.eu/wp-content/uploads/2024/07/Cibersecurity-NIS2-EIF.webp
END:VEVENT
BEGIN:VEVENT
DTSTART;TZID=Europe/Madrid:20241113T150000
DTEND;TZID=Europe/Madrid:20241114T130000
DTSTAMP:20260423T034709
CREATED:20241108T164450Z
LAST-MODIFIED:20241114T075255Z
UID:10129-1731510000-1731589200@linagalvez.eu
SUMMARY:Pleno del Parlamento Europeo en Bruselas
DESCRIPTION:El Pleno del Parlamento Europeo que se celebra esta semana en Bruselas\,  la sesión Plenaria se extenderá durante los días miércoles 13 y jueves 14\nde noviembre. \nDestacados del Pleno: \nMiércoles 13 de noviembre. \nIntervención de Lina Gálvez en el debate «Relaciones UE-EE.UU. a la luz del resultado de las elecciones presidenciales de EE.UU» \nPodrá seguirse en el siguiente enlace: https://europarl.europa.eu/plenary/es/home.html
URL:https://linagalvez.eu/agenda/pleno-parlamento-europeo-bruselas-2024-11/
CATEGORIES:Actualidad,Parlamento
ATTACH;FMTTYPE=image/jpeg:https://linagalvez.eu/wp-content/uploads/2021/02/Pleno-en-Bruselas.jpg
END:VEVENT
BEGIN:VEVENT
DTSTART;TZID=Europe/Madrid:20241119T110000
DTEND;TZID=Europe/Madrid:20241119T120000
DTSTAMP:20260423T034709
CREATED:20241115T164450Z
LAST-MODIFIED:20241118T095116Z
UID:10170-1732014000-1732017600@linagalvez.eu
SUMMARY:Pleno extraordinario del Parlamento Europeo en Bruselas
DESCRIPTION:Podrá seguirse en el siguiente enlace: https://europarl.europa.eu/plenary/es/home.html
URL:https://linagalvez.eu/agenda/pleno-extraordinario-parlamento-europeo-bruselas-2024-11/
CATEGORIES:Actualidad,Parlamento
ATTACH;FMTTYPE=image/jpeg:https://linagalvez.eu/wp-content/uploads/2021/02/Pleno-en-Bruselas.jpg
END:VEVENT
BEGIN:VEVENT
DTSTART;TZID=Europe/Madrid:20241122T110000
DTEND;TZID=Europe/Madrid:20241122T113000
DTSTAMP:20260423T034709
CREATED:20241118T120327Z
LAST-MODIFIED:20241118T121606Z
UID:10210-1732273200-1732275000@linagalvez.eu
SUMMARY:Reunión con la asociación ‘Differenza Donna’
DESCRIPTION:Lina Gálvez se reunirá en Roma con la asociación italiana ‘Differenza Donna’\, para conocer su valiosa labor en actuación contra la violencia de género y apoyo a las mujeres víctimas de esta violencia.
URL:https://linagalvez.eu/agenda/reunion-asociacion-differenza-donna/
CATEGORIES:Actualidad
ATTACH;FMTTYPE=image/jpeg:https://linagalvez.eu/wp-content/uploads/2024/11/DSC_2074-1-002-1024x683-1.jpg
END:VEVENT
BEGIN:VEVENT
DTSTART;TZID=Europe/Madrid:20241122T130000
DTEND;TZID=Europe/Madrid:20241122T140000
DTSTAMP:20260423T034709
CREATED:20241118T130327Z
LAST-MODIFIED:20241118T121130Z
UID:10206-1732280400-1732284000@linagalvez.eu
SUMMARY:Inauguración de la exhibición ‘Rinate - Oltre il femminicidio’
DESCRIPTION:Lina Gálvez asistirá en Roma a la inauguración de la exhibición ‘Rinate – Oltre il femminicidio’ en Europa Experience – David Sassoli. \nEste proyecto\, realizado por Stefania Prandi\, con la asociación REA y en colaboración con la Fundación Vodafone\, tiene como objetivo sensibilizar a la población sobre la cuestión del feminicidio y todas las formas de violencia de género. \nUtilizando la técnica del fotoperiodismo colaborativo\, la exposición muestra las experiencias de cuatro mujeres sobrevivientes de feminicidio\, dando voz a quienes han vivido la violencia. Además\, sirve como una investigación diseñada para identificar estereotipos negativos y justificaciones que toleran la violencia\, con el objetivo de fomentar su desmantelamiento.
URL:https://linagalvez.eu/agenda/inauguracion-exhibicion-rinate-oltre-femminicidio/
CATEGORIES:Actualidad,Destacado
ATTACH;FMTTYPE=image/jpeg:https://linagalvez.eu/wp-content/uploads/2024/11/Progetto-senza-titolo-2024-11-14T182206905-696x392-1.jpg
END:VEVENT
BEGIN:VEVENT
DTSTART;TZID=Europe/Madrid:20241125T170000
DTEND;TZID=Europe/Madrid:20241128T183000
DTSTAMP:20260423T034709
CREATED:20241122T164450Z
LAST-MODIFIED:20241202T101451Z
UID:10218-1732554000-1732818600@linagalvez.eu
SUMMARY:Pleno del Parlamento Europeo. Estrasburgo
DESCRIPTION:Destacados del pleno. Estrasburgo \n\nLunes 25 de noviembre de 2024 \nLina Gálvez tendrá la palabra en las declaraciones del Parlamento con motivo del 25-N\, Día Internacional para la Eliminación de la Violencia contra las mujeres\, como presidenta la Comisión de Derechos de las Mujeres e Igualdad de Género (FEMM). \n\nMiércoles 27 de noviembre de 2024 \nSe votará para elegir a la Comisión Europea. \n\nSe podrán seguir las sesiones en el siguiente enlace AQUÍ
URL:https://linagalvez.eu/agenda/pleno-parlamento-europeo-estrasburgo-2411/
CATEGORIES:Actualidad,FEMM,Parlamento
ATTACH;FMTTYPE=image/jpeg:https://linagalvez.eu/wp-content/uploads/2020/03/European_Parliament_Strasbourg_Hemicycle_-_Diliff-2-scaled.jpg
END:VEVENT
BEGIN:VEVENT
DTSTART;TZID=Europe/Madrid:20241126T090000
DTEND;TZID=Europe/Madrid:20241126T094500
DTSTAMP:20260423T034709
CREATED:20241121T083947Z
LAST-MODIFIED:20241125T094009Z
UID:10236-1732611600-1732614300@linagalvez.eu
SUMMARY:S&D FEMM Working Group meeting
DESCRIPTION:Lina Gálvez asistirá la reunión de trabajo del grupo de Socialistas y Demócratas de la Comisión de Derechos de la Mujer e Igualdad de Género\, de la que es presidenta.
URL:https://linagalvez.eu/agenda/sd-femm-working-group-meeting-2411/
CATEGORIES:Actualidad,FEMM,Parlamento,S&D
ATTACH;FMTTYPE=image/png:https://linagalvez.eu/wp-content/uploads/2023/01/femm_logo.png
END:VEVENT
BEGIN:VEVENT
DTSTART;TZID=Europe/Madrid:20241126T100000
DTEND;TZID=Europe/Madrid:20241126T103000
DTSTAMP:20260423T034709
CREATED:20241122T102200Z
LAST-MODIFIED:20241125T101216Z
UID:10244-1732615200-1732617000@linagalvez.eu
SUMMARY:S&D Committee Chairs
DESCRIPTION:Lina Gálvez participará\, como presidenta del Comité de Derechos de las Mujeres e Igualdad de Género (FEMM)\, en la reunión de Presidentas y Presidentes de las Comisiones del Grupo de Socialistas y Demócratas del Parlamento Europeo.
URL:https://linagalvez.eu/agenda/sd-committee-chairs-2411/
CATEGORIES:Actualidad,FEMM,Parlamento
ATTACH;FMTTYPE=image/png:https://linagalvez.eu/wp-content/uploads/2020/05/digital-europe.png
END:VEVENT
BEGIN:VEVENT
DTSTART;TZID=Europe/Madrid:20241126T120000
DTEND;TZID=Europe/Madrid:20241126T123000
DTSTAMP:20260423T034709
CREATED:20241122T101254Z
LAST-MODIFIED:20241125T103854Z
UID:10255-1732622400-1732624200@linagalvez.eu
SUMMARY:Votación plenario Parlamento
DESCRIPTION:
URL:https://linagalvez.eu/agenda/votacion-plenario-parlamento-24-11/
CATEGORIES:Actualidad,Parlamento
ATTACH;FMTTYPE=image/png:https://linagalvez.eu/wp-content/uploads/2024/09/Captura-de-pantalla-2024-09-02-153140.png
END:VEVENT
BEGIN:VEVENT
DTSTART;TZID=Europe/Madrid:20241126T124500
DTEND;TZID=Europe/Madrid:20241126T133000
DTSTAMP:20260423T034709
CREATED:20241121T083947Z
LAST-MODIFIED:20250210T090028Z
UID:10238-1732625100-1732627800@linagalvez.eu
SUMMARY:S&D Reunión de la Delegación Socialista Española.
DESCRIPTION:Lina Gálvez asistirá a la reunión de la Delegación Socialista Española para debatir y coordinar estrategias sobre temas clave de la agenda política.
URL:https://linagalvez.eu/agenda/sd-reunion-delegacion-socialista-espanola-2411-2/
CATEGORIES:Actualidad,Parlamento,S&D
ATTACH;FMTTYPE=image/jpeg:https://linagalvez.eu/wp-content/uploads/2024/07/GP-Socialista-X-Legislatura.jpeg
END:VEVENT
BEGIN:VEVENT
DTSTART;TZID=Europe/Madrid:20241126T150000
DTEND;TZID=Europe/Madrid:20241126T170000
DTSTAMP:20260423T034709
CREATED:20241122T141425Z
LAST-MODIFIED:20241125T094341Z
UID:10240-1732633200-1732640400@linagalvez.eu
SUMMARY:Conference of Committee Chairs - CCC
DESCRIPTION:Conference of Committee Chairs (CCC) \nLina Gálvez participará\, como presidenta del Comité de Derechos de las Mujeres e Igualdad de Género (FEMM)\, en la reunión de Presidentas y Presidentes de las Comisiones del Parlamento Europeo.
URL:https://linagalvez.eu/agenda/conference-committee-chairs-ccc-2411/
CATEGORIES:Actualidad,FEMM,Parlamento
ATTACH;FMTTYPE=image/jpeg:https://linagalvez.eu/wp-content/uploads/2024/09/1726593435288_20240917_EP-172216A_EGZ_0333-Enhanced-NR_MOBILE.jpg
END:VEVENT
BEGIN:VEVENT
DTSTART;TZID=Europe/Madrid:20241126T194500
DTEND;TZID=Europe/Madrid:20241126T203000
DTSTAMP:20260423T034709
CREATED:20241126T165516Z
LAST-MODIFIED:20241126T165908Z
UID:10281-1732650300-1732653000@linagalvez.eu
SUMMARY:Intervención en Pleno sobre la necesidad urgente de abordar la brecha salarial de género
DESCRIPTION:20:10 Intervención en Pleno de Estrasburgo \nLina Gálvez tendrá la palabra en en el Pleno del Parlamento en el debate ‘Necesidad urgente de abordar la brecha salarial de género’. \nSe podrá seguir la intervención en el siguiente enlace: AQUÍ
URL:https://linagalvez.eu/agenda/intervencion-pleno-abordar-brecha-salaria-genero/
CATEGORIES:Actualidad,Destacado,FEMM,Parlamento
ATTACH;FMTTYPE=image/jpeg:https://linagalvez.eu/wp-content/uploads/2024/09/2024-09-18_LGM-img-pleno-alta_16-9.jpg
END:VEVENT
BEGIN:VEVENT
DTSTART;TZID=Europe/Madrid:20241127T120000
DTEND;TZID=Europe/Madrid:20241127T130000
DTSTAMP:20260423T034709
CREATED:20241108T102540Z
LAST-MODIFIED:20241125T091812Z
UID:10227-1732708800-1732712400@linagalvez.eu
SUMMARY:Votación en el Parlamento Europeo para elegir a la nueva Comisión Europea
DESCRIPTION:Votación en el Parlamento Europeo para elegir la composición de la nueva Comisión Europea. \nSe podrá seguir la sesión en el siguiente enlace AQUÍ
URL:https://linagalvez.eu/agenda/votacion-pe-elegir-nueva-comision-europea/
CATEGORIES:Actualidad,Destacado,Parlamento
ATTACH;FMTTYPE=image/jpeg:https://linagalvez.eu/wp-content/uploads/2024/10/EU-Enlargement-package-scaled-1.jpg
END:VEVENT
BEGIN:VEVENT
DTSTART;TZID=Europe/Madrid:20241127T192000
DTEND;TZID=Europe/Madrid:20241127T200000
DTSTAMP:20260423T034709
CREATED:20241127T175516Z
LAST-MODIFIED:20241127T194250Z
UID:10283-1732735200-1732737600@linagalvez.eu
SUMMARY:Intervención en Pleno sobre la creciente y sistemática represión de las mujeres en Irán
DESCRIPTION:19:40 Intervención en Pleno de Estrasburgo \nLina Gálvez tendrá la palabra en en el Pleno del Parlamento en el debate ‘La creciente y sistemática represión de las mujeres en Irán’. \nSe podrá seguir la intervención en el siguiente enlace: AQUÍ
URL:https://linagalvez.eu/agenda/intervencion-pleno-creciente-sistematica-represion-mujeres-iran/
CATEGORIES:Actualidad,Destacado,FEMM,Parlamento
ATTACH;FMTTYPE=image/jpeg:https://linagalvez.eu/wp-content/uploads/2024/11/2024-11-26_MEP-2.jpg
END:VEVENT
BEGIN:VEVENT
DTSTART;TZID=Europe/Madrid:20241128T120000
DTEND;TZID=Europe/Madrid:20241128T123000
DTSTAMP:20260423T034709
CREATED:20241122T101254Z
LAST-MODIFIED:20241125T104141Z
UID:10257-1732795200-1732797000@linagalvez.eu
SUMMARY:Votación plenario Parlamento
DESCRIPTION:
URL:https://linagalvez.eu/agenda/votacion-plenario-parlamento-24-11-2/
CATEGORIES:Actualidad,Parlamento
ATTACH;FMTTYPE=image/png:https://linagalvez.eu/wp-content/uploads/2024/09/Captura-de-pantalla-2024-09-02-153140.png
END:VEVENT
END:VCALENDAR